BEGIN:VCALENDAR
VERSION:2.0
PRODID:-//IP.Board Calendar 4.0.13.1//EN
METHOD:PUBLISH
CALSCALE:GREGORIAN
X-WR-CALNAME:В этот день в прошлом
BEGIN:VTIMEZONE
TZID:Europe/London
TZURL:http://tzurl.org/zoneinfo/Europe/London
X-LIC-LOCATION:Europe/London
BEGIN:DAYLIGHT
TZOFFSETFROM:+0000
TZOFFSETTO:+0100
TZNAME:BST
DTSTART:20150329T020000Z
RRULE:FREQ=YEARLY;BYMONTH=3;BYDAY=-1SU
END:DAYLIGHT
BEGIN:STANDARD
TZOFFSETFROM:+0100
TZOFFSETTO:+0000
TZNAME:GMT
DTSTART:20151025T020000Z
RRULE:FREQ=YEARLY;BYMONTH=10;BYDAY=-1SU
END:STANDARD
END:VTIMEZONE
BEGIN:VEVENT
SUMMARY:Развилки дня
DTSTAMP:20150622T080156Z
SEQUENCE:0
UID:803232b76c78c7bf7707c5b0548b5309@172.17.0.3
ORGANIZER;CN="ясмин джакмич":fai@fai.org.ru
DESCRIPTION:\n21 июняДо XIX
	 века1582
	 — Акэ
	ти Мицухи
	дэ преда
	тельски нап
	ал на своего 
	сюзерена Ода 
	Нобунага. Силы б
	ыли неравными\, и
	 Нобунага\, чтобы н
	е попасть в плен\,
	 совершилсэппук
	у.1613 — (11 ию
	ня по с
	тарому ст
	илю) в М
	оскве с
	остоялас
	ь корона
	ция Мих
	аила Фёд
	оровича 
	Романова
	\, родоначаль
	ника новой ди
	настии Роман
	овых на росси
	йском престо
	ле.XIX век18
	44 — Русск
	ие войска
	 штурмом 
	взяли ст
	олицу Илисуй
	ского султана
	та.1887 — зол
	отой юбиле
	й королевы 
	Виктории.189
	3 — перво
	е колесо обоз
	рения («Чёр
	тово колес
	о») появилось
	 на выставке в 
	Чикаго.1898 — 
	Гуам стал т
	ерриторией С
	ША.XX век1909
	 — на
	 Русск
	о-Балти
	йском завод
	е собран пе
	рвый русски
	й серийный 
	автомобиль
	 — «Руссо-
	Балт».1913 
	— впер
	вые жен
	щина с
	оверши
	ла пры
	жок с 
	парашют
	ом из а
	эроплана
	. Восемнадц
	атилетняя 
	американк
	а Джорджия
	 Бродвик п
	о прозвищу 
	Крошка\, исп
	ользуя пятикил
	ограммовый шёлко
	вый парашют\, пр
	ыгнула с высоты 
	305 метров с са
	молёта\, пил
	отируемог
	о Гленном
	 Мартином\,
	 и благопо
	лучно приз
	емлилась на 
	поле аэродрома
	 Гриффит-Филд (
	Лос-Анджелес\,
	 штат Калифор
	ния).1915 — в
	 дачном 
	посёлке
	 Кунцеве
	 (ныне т
	еррито
	рия Мос
	квы) К
	азими
	р Малеви
	ч написа
	л картин
	у «Чёрн
	ый ква
	драт»
	 — «ик
	ону» м
	ировог
	о аванг
	арда.1919
	 — с
	амозат
	оплени
	е Кайз
	еровско
	го Флот
	а открытого
	 моря на ре
	йде в бухте
	 Скапа-Фло
	у на Оркне
	йских остро
	вах.1940 — В
	торая мир
	овая война
	: Пальмирс
	кий расст
	рел — во 
	время акц
	ии проти
	в польски
	х высших с
	оциальных кла
	ссов нацисты ра
	сстреляли близ
	 Варшавы за 2 дня
	 более 360 человек (
	в основном инте
	ллигентов\, пол
	итиков\, спорт
	сменов).1941 
	— Вторая 
	мировая война
	: германские 
	войска получ
	или условный 
	сигнал начать
	 22 июня боевы
	е действия 
	против ССС
	Р по плану
	 «Барбаро
	сса». На 
	территор
	ии СССР н
	ачали дей
	ствовать
	 германски
	е диверсио
	нные группы. Г
	ерманский фл
	от начал минирование 
	входа в Финский залив.1948Ф
	ирма грамзаписи «Columb
	ia Records» выпустил
	а на рынок до
	лгоиграющие пл
	астинки\, на каж
	дой стороне ко
	торых можно б
	ыло записать
	 23 минуты муз
	ыки. В музы
	кальной ин
	дустрии про
	изошла насто
	ящая революц
	ия: на смену 
	прежним тя
	жёлым и хру
	пким диск
	ам с одно
	й песней
	 на сто
	роне пр
	ишли вин
	иловые альбомы
	.На Манчестерс
	кой малой экспе
	риментальной м
	ашине («Baby»)
	\, первом к
	омпьюте
	ре с фон
	-нейман
	овской архи
	тектурой п
	амяти\, впе
	рвые запущ
	ена компью
	терная прогр
	амма.1956 — 
	в СССР бы
	ла принята
	 на вооруж
	ение ракета 
	Р-5М — первая 
	советская ра
	кета с ядерны
	м боевым заря
	дом.1975 — 
	на экраны С
	оединённых
	 Штатов выше
	л фильм Стив
	ена Спилберг
	а «Челюсти».
	1988 — на экраны выходит фильм «Кт
	о подставил кролика Роджера».
DTSTART;VALUE=DATE:20150620
END:VEVENT
END:VCALENDAR
