BEGIN:VCALENDAR
VERSION:2.0
PRODID:-//IP.Board Calendar 4.0.13.1//EN
METHOD:PUBLISH
CALSCALE:GREGORIAN
X-WR-CALNAME:В этот день в прошлом
BEGIN:VTIMEZONE
TZID:Europe/London
TZURL:http://tzurl.org/zoneinfo/Europe/London
X-LIC-LOCATION:Europe/London
BEGIN:DAYLIGHT
TZOFFSETFROM:+0000
TZOFFSETTO:+0100
TZNAME:BST
DTSTART:20150329T020000Z
RRULE:FREQ=YEARLY;BYMONTH=3;BYDAY=-1SU
END:DAYLIGHT
BEGIN:STANDARD
TZOFFSETFROM:+0100
TZOFFSETTO:+0000
TZNAME:GMT
DTSTART:20151025T020000Z
RRULE:FREQ=YEARLY;BYMONTH=10;BYDAY=-1SU
END:STANDARD
END:VTIMEZONE
BEGIN:VEVENT
SUMMARY:Развилки Дня
DTSTAMP:20150622T081046Z
SEQUENCE:0
UID:35a2fafa9605ec2bdaac1391b895a74b@172.17.0.3
ORGANIZER;CN="ясмин джакмич":fai@fai.org.ru
DESCRIPTION:\n20 июня840 —
	 викин
	ги впе
	рвые до
	плыли 
	по Се
	не до
	 Руан
	а.157
	8 
	—
	 а
	нг
	лий
	ский 
	иссле
	довател
	ь Марти
	н Фробиш
	ер объявил Г
	ренландию вл
	адением корон
	ы\, назвав её 
	«Западной 
	Англией».1
	792 — Великая
	 Французская
	 революция:
	 народное 
	восстани
	е в Париж
	е.1793 — амер
	иканец Э
	ли Уитни
	 запатен
	товал хл
	опкоочис
	тительную ма
	шину.1799 — о
	бразовани
	е Российск
	о-Американс
	кой компани
	и.1803 — в Са
	нкт-Петерб
	урге в сад
	у Кадетского к
	орпуса состоя
	лся первый в
	 России по
	лёт на возду
	шном шаре.18
	37Королев
	ой Вели
	кобрита
	нии становит
	ся Виктория I
	.1840 — Сэмюэл 
	Морзе запате
	нтовал телеграф.1863У
	чреждён первый в США ба
	нк (Национальный банк
	 Davenport штата Айо
	ва).1867 — пре
	зидент Энд
	рю Джонсон 
	объявил о 
	покупке Ал
	яски.1893 — 
	открыта осно
	ванная Д. И
	. Менделеевым 
	Главная палат
	а мер и весо
	в.1895 — от
	крыт Кильс
	кий канал\, с
	оединяющий 
	Балтийское и С
	еверное моря. Его д
	лина 98 км\, ширина по пове
	рхности воды 102 м\, глу
	бина 11\,3 м.1913
	 — вперв
	ые в ист
	ории Ро
	ссии\, г
	лавой 
	госуд
	арств
	а назнач
	ен ответст
	венный за
	 спорт и 
	физическ
	ое развитие
	 генерал Вое
	йков.1933 — С
	оздана гене
	ральная проку
	ратура СССР.1937
	 — завершён п
	олёт В. П. Ч
	калова\, Г. Ф. Б
	айдукова\, А. В. Б
	елякова в США через
	 Северный полюс. 63 
	часа 16 минут в 
	воздухе.193
	9 — совершён п
	ервый в истории полёт н
	емецкого реактивного
	 самолёта Heinkel He 1
	76.1939 — в Ле
	нинград
	е арест
	ован ре
	жиссёр
	 Всево
	лод Ме
	йерхо
	льд.1
	949 — 
	Папа Р
	имски
	й пре
	дал ан
	афеме 
	коммун
	истиче
	ских ли
	деров Чехо
	словакии.19
	63 — соз
	дана «
	горяча
	я линия»
	 между ССС
	Р и США.1967
	 — Мохаммед А
	ли судом Хьюстона
	 приговорён к 5 года
	м тюрьмы и штрафу в 1
	0 000 долларов за
	 отказ служить 
	в армии США\
	, участвую
	щей воВь
	етнамской
	 войне.196
	9 — на
	 рефер
	ендуме 
	в Родез
	ии (совр
	еменное
	 Зимбабве) 
	население 
	высказалос
	ь в пользу
	 провозгл
	ашения рес
	публики.1
	972 — по
	становл
	ение ЦК 
	КПСС и С
	овета Ми
	нистров 
	СССР «О з
	авершени
	и переход
	а ко всео
	бщему с
	реднему
	 образовани
	ю молодёжи 
	и дальнейш
	ем развити
	и общеобр
	азовател
	ьной шко
	лы».1977 —
	 торжественно
	е открытие т
	рансаляскин
	ского нефтеп
	ровода длиной
	 1300 км.1991Па
	рламент
	 Германи
	и и члены
	 германс
	кого прави
	тельства пр
	иняли решен
	ие о перенос
	е столицы и
	з Бонна в 
	Берлин.1992 
	— в Туве
	 начат сбо
	р подписей з
	а проведение
	 референдума
	 о независим
	ости от Рос
	сии.1993 —
	 соверш
	ён первый пробный ж
	елезнодорожный рейс по Евротоннелю
	 под Ла-Маншем.
DTSTART;VALUE=DATE:20150619
END:VEVENT
END:VCALENDAR
