BEGIN:VCALENDAR
VERSION:2.0
PRODID:-//IP.Board Calendar 4.0.13.1//EN
METHOD:PUBLISH
CALSCALE:GREGORIAN
X-WR-CALNAME:В этот день в прошлом
BEGIN:VTIMEZONE
TZID:Europe/London
TZURL:http://tzurl.org/zoneinfo/Europe/London
X-LIC-LOCATION:Europe/London
BEGIN:DAYLIGHT
TZOFFSETFROM:+0000
TZOFFSETTO:+0100
TZNAME:BST
DTSTART:20150329T020000Z
RRULE:FREQ=YEARLY;BYMONTH=3;BYDAY=-1SU
END:DAYLIGHT
BEGIN:STANDARD
TZOFFSETFROM:+0100
TZOFFSETTO:+0000
TZNAME:GMT
DTSTART:20151025T020000Z
RRULE:FREQ=YEARLY;BYMONTH=10;BYDAY=-1SU
END:STANDARD
END:VTIMEZONE
BEGIN:VEVENT
SUMMARY:Развилки Дня
DTSTAMP:20150622T081452Z
SEQUENCE:0
UID:e6ba99e616951fdc9161066502a887e2@172.17.0.3
ORGANIZER;CN="ясмин джакмич":fai@fai.org.ru
DESCRIPTION:\n19 июня240 
	до н. э.
	 — гр
	ечески
	й учён
	ый Эратос
	фен Киренс
	кий впервые
	 в мире вычисля
	ет длину земн
	ого меридиана
	.1205 — битва
	 при Завих
	осте\, в 
	которо
	й погиб в
	еликий кн
	язь Киев
	ский и Г
	алицко-В
	олынский 
	Роман Мст
	иславич.
	1324 — капи
	туляция 
	Кальяри. 
	Пиза пере
	даёт прав
	а на Сард
	инию Ара
	гону.1739
	 — ка
	питан М
	артын Шпа
	нберг на 
	построен
	ных на Ка
	мчатке с
	удах дос
	тиг Японии
	\, где по 
	приказу и
	мператри
	цы Анны Ио
	анновны оз
	накомился с 
	её политичес
	ким строем\,
	 обследова
	л порты и пре
	дпринял пер
	вые шаги к
	 установл
	ению торг
	овых отно
	шений.1762 —
	 Российск
	ая империя
	 заключил
	а мирный 
	договор с П
	руссией.17
	90 — во 
	Франции
	 отмене
	но потом
	ственное
	 дворянс
	тво.1809 —
	 Боргоск
	ий сейм у
	твердил об
	разование Ф
	инского госуд
	арства и вхожд
	ение его в со
	став Росси
	и на прав
	ах автоно
	мии.1829 — 
	сэр Робе
	рт Пиль ос
	новал лонд
	онскую столи
	чную полицию
	.1846 — в Нью-Дж
	ерси (США)
	 прошёл пе
	рвый в ис
	тории бейсбо
	льный матч.186
	2 — рабство
	 запрещено 
	на всей тер
	ритории США.
	1865 — генер
	ал армии сев
	ерян Гранже
	р объявил сво
	боду рабам в шт
	ате Техас.18
	99 — в Росс
	ии утверждён
	 Монетный уста
	в\, завершени
	е финансово
	й реформы С.
	 Ю. Витте.19
	17 — в ход
	е Первой
	 мировой в
	ойны коро
	ль Великобр
	итании Георг
	 V издал указ
	 об изъятии 
	всех немец
	ких титулов 
	из имён чле
	нов короле
	вской семь
	и. Королевск
	ая династи
	я\, ранее име
	новавшаяся
	 Саксен-Ко
	бург-Готс
	кой\, ста
	ла Вин
	дзорско
	й.1920 — 
	Совна
	рком Р
	СФСР 
	образ
	овал Всеро
	ссийскую Ч
	резвычайну
	ю комиссию 
	по ликвидации
	 безграмотност
	и.1937 — стартов
	ал рекордный перелёт
	 из СССР в США через
	 Северный полюс 
	(Чкалов В. П.).199
	1 — завер
	шился выво
	д советски
	х войск из
	 Венгрии.1
	992Придне
	стровск
	ий конфл
	икт: на
	чало боев
	ых действий
	 регулярной 
	армии Молдов
	ы против горо
	да Бендеры.19
	96 — при вых
	оде из зда
	ния прав
	ительств
	а России з
	адержаны
	 шоу-мэн 
	С. Лисовс
	кий и помо
	щник Анатол
	ия Чубайса А
	. Евстафьев
	 с коробкой 
	из-под ксерокс
	а\, в которой н
	аходились полмиллион
	а долларов.1999 — выш
	ла первая версия (1.0 Beta) популяр
	нейшего онлайн-шутера Counter-Strike.
DTSTART;VALUE=DATE:20150618
END:VEVENT
END:VCALENDAR
