BEGIN:VCALENDAR
VERSION:2.0
PRODID:-//IP.Board Calendar 4.0.13.1//EN
METHOD:PUBLISH
CALSCALE:GREGORIAN
X-WR-CALNAME:В этот день в прошлом
BEGIN:VTIMEZONE
TZID:Europe/London
TZURL:http://tzurl.org/zoneinfo/Europe/London
X-LIC-LOCATION:Europe/London
BEGIN:DAYLIGHT
TZOFFSETFROM:+0000
TZOFFSETTO:+0100
TZNAME:BST
DTSTART:20150329T020000Z
RRULE:FREQ=YEARLY;BYMONTH=3;BYDAY=-1SU
END:DAYLIGHT
BEGIN:STANDARD
TZOFFSETFROM:+0100
TZOFFSETTO:+0000
TZNAME:GMT
DTSTART:20151025T020000Z
RRULE:FREQ=YEARLY;BYMONTH=10;BYDAY=-1SU
END:STANDARD
END:VTIMEZONE
BEGIN:VEVENT
SUMMARY:Развилки Дня
DTSTAMP:20150623T083038Z
SEQUENCE:0
UID:96f96630ac32568bfc8004b99d17f67f@172.17.0.3
ORGANIZER;CN="ясмин джакмич":fai@fai.org.ru
DESCRIPTION:\n23 июня718
	 — Состоя
	лась битва
	 в долине К
	овандога в
	 испанской 
	провинции
	 Астурия\,
	 в которо
	й местно
	е ополчен
	ие во глав
	е с Пелай
	о остано
	вило прод
	вижение ара
	бов в Испан
	ии. Эта би
	тва счи
	тается
	 начал
	ом Ре
	конкис
	ты.1724
	 — Ро
	ссийск
	ая импе
	рия и Т
	урция в 
	Констант
	инополе з
	аключили дого
	вор\, по ко
	торому Р
	оссия сохра
	няла каспи
	йское побе
	режье\, а
	 Турция
	 —Тифл
	ис и Эр
	ивань.17
	71 — в
	 Испани
	и во время кор
	риды погиб первый матадор —
	 Хосе Кандидо Экспозито (Jos? C?
	ndido Exp?sito).1803 —
	 Роберт 
	Фултон 
	продемон
	стрирова
	л на реке
	 Сене пер
	вое паров
	ое судно.
	1840 — а
	нглийски
	й парламент
	 принял зак
	он об объеди
	нении Верхне
	й и Нижней Ка
	нады.1845 — в
	 России пр
	инят Мани
	фест\, огр
	аничиваю
	щий возмо
	жности п
	олучения
	 дворянств
	а за заслуг
	и (получение 
	потомственного 
	дворянства возможно л
	ишь при чине не ниже 5-го
	 класса\, а не 8-го\
	, как прежде).184
	6 — бельг
	иец Адоль
	ф Сакс получ
	ил патент на 
	саксофон.1860
	 — образ
	ована Се
	кретная 
	служба 
	США.186
	8 — Кр
	истофе
	р Лэтем
	 Шоулз
	 из Ви
	сконсина 
	запатентов
	ал пишущую 
	машинку. Её
	 клавиатура н
	апоминала роя
	ль\, печатала
	 только боль
	шими буквами\
	, причём маши
	нистка не в
	идела резул
	ьтата своей раб
	оты\, поскольк
	у бумага нах
	одилась под
	 планшетом.
	1888 — на 
	праздни
	ке печа
	тников 
	француз
	ского г
	орода Л
	илля в испо
	лнении раб
	очего хор
	а впервые
	 прозвуча
	л «Интерна
	ционал». 18
	94 — обра
	зован Ме
	ждународн
	ый олимпийский
	 комитет(МОК)
	 в Париже п
	о инициативе
	 Пьера де Ку
	бертена.1917
	 — Первый 
	Универсал (
	основной за
	кон) приня
	т Централ
	ьной Радой
	 Украины\, и
	м провозг
	лашена ав
	тономия У
	краины в с
	оставе России.
	1919Принятие 
	республик
	анской Ко
	нституции ф
	инским сеймо
	м.1934 — в Кр
	емле чест
	вовали перв
	ых героев. 
	Орден Лени
	на и грам
	оту Героя
	 Советского
	 Союза № 1 
	получил лё
	тчик Анатол
	ий Ляпидевск
	ий. Вместе с
	 ним Василий
	 Молоков\, 
	Николай Каман
	ин\, Сигизмун
	д Леваневск
	ий\, Михаил
	 Водопьянов 
	и другие.194
	1 — совм
	естным п
	остановл
	ением СН
	К СССР и Ц
	К ВКП(б) созда
	на Ставка Главн
	ого Командования
	 Вооружённых Сил
	 СССР (10 июля 1941
	преобразована
	 в Ставку Верх
	овного Коман
	дования\, а 8 авг
	уста 1941 — в
	 Ставку Вер
	ховного Глав
	нокомандова
	ния).1944 —
	 советск
	ие войс
	ка нач
	али оп
	ерацию п
	о освобожд
	ению Белор
	уссии под к
	одовым назва
	нием «Багратион
	».1947 — в США принят «Антира
	бочий закон Тафта-Хартли» (
	«Taft-Hartley Act»). Закон
	 сильно огра
	ничил права 
	профсоюзов и
	 запрещал от
	дельные вид
	ы забастово
	к.1948 — вв
	едение в 
	обращение
	 сепаратно
	й западног
	ерманской 
	марки в З
	ападном Берли
	не.1956 — Га
	маль Абд
	ель Насе
	р избран
	 президен
	том Египт
	а.1957 — в 
	Ленинграде в
	озобновлена тра
	диция полуденног
	о выстрела\, пре
	рванная в 193
	4 году\, произ
	водимая с 
	Нарышкин
	а бастион
	а Петропа
	вловской кр
	епости.199
	0Верхо
	вный 
	Сове
	т Мо
	лдавск
	ой ССР пр
	инял Дек
	ларацию
	 о госуд
	арствен
	ном суве
	ренитете
	 республи
	ки.1993 —
	 Основ
	ан Ол
	импийс
	кий му
	зей в Лоза
	нне по ини
	циативе Пре
	дседателя М
	ОК Хуана Ант
	онио Самаран
	ча.1998 — вп
	ервые в мире произведена переса
	дка клетки человеческого мозга.
DTSTART;VALUE=DATE:20150622
END:VEVENT
END:VCALENDAR
