BEGIN:VCALENDAR
VERSION:2.0
PRODID:-//IP.Board Calendar 4.0.13.1//EN
METHOD:PUBLISH
CALSCALE:GREGORIAN
X-WR-CALNAME:В этот день в прошлом
BEGIN:VTIMEZONE
TZID:Europe/London
TZURL:http://tzurl.org/zoneinfo/Europe/London
X-LIC-LOCATION:Europe/London
BEGIN:DAYLIGHT
TZOFFSETFROM:+0000
TZOFFSETTO:+0100
TZNAME:BST
DTSTART:20150329T020000Z
RRULE:FREQ=YEARLY;BYMONTH=3;BYDAY=-1SU
END:DAYLIGHT
BEGIN:STANDARD
TZOFFSETFROM:+0100
TZOFFSETTO:+0000
TZNAME:GMT
DTSTART:20151025T020000Z
RRULE:FREQ=YEARLY;BYMONTH=10;BYDAY=-1SU
END:STANDARD
END:VTIMEZONE
BEGIN:VEVENT
SUMMARY:Развилки Дня
DTSTAMP:20150624T073223Z
SEQUENCE:0
UID:c2a7cbffa6a863957585bfd62bcc8a23@172.17.0.3
ORGANIZER;CN="ясмин джакмич":fai@fai.org.ru
DESCRIPTION:\n24 июня13
	14 — в 
	битве
	 при Б
	энно
	кбер
	не шо
	тландский 
	король Роб
	ерт Брюс ра
	збил армию 
	английского ко
	роля Эдуарда I
	I\, восстанов
	ив независ
	имость свое
	й страны.13
	88 — зак
	реплен
	ие прав ка
	раимов в к
	няжеской 
	грамоте 
	Великого
	 князя Лито
	вского Витов
	та.1497 — Джон
	 Кабот открыл 
	Канаду (Ньюфаун
	дленд).1537 — р
	усская армия
	 вошла в Выб
	орг.1667 — В
	торая ан
	гло-голл
	андская 
	война: т
	риумфа
	льно з
	авершил
	ся Рейд н
	а Медуэй г
	олландского
	 флота под к
	омандование
	м Михила де 
	Рёйтера. Он 
	стал одним
	 из самых т
	яжёлых пораже
	ний английског
	о флота и приб
	лизил оконча
	ние войны.171
	7 — в ден
	ь Святого
	 Иоанна пре
	дставители 
	английских 
	масонских ло
	ж собрались
	 в пивной «
	Гусь и ве
	ртел» и у
	чредили
	 Велику
	ю ложу А
	нглии 
	— объед
	инение 
	всех имевши
	хся лож. М
	асонство
	 оформило
	сь как ор
	ганизов
	анное д
	вижени
	е.1793 
	— ф
	ранц
	узски
	й Конв
	ент при
	нял перву
	ю демокра
	тическую ко
	нституцию (к
	оторая так и
	 не была привед
	ена в действи
	е). Франция пр
	овозглашена р
	еспубликой.181
	2 — армия 
	Наполеона\
	, перейдя р
	еку Нема
	н\, вторг
	лась на терр
	иторию Российск
	ой империи. Нача
	лась Отечеств
	енная война 18
	12 года.189
	3 — н
	орвеж
	ский и
	сследо
	ватель 
	Фритьоф Нан
	сен отправилс
	я к Северному 
	полюсу на судне
	 «Фрам» («Вперёд
	»).1894 — на ко
	нгрессе в П
	ариже\, соз
	ванном по 
	инициати
	ве барона
	 Пьера де К
	убертена\, 
	приняты 
	решения о
	б образовани
	и МОК и пров
	едении раз 
	в четыре г
	ода Олимп
	ийских игр
	.1899 — на 
	Кольском п
	олуострове 
	основан гор
	од-порт Поля
	рный (ныне горо
	д Полярный). 
	1901 — в Па
	риже отк
	рылась пе
	рвая выставк
	а 19-летнего 
	художника и
	з Барселоны
	 Пабло Руи
	са Пикассо
	.1916 — вп
	ервые с
	умма к
	онтрак
	та зве
	зды Го
	лливуд
	а сост
	авила с
	емизнач
	ное числ
	о. «Возлюбле
	нная Америки» Мэри Пик
	форд подписала контракт со студией
	 «Paramount Pictures» на сумму 1 040
	 000 долларов С
	ША. По свидете
	льствам Чарли
	 Чаплина\, со
	учредителя п
	о Юнайтед Ар
	тистс\, Пик
	форд имел
	а железн
	ую делов
	ую хватку 
	и разбирал
	ась в юрид
	ических в
	опросах кино
	производства
	 лучше\, чем
	 многие 
	матерые
	 кинопро
	дюссеры. 1
	925 — в Б
	ерлине 
	здание ре
	йхстага за
	хвачено тол
	пой вкладч
	иков\, чьи 
	сбережения с
	горели во вр
	емя послев
	оенной гип
	еринфляци
	и в Герма
	нии.1930
	 — пер
	вое исп
	ользовани
	е радара дл
	я обнаружени
	я самолётов 
	(Анакостия\, 
	округ Кол
	умбия)1934 — 
	столица У
	краинской 
	ССР перен
	есена из Ха
	рькова в Ки
	ев.1940Вперв
	ые теле
	камеры 
	были и
	спользов
	аны для 
	освещен
	ия полит
	ического
	 события
	 — съезд
	а республи
	канцев\, выбир
	авших своего 
	кандидата на
	 президентски
	е выборы в СШ
	А.1941 — сооб
	щения о вое
	нных дейс
	твиях ста
	ло давать 
	Советское 
	Информбюро
	.1945 — Пар
	ад Победы
	 на Красно
	й площади. 
	Парад при
	нимал Мар
	шал Советс
	кого Союза 
	Г. К. Жуков
	. Командов
	ал парадом
	 Маршал Со
	ветского 
	СоюзаК. К
	. Рокоссо
	вский. Кул
	ьминацией
	 парада стал
	о бросание н
	ацистских ш
	тандартов и
	 знамён к 
	мавзолею Ленина.1
	951 — началось к
	оммерческое цв
	етное телевеща
	ние (CBS).1959 
	— на выс
	тавке в М
	оскве Н. С
	. Хрущёв п
	роизнёс фр
	азу вошедш
	ую афориз
	мом в ист
	орию - п
	ообещал виц
	е-президен
	ту США Рич
	арду Никсо
	ну показать
	 «кузькину м
	ать».1973 — 
	Леонид Брежн
	ев во время 
	посещения с
	 официальным ви
	зитом США заяви
	л о том\, что хо
	лодная война
	 закончена.19
	82запущен «Сою
	з-Т-6» с первы
	м французским космона
	втом на борту (Жан-Лу Кре
	тьеном).Инцидент с Bo
	eing 747 над Явой
	: после прохожде
	ния через облако
	 вулканического п
	епла у самолёта Boeing 7
	47 отказали все двиг
	атели. На высоте 3
	000 метров их у
	далось запу
	стить\, и лайн
	ер благополу
	чно долетел
	 до аэропорт
	а Халим в Джак
	арте.1990 — п
	оследний 
	концерт Викт
	ора Цоя и груп
	пы «Кино»\, с
	остоявшийся
	 на стадионе Л
	ужники.1994 — на
	 сессии Совета Е
	С на высшем уро
	вне\, проходив
	шей на о-ве К
	еркира (Кор
	фу)\, Пре
	зидент 
	РФ Ельц
	ин подп
	исал «Сог
	лашение 
	о партнёр
	стве и сот
	рудничеств
	е Российской 
	Федерации и Евро
	пейского союза»\,
	 которое вступало 
	в силу 1 декабря 
	1997 года. В соо
	тветствии с н
	им были созд
	аны Совет со
	трудничеств
	а между Росси
	ей и ЕС\, к
	оторый явл
	яется глав
	ным коорди
	нирующим органом на уровне 
	министров\, и другие совместные органы
DTSTART;VALUE=DATE:20150623
END:VEVENT
END:VCALENDAR
