BEGIN:VCALENDAR
VERSION:2.0
PRODID:-//IP.Board Calendar 4.0.13.1//EN
METHOD:PUBLISH
CALSCALE:GREGORIAN
X-WR-CALNAME:В этот день в прошлом
BEGIN:VTIMEZONE
TZID:Europe/London
TZURL:http://tzurl.org/zoneinfo/Europe/London
X-LIC-LOCATION:Europe/London
BEGIN:DAYLIGHT
TZOFFSETFROM:+0000
TZOFFSETTO:+0100
TZNAME:BST
DTSTART:20150329T020000Z
RRULE:FREQ=YEARLY;BYMONTH=3;BYDAY=-1SU
END:DAYLIGHT
BEGIN:STANDARD
TZOFFSETFROM:+0100
TZOFFSETTO:+0000
TZNAME:GMT
DTSTART:20151025T020000Z
RRULE:FREQ=YEARLY;BYMONTH=10;BYDAY=-1SU
END:STANDARD
END:VTIMEZONE
BEGIN:VEVENT
SUMMARY:Развилки Дня
DTSTAMP:20150625T074052Z
SEQUENCE:0
UID:dca3a157a2ddb4a6b3a4c3ec37a1d790@172.17.0.3
ORGANIZER;CN="ясмин джакмич":fai@fai.org.ru
DESCRIPTION:\n25 июняДо XVIII в
	ека1178 — п
	ятеро кенте
	рберийских м
	онахов наблю
	дали взрыв на
	 Луне. Предполаг
	ают\, что это бы
	ло столкновен
	ие метеора с Л
	уной.1439 — Ба
	зельский собо
	р объявил римс
	кого папу Евг
	ения IV еретиком
	 и низложил ег
	о.1498 — в Китае 
	изобретена зу
	бная щетка. 
	(Дата приб
	лизительна
	я).1503 — кор
	абль Христ
	офора Колу
	мба потерп
	ел крушение
	 у берегов 
	Ямайки.153
	0 — с 
	одобр
	ения 
	Мартин
	а Люте
	ра его
	 ближай
	ший сп
	одвиж
	ник Фил
	ипп Меланх
	тон в Ауг
	сбургском 
	рейхстаге 
	изложил осно
	вы лютеранств
	а.1580 — опубли
	кована «Книга со
	гласия»\, в которой
	 были изложены о
	сновы лютеранства.X
	VIII век1762 — ро
	ссийский им
	ператор Пётр I
	II уравнял в п
	равах право
	славную и л
	ютеранскую церкви.
	1783 — французский химик Антуан Ло
	ран Лавуазье (Antoine Laurent de La
	voisier) сообщил на
	 заседании П
	арижской акад
	емии наук\, что
	 вода — это со
	единение водор
	ода и кислород
	а\, а ещё через два го
	да вместе с военным инженером Жаном М
	енье (Jean Baptiste Marie Charles Meusnier de la Plac
	e) синтезировал
	 из них воду.17
	94 — в связи
	 с революц
	ией во Фр
	анции Екатерин
	а II запретила пр
	одажу в России фра
	нцузских товаров.XIX век1804 — к
	азнён Жорж Кадудаль (Georges
	 Cadoudal)\, вождь шуано
	в.1844 — начата
	 добыча зол
	ота в Забай
	калье.1857 —
	 вышел в с
	вет сборник 
	стихов фран
	цузского по
	эта Шарля Б
	одлера «Цве
	ты зла».1863
	Сегун Т
	окугава п
	овелел изгнат
	ь из Японии 
	всех иностранц
	ев.Начался рейд
	 Стюарта.1876 —
	 7-й кавалери
	йский полк
	 армии США 
	под коман
	дованием
	 генерала К
	астера был
	 разбит в 
	сражении 
	при Литтл
	-Бигхорн инд
	ейцами сиу и 
	шайеннами п
	од руководство
	м вождя Сидящег
	о Быка.1878 — н
	ачался Бе
	рлинский к
	онгресс1883 —
	 в России нача
	та реформа ц
	ерковноприх
	одского обра
	зования.XX век
	1907 — огр
	абление
	 инкасса
	торской кар
	еты в Тифли
	се\, организо
	ванное Иосифо
	м Джугашвили (С
	талиным).1916 —
	 Николай I
	I издаёт дек
	рет о мобилиз
	ации в армию 
	коренного н
	аселения Средне
	й Азии\, до сих пор 
	свободного от вои
	нской повинности.
	1918 — в бою у с
	т. Шаблиев
	ка\, от в
	зрыва 
	снаряда 
	отступающ
	его красн
	ого броне
	поезда поги
	б генерал С. Л. 
	Марков\, один
	 из лидеров
	 Белого д
	вижениян
	а Юге Ро
	ссии.19
	19Вой
	ска 
	Добр
	оволь
	ческо
	й Арми
	и гене
	рала Д
	еникина
	 захват
	или Хар
	ьков.В Г
	ермании
	 совершил
	 первый полёт 
	пассажирский 
	цельнометаллич
	еский самолёт «
	Юнкерс» J13.192
	3 — патри
	арх Москов
	ский и Все
	я Руси Т
	ихон осв
	обождаетс
	я из заключе
	ния в обмен 
	на призна
	ние легит
	имности со
	ветской вла
	сти\, осуж
	дение все
	х контрреволю
	ционных дейст
	вий и призыв к
	 сотрудничест
	ву с властями
	.1927 — в Ле
	нингра
	дском ко
	митете п
	о делам и
	зобрете
	ний патен
	туется от
	ечественный п
	рибор для зап
	иси звука на
	 киноплёнку
	 во время к
	иносъёмки.
	1935 — про
	ходивши
	й в Пари
	же Межд
	ународны
	й конгрес
	с писател
	ей в защи
	ту культ
	уры осно
	вал Межд
	ународну
	ю ассоциа
	цию писат
	елей и Пост
	оянное меж
	дународное 
	бюро писате
	лей для защ
	иты культуры
	. В состав пр
	езидиума бюр
	о были избраны
	 Анри Барбюс\, 
	Ромен Роллан\, 
	Максим Горький\
	, Генрих Манн\, 
	Томас Манн\, 
	Альд Гексли\, Бе
	рнард Шоу\, С
	инклер Льюис\, С
	ельма Лагерлеф и др.1941 — в 
	США президент Рузвельт (Frankli
	n Delano Roosevelt) создал К
	омиссию п
	о найму н
	а работу
	 без диск
	риминац
	ии для р
	асследов
	ания подо
	зрительных 
	случаев отк
	аза в предост
	авлении работ
	ы по признаку
	 цвета кожи\, н
	ациональност
	и\, расы или пол
	итических уб
	еждениий. Это
	 было сдела
	но для тог
	о\, чтобы
	 предотв
	ратить м
	ассовый
	 марш на
	 Вашин
	гтон чер
	нокожих ам
	ериканцев\
	, недоволь
	ных проя
	влениями 
	дискриминаци
	и в компания
	х\, выполняющих
	 правительстве
	нные заказы.195
	0 — начало 
	Корейской в
	ойны.1951 — 
	была показан
	а первая цвет
	ная коммерч
	еская телеп
	ередача. Ко
	мпания «CBS» снима
	ла в Нью-Йорке четырёхчасовое 
	шоу Артура Годфри(Arthur Morto
	n Godfrey)\, которое
	 передава
	лось такж
	е в Балтимор
	\, Филадельф
	ию\, Бостон 
	и Вашингто
	н. Любопыт
	но отметить
	\, что у по
	давляющ
	его числа а
	мерикански
	х телезрите
	лей тогда не 
	было цветны
	х телевизоров\
	, а сама компа
	ния владел
	а примерно
	 тремя дю
	жинами т
	аковых.1
	959 — в
	 Моск
	ве в 
	Сокол
	ьниках
	 откры
	та Аме
	риканс
	кая нац
	иональ
	ная выстав
	ка. Ричар
	д Никсон 
	и Никита 
	Хрущёв пе
	ререзали б
	елую ленточку
	 1966 — запускает
	ся первый совет
	ский метеоспутни
	к «Космос-122».19
	67 — первый 
	показ телеп
	ередачи в пря
	мом эфире во всемирном
	 масштабе. Программа «На
	ш мир» («англ. Our World»)
	 передавалась в 24
	 страны на пяти 
	континентах\,
	 и 400 миллионов телез
	рителей наблюдали за
	 выступлением группы «The Beat
	les»\, впервые исполнившей песню «A
	ll You Need Is Love».1974 — 
	запуск советс
	кой орбитальн
	ой космической
	 станции «Салю
	т-3».1975После 
	многоле
	тней во
	оружённ
	ой борь
	бы и кр
	аха р
	ежима 
	Эстато Нов
	о в Португалии Моза
	мбик добился независимости. 
	Самора Машел(Samora Moises Mach
	el) избран его 
	президентом.
	1987 — провозгла
	шение экономиче
	ских реформ в СС
	СР на Пленуме
	 ЦК.1989 — с
	пустя два
	 месяца посл
	е гибели ато
	мохода «Ком
	сомолец» на п
	одводной лодке
	 К-131 Северно
	го флота СССР
	 происходит
	 утечка в 
	системе
	 охлажде
	ния ато
	много р
	еактор
	а.1991 — Сл
	овения 
	и Хорват
	ия провоз
	гласили не
	зависимость о
	т Югославии.1998 — официальн
	о вышла операционная система «Windows 98».
DTSTART;VALUE=DATE:20150624
END:VEVENT
END:VCALENDAR
