BEGIN:VCALENDAR
VERSION:2.0
PRODID:-//IP.Board Calendar 4.0.13.1//EN
METHOD:PUBLISH
CALSCALE:GREGORIAN
X-WR-CALNAME:В этот день в прошлом
BEGIN:VTIMEZONE
TZID:Europe/London
TZURL:http://tzurl.org/zoneinfo/Europe/London
X-LIC-LOCATION:Europe/London
BEGIN:DAYLIGHT
TZOFFSETFROM:+0000
TZOFFSETTO:+0100
TZNAME:BST
DTSTART:20150329T020000Z
RRULE:FREQ=YEARLY;BYMONTH=3;BYDAY=-1SU
END:DAYLIGHT
BEGIN:STANDARD
TZOFFSETFROM:+0100
TZOFFSETTO:+0000
TZNAME:GMT
DTSTART:20151025T020000Z
RRULE:FREQ=YEARLY;BYMONTH=10;BYDAY=-1SU
END:STANDARD
END:VTIMEZONE
BEGIN:VEVENT
SUMMARY:Развилки Дня
DTSTAMP:20150626T074021Z
SEQUENCE:0
UID:22ff4d81ede3f606942bd9ba86770910@172.17.0.3
ORGANIZER;CN="ясмин джакмич":fai@fai.org.ru
DESCRIPTION:\n26 июняДо XIX век
	а1319 — войска рег
	ентов дона Педр
	о и дона Хуана\,
	 соопекунов Ал
	ьфонсо XI\, объя
	вив крестовый
	 поход против 
	мусульман\, до
	ходят до самых 
	стен Гранады\,
	 сжигая и раз
	рушая всё на
	 своём пути.
	 Принц Пед
	ро внезап
	но атакуе
	т мусульма
	нскую арми
	ю и побеждает
	 при поддержке 
	отряда Маринидо
	в. Однако оба и
	нфанта\, Педр
	о и Хуан\, пог
	ибают в сраж
	ении. Кастил
	ия остаётся б
	ез регентов\,
	 армия снимае
	т осаду и уход
	ит домой. Ис
	пользуя слаб
	ость власти в
	 Кастилии\, И
	смаил I возв
	ращает Басу
	\, Хескар\, О
	рсе\, Галеру
	 и Мартос. 
	При взятии 
	Мартоса пр
	оисходит ст
	ычка Исмаила
	 с его двою
	родным брато
	м\, Мухаммадо
	м ибн Исмаил
	ом\, губерн
	атором Альхес
	ираса.1698 — П
	ётр I с Великим 
	посольством прибы
	л в Вену.1794 — бит
	ва при Флерюс.XI
	X век1817 — А
	. С. Пушк
	ин зачис
	лен на службу
	 в Коллегию 
	иностранных де
	л в чине коллеж
	ского секретар
	я.1829 — А. С. Пу
	шкин\, прибыв в
	 действующую арм
	ию на Кавказ\, 
	принял участие
	 в сражении с 
	турками.183
	1 — начала
	сь крупнейш
	ая в истории Сан
	кт-Петербурга эпи
	демия холеры\, унё
	сшая жизни более
	 4\,7 тысячи че
	ловек.1884 —
	 вышел вы
	сочайши
	й указ и
	мператор
	а Российског
	о Александра II
	I об учрежден
	ии церковно
	-приходских 
	школ.XX век
	1925 — премь
	ера в Го
	лливуде
	 фильма Чар
	ли Чаплина «Золо
	тая лихорадка».193
	0 — в Москве открыл
	ся XVI съезд ВКП(б)\
	, работавший д
	о 12 июля\, кото
	рый утверд
	ил лозунг «П
	ятилетку — в ч
	етыре года».193
	5 — старт стратос
	тата «СССР-1-бис»\,
	 который достиг 
	высоты 16 км.1
	936 — свой перв
	ый полёт совершил перв
	ый прототип двухвинтов
	ой машины Focke-Wulf Fw
	 61 — первого
	 в мире абс
	олютно уд
	ачного вер
	толёта.1940 —
	 указом Пр
	езидиума Вер
	ховного Совета 
	СССР в стране вв
	едены 8-часовой
	 рабочий день\
	, 7-дневная р
	абочая неделя
	 и уголовная отве
	тственность за 
	опоздание на ра
	боту более 21 м
	инуты.1941Ни
	колай Гаст
	елло напра
	вил свой подби
	тый самолёт в 
	скопление маш
	ин и танков п
	ротивника\,
	 за что ем
	у было пр
	исвоено 
	посмерт
	но звани
	е Героя С
	оветского
	 Союза.Поли
	тбюро ЦК 
	КПСС приня
	ло секретное р
	ешение о пере
	возе гроба 
	с телом Ле
	нина в Тюме
	нь.1945В СССР
	 учрежден
	о звание Г
	енералисси
	мус Советск
	ого Союза. Н
	а следующий
	 день первы
	м и единств
	енным обл
	адателем
	 его стал И.
	 В. Сталин
	.На конфер
	енции в 
	Сан-Фран
	циско п
	редстави
	телями 50 гос
	ударств подпи
	сан Устав Орга
	низации Объеди
	нённых Наций (О
	ОН).1948 — нача
	ло поставок
	 в Западный Б
	ерлин\, блок
	ированный 2
	3 июня сове
	тскими вой
	сками\, жизнен
	но важных ре
	сурсов по 
	«Берлинск
	ому возду
	шному мо
	сту».195
	4 — 
	в по
	сёлк
	е Об
	нинско
	е в Ка
	лужско
	й обла
	сти С
	ССР пр
	оизведё
	н энерг
	етичес
	кий пуск 
	первой 
	в мире п
	ромышлен
	ной Обни
	нской атом
	ной электроста
	нции\, подключ
	енной в един
	ую энергети
	ческую сеть. 1
	957Совет по 
	Медицинским
	 исследовани
	ям Великобри
	тании MRC оп
	убликовал
	 сообщение
	\, в котор
	ом прив
	одятся 
	доказате
	льства выс
	окой зависи
	мости часто
	ты заболев
	аний раком
	 лёгкого 
	от курен
	ия 1960
	Про
	воз
	гла
	шена
	 нез
	ави
	сим
	ост
	ь Мада
	гаскара
	.Провозг
	лашена н
	езависи
	мость Со
	малиленда 
	от Великобрита
	нии.1963 — Джо
	н Кеннеди в 
	«Берлинской 
	речи» по поводу 1
	5-летия «Берлин
	ского воздушно
	го моста» перед 
	400 тыс. берлин
	цев выразил во
	схищение (Запа
	дным) Берлино
	м как форпос
	том свободы
	.1975 — пер
	естрелк
	а на тер
	ритории 
	индейской
	 резерваци
	и Пайн-Ридж
	 в американс
	ком штате Юж
	ная Дакота\, 
	в результ
	ате которой б
	ыли убиты два 
	агента Федера
	льного бюро ра
	сследований (ФБР) 
	и один индеец. За
	 убийство агент
	ов ФБР в 1977
	 году был ос
	уждён и от
	бывает два
	 пожизнен
	ных заключен
	ия Леонард Пе
	лтиер\; убийс
	тво индейца 
	не расследов
	алось.\n(Имен
	но этот эпизод 
	упоминается вскольз
	ь в фильме Франсиса 
	Вебера \"Игрушка\" 
	(1976) когда Фр
	ансуа Перр
	ен приветлив
	о здоровается
	 с индейцем-а
	ниматором в
	 мега мага
	зине игрушек
	)1977 — посл
	едний конц
	ерт Элвиса
	 Пресли в Индиан
	аполисе.1979 — Мохаммед Али объявил\
	, что покидает бокс.
DTSTART;VALUE=DATE:20150625
END:VEVENT
END:VCALENDAR
