BEGIN:VCALENDAR
VERSION:2.0
PRODID:-//IP.Board Calendar 4.0.13.1//EN
METHOD:PUBLISH
CALSCALE:GREGORIAN
X-WR-CALNAME:В этот день в прошлом
BEGIN:VTIMEZONE
TZID:Europe/London
TZURL:http://tzurl.org/zoneinfo/Europe/London
X-LIC-LOCATION:Europe/London
BEGIN:DAYLIGHT
TZOFFSETFROM:+0000
TZOFFSETTO:+0100
TZNAME:BST
DTSTART:20150329T020000Z
RRULE:FREQ=YEARLY;BYMONTH=3;BYDAY=-1SU
END:DAYLIGHT
BEGIN:STANDARD
TZOFFSETFROM:+0100
TZOFFSETTO:+0000
TZNAME:GMT
DTSTART:20151025T020000Z
RRULE:FREQ=YEARLY;BYMONTH=10;BYDAY=-1SU
END:STANDARD
END:VTIMEZONE
BEGIN:VEVENT
SUMMARY:Развилки Дня
DTSTAMP:20150629T072919Z
SEQUENCE:0
UID:d360d3b5e2b46eabfbd4b1a3123e0f82@172.17.0.3
ORGANIZER;CN="ясмин джакмич":fai@fai.org.ru
DESCRIPTION:\n29 июняДо XIX века16
	13 — во время пр
	емьеры «Генриха
	 VIII» Шекспира 
	сгорел театр 
	Глобус.1775 — 
	в Митаве 
	(ныне Ел
	гава) т
	оржест
	венно 
	открылос
	ь новое у
	чебное з
	аведение
	 — Митавс
	кая академ
	ическая гим
	назия\, кот
	орая вско
	ре стала 
	называт
	ься Петр
	овской акаде
	мией в честь по
	следнего курл
	яндского герц
	ога Петра Бир
	она.XIX век18
	70 — обн
	ародова
	ние в ро
	ссийской
	 империи
	 нового Гор
	одового пол
	ожения. Обще
	е руководс
	тво городск
	им хозяйст
	вом\, а та
	кже обр
	азование
	м и здрав
	оохране
	нием ст
	ало осу
	ществляться
	 городским
	и думами 
	под конт
	ролем прави
	тельственны
	х органов.1
	880 — Фра
	нция пр
	исоедини
	ла Таити
	.1881 — су
	данский
	 пропов
	едник М
	ухаммед 
	Ахмед пр
	овозгласил с
	ебя махди (в 
	переводе с ара
	бского «ведомый 
	истинным путём»)
	\, то есть месси
	ей\, спасите
	лем\, и во
	зглавил
	 восстан
	ие крес
	тьян и коч
	евников в 
	Судане прот
	ив произвола
	 губернаторо
	в-европейце
	в.1888 — был
	а сдела
	на одн
	а из ст
	арейших 
	сохрани
	вшихся з
	вукозаписе
	й. Оратория Ген
	деля «Израиль в
	 Египте»\, испол
	нявшаяся хоро
	м из 4000 гол
	осов на Ге
	нделевском
	 фестивале
	 в лондон
	ском Хр
	устальном
	 Дворце\,
	 была зап
	исана н
	а усове
	ршенст
	вованн
	ый фоно
	граф Эди
	сона. Эт
	а звуко
	запись\,
	 сделанна
	я предста
	вителем Э
	дисона в А
	нглии полк
	овником Дж
	орджем Гуро\
	, считается с
	тарейшей из
	 сохранивш
	ихся записе
	й музыки\, сде
	ланных с це
	лью дальней
	шего воспро
	изведения. 
	Также\, она с
	читалась ст
	арейшей из 
	сохранивш
	ихся запи
	сей музы
	ки вообщ
	е\, до 
	моме
	нта ц
	ифро
	вого 
	восст
	ановл
	ения фона
	втограмм ф
	ранцузског
	о изобретат
	еля Леона С
	котта де М
	артенвиля
	.1900 — в Оде
	ссе открылся
	 нелегальный Вс
	ероссийский съе
	зд студентов.
	XX век1911 
	— спущен 
	на воду п
	ервый ру
	сский дре
	дноут — л
	инкор «Севаст
	ополь».1914 — 
	начало перв
	ых полётов
	 на самолёт
	е в Аркти
	ке. В поиск
	ах экспедиции
	 Г. Я. Седова
	 совершают Я.
	 И. Нагурский
	 и Е. В. Кузнецов.
	1916 — первый полёт 
	самолёта компании
	 «Боинг».1917 — в Ро
	ссии на 30 % ув
	еличен нало
	г на прибыли
	 капиталистов
	.1922 — Фёдор Ш
	аляпин уехал на
	 гастроли за г
	раницу и больше
	 в Россию не в
	озвращался.1
	931 — Папа 
	Римский П
	ий XI осудил 
	вынуждение
	 итальянски
	х детей при
	носить фашист
	скую присягу.
	1932 — в Лени
	нграде при
	 больнице «
	Память 25 
	октября» о
	ткрылся пер
	вый научно-пр
	актический и
	нститут пере
	ливания крови
	.1935В Германи
	и\, на кил
	ьской верф
	и «Дойче ве
	рке» тайно
	 спущена на 
	воду подво
	дная лодка 
	U-1 — первая н
	емецкая субма
	рина\, построе
	нная послеПер
	вой мировой во
	йны.1941Перехо
	д немецких
	 и финских
	 войск в
	 наступл
	ение на Мурм
	анск. Началась об
	орона Заполярь
	я (продолжала
	сь до октября 1
	944 года).19
	45 — 
	СССР
	 и Че
	хослова
	кия подпис
	али договор
	 о присоеди
	нении Зак
	арпатской Ук
	раины к УСС
	Р.1949 — в Ю
	жной Афри
	ке стала 
	претворять
	ся в жизнь пол
	итика апартеи
	да: введён зап
	рет на смеш
	анные браки
	.1954 — пос
	ле отка
	за физи
	ка Робер
	та Оппенг
	еймера уча
	ствовать в 
	создании вод
	ородной бомбы 
	ему был закрыт
	 доступ к секр
	етным разра
	боткам.1955 —
	 на первое место в аме
	риканском хит-параде подня
	лась песня «Rock Around the C
	lock» Билла Хей
	ли и оставал
	ась на нём во
	семь недель. Э
	ту дату можно 
	считать форма
	льным днём рож
	дения рок-н-р
	олла.1957 
	— отст
	ранен
	ие от
	 власт
	и Пленумо
	м ЦК КПСС
	 так называем
	ой Антипартийн
	ой группы — Молото
	ва В. М.\, Маленков
	а Г. М.\, Каганов
	ича Л. М. и д
	ругих руковод
	ителей партии
	\, выступивши
	х против Н
	. С. Хрущёва.
	1964 — созд
	ан пульт
	 дистанцио
	нного упра
	вления тел
	евизором.19
	72 — в США
	 при рассм
	отрении дел
	а «Фермен п
	ротив штат
	а Джорджи
	я» Верхов
	ный суд США п
	остановил\,
	 что смертная
	 казнь противор
	ечит конституци
	и.1973Запущена К
	ольская АЭС\
	, первая в ми
	ре атомная
	 электрост
	анция за С
	еверным пол
	ярным кругом
	.В Чили произо
	шла попытка во
	енного перевор
	ота\, известная 
	как «танкасо».1
	975 — в Инсти
	туте ядерной
	 энергии им.
	 Курчатова
	 введена в строй
	 крупнейшая в 
	мире термоя
	дерная уста
	новка «Тока
	мак-10».197
	6 — Сейшельс
	кие острова 
	провозглашены н
	езависимым госуд
	арством.1988 — XI
	X конференци
	я КПСС\, на 
	которой 
	1 июля бы
	л поставле
	н вопрос о 
	необходим
	ости изме
	нения поли
	тической 
	системы ст
	раны. (По
	пыткаМ. 
	С. Горбач
	ёва соеди
	нить идеи 
	социализм
	а и буржу
	азной демокра
	тии. При это
	м большая 
	роль удел
	ялась пол
	итике гла
	сности).199
	0 — Лит
	ва приос
	тановила 
	действие 
	Декларации о 
	суверенитете
	 на время пере
	говоров с пра
	вительством 
	СССР.1995московская городская Дума
	 приняла Устав города Москвы.
DTSTART;VALUE=DATE:20150628
END:VEVENT
END:VCALENDAR
