BEGIN:VCALENDAR
VERSION:2.0
PRODID:-//IP.Board Calendar 4.0.13.1//EN
METHOD:PUBLISH
CALSCALE:GREGORIAN
X-WR-CALNAME:В этот день в прошлом
BEGIN:VTIMEZONE
TZID:Europe/London
TZURL:http://tzurl.org/zoneinfo/Europe/London
X-LIC-LOCATION:Europe/London
BEGIN:DAYLIGHT
TZOFFSETFROM:+0000
TZOFFSETTO:+0100
TZNAME:BST
DTSTART:20150329T020000Z
RRULE:FREQ=YEARLY;BYMONTH=3;BYDAY=-1SU
END:DAYLIGHT
BEGIN:STANDARD
TZOFFSETFROM:+0100
TZOFFSETTO:+0000
TZNAME:GMT
DTSTART:20151025T020000Z
RRULE:FREQ=YEARLY;BYMONTH=10;BYDAY=-1SU
END:STANDARD
END:VTIMEZONE
BEGIN:VEVENT
SUMMARY:Развилки Дня
DTSTAMP:20150629T073342Z
SEQUENCE:0
UID:104647fa065cc0b75008b4d17a4335e2@172.17.0.3
ORGANIZER;CN="ясмин джакмич":fai@fai.org.ru
DESCRIPTION:\n28 июняДо XVI
	I века11
	19 — му
	сульма
	нская 
	армия Иль-
	Гази разгр
	омила войс
	ко Рожера С
	алернского\,
	 регента А
	нтиохии.15
	69 — за
	ключен
	а Любли
	нская у
	ния\, объед
	инившая Корол
	евство Польско
	е и Великое кн
	яжество Литовс
	кое.XVII век1635
	 — францу
	зы основал
	и в Карибс
	ком море к
	олонию Гва
	делупа.1644 
	— актёр б
	родячей т
	руппы Жан Бат
	ист Поклен вп
	ервые вышел н
	а сцену под п
	севдонимом 
	Мольер.1648
	 — начало
	 экспедиции
	 русских мор
	еходов под 
	руководство
	м Семена Дежнева
	\, в ходе которо
	й был открыт
	 Северный 
	морской 
	путь.16
	51 — 
	нач
	ало
	 би
	твы
	 по
	д 
	Б
	е
	р
	е
	ст
	еч
	ко
	м 
	ме
	жд
	у у
	кра
	инс
	кими 
	казаками Б
	огдана Хмел
	ьницкого и 
	польской арми
	ей короля Яна Казим
	ира.XVIII век[прави
	ть | править 
	вики-текст]17
	12 — в прису
	тствии Пет
	ра I на вод
	у спущен 
	первый л
	инейный
	 корабл
	ь\, зало
	женный в
	 Санкт-
	Петербург
	ском Адмир
	алтействе д
	ля Балтийск
	ого флота.17
	79 — Екате
	рина II п
	одписал
	а указ 
	о строите
	льстве москов
	ского водопрово
	да. Строительств
	о продолжалось 
	25 лет.1786 — в
	 России и
	здано п
	ервое прави
	тельственное р
	аспоряжение о 
	введении систе
	мы страхования.XIX
	 век1812 — вой
	ска Наполеон
	а I вступили 
	в Вильну.18
	16Торжес
	твенно
	е откры
	тие пер
	вой бирж
	и в Сан
	кт-Петер
	бурге.Уч
	реждени
	е Челове
	колюбивог
	о Общества 
	в Санкт-Пе
	тербурге. 
	Эта благо
	творительна
	я организация 
	имела по всей Рос
	сии многие десят
	ки школ\, богаделе
	н\, больниц\, при
	ютов\, домов т
	рудолюбия\,
	 институто
	в слепых 
	и прочих зав
	едений и яв
	лялась вы
	ражением хр
	истианского 
	милосердия.1
	865 — указом
	 императора
	 Александра
	 II на основ
	е Главног
	о управле
	ния путей
	 сообщения
	 и публичн
	ых зданий
	 образова
	но Минист
	ерство пу
	тей соооб
	щения. Первым
	 министром п
	утей сообще
	ния стал Пав
	ел Петрович Ме
	льников.1868 — 
	эмир Бухарски
	й признал себя ва
	ссалом России.
	XX век[править 
	| править ви
	ки-текст]19
	02 — кон
	гресс С
	ША утвер
	дил Закон
	 о строит
	ельстве 
	канала 
	на Пана
	мском пе
	решейке 
	и таким о
	бразом н
	аделил п
	резиден
	та полном
	очиями дл
	я приобре
	тения у фр
	анцузско
	й «Панамск
	ой компани
	и» прав на
	 строител
	ьство канала 
	и у Колумби
	и права на 
	вечное уп
	равление
	 зоной к
	анала.
	1914 
	— 
	по
	ку
	ше
	ни
	е 
	Га
	вр
	ил
	ы 
	Пр
	ин
	цип
	а н
	а авс
	трийс
	кого 
	престо
	лонаслед
	ника Франц
	а Фердинанд
	а в Сараево 
	и его жену (С
	араевское уби
	йство)\, послу
	жившее пово
	дом к началу
	 Первой миро
	вой войны.19
	19Подписан
	 Версаль
	ский мирн
	ый договор\, 
	завершивш
	ий Первую ми
	ровую войну
	.Образован
	ие Лиги Нац
	ий.1921 — 
	король
	 Алекса
	ндр I Ка
	рагеорг
	иевич пр
	овозгласил
	 новый конст
	итуционный у
	став Королев
	ства сербов\
	, хорватов 
	и словенц
	ев. Устав 
	получил на
	звание «Ви
	довданской
	 конституц
	ии» по име
	ни праздн
	ика.1923 
	— «Изве
	стия» оп
	убликова
	ли обраще
	ние патри
	арха Тихон
	а к «архипас
	тырям\, пастыр
	ям и пасомым 
	православно
	й церкви россий
	ской»\, в котор
	ом он заявил
	 о признани
	и Советской
	 власти.1933
	 — в Мо
	скве нача
	лась широко
	масштабная
	 операция по аре
	сту и высылке цыга
	н (в ходе её были
	 депортированы 
	5470 человек).19
	40 — сов
	етские в
	ойска в
	ступили на 
	территорию
	 Бессарабии 
	и Северной 
	Буковины в
	 составе Р
	умынии.19
	44 — о
	свобо
	ждён о
	т финских 
	захватчи
	ков город
	 Петроза
	водск — ст
	олица Карел
	о-Финской СС
	Р.1948 — инфо
	рмбюро ко
	ммунисти
	ческих и 
	рабочих п
	артий иск
	лючило из
	 своего с
	остава С
	оюз коммунистов
	 Югославии. Поводом послу
	жил отказ Иосипа Броз Ти
	то (Josip Broz Tito) стро
	го следова
	ть сталин
	ским рек
	омендаци
	ям. Дого
	вор о др
	ужбе и с
	отрудни
	честве м
	ежду ССС
	Р и Югосл
	авией был р
	асторгнут. Вс
	коре в советс
	кой печати Ти
	то именовался
	 едва ли не ф
	ашистом. Ли
	шь после см
	ерти вождя 
	всех народ
	ов отношения 
	между двумя
	 странами в
	новь вошл
	и в нормально
	е русло.196
	7 — Изр
	аиль ан
	нексиров
	ал восто
	чный Ие
	русалим.
	1969Нача
	ло Сто
	унволлск
	их бунтов в Н
	ью-Йоркском р
	айоне Гринвич Вил
	лидж (Манхэттен). В ночь на 28
	 июня посетители клуба «Stonewall Inn» 
	на Christopher street вперв
	ые оказали 
	активное 
	сопротивл
	ение полиц
	ии\, прово
	дившей оче
	редную обл
	аву. Столкн
	овения прод
	олжались н
	есколько дней
	. Эти даты счи
	таются точко
	й отсчёта для ам
	ериканского (а во 
	многом и мировог
	о) Гей-движения.
	1988 — открытие X
	IX конференции КП
	СС. Начало поли
	тической реформы
	 в СССР. Выступая
	 на XIX Партийно
	й конференци
	и в Москве (з
	авершилась
	 1 июля)\, 
	Горбачёв
	 изложил 
	план изме
	нений в 
	админис
	тративно
	й структу
	ре страны
	 с целью 
	демокр
	атизац
	ии Комм
	унисти
	ческой 
	партии
	 и пред
	остав
	ления бол
	ьшей самостоят
	ельности руков
	одителям промышл
	енных предприятий.
	1991На 46-м (заклю
	чительном)
	 заседани
	и сессии 
	СЭВ (Сове
	т Эконо
	мическо
	й Взаимоп
	омощи) в Б
	удапеште 
	подписан п
	ротокол об 
	упразднени
	и организац
	ии.1996 — Вер
	ховная Рада Укр
	аины за одну ноч
	ь приняла новую 
	Конституцию.1997 
	— за 30 секун
	д до конца т
	ретьего рау
	нда экс-чем
	пион мира 
	по боксу
	 Майк Тай
	сон\, оби
	женный 
	на защищ
	авшего чем
	пионский тит
	ул Эвандера Хо
	лифилда за удар 
	головой в лицо\, в
	пился в его ухо
	 и откусил кус
	очек. Бой бы
	л остановле
	н\, но посл
	е преду
	прежден
	ия Тайсо
	ну рефери
	 Миллс Ле
	йн разреш
	ил продолж
	ить соревно
	вание — и но
	вый кусок уха 
	чемпиона оказ
	ался в зубах 
	Тайсона. Поединок был прекращён\, а 
	Тайсон дисквалифицирован.
DTSTART;VALUE=DATE:20150627
END:VEVENT
END:VCALENDAR
