BEGIN:VCALENDAR
VERSION:2.0
PRODID:-//IP.Board Calendar 4.0.13.1//EN
METHOD:PUBLISH
CALSCALE:GREGORIAN
X-WR-CALNAME:В этот день в прошлом
BEGIN:VTIMEZONE
TZID:Europe/London
TZURL:http://tzurl.org/zoneinfo/Europe/London
X-LIC-LOCATION:Europe/London
BEGIN:DAYLIGHT
TZOFFSETFROM:+0000
TZOFFSETTO:+0100
TZNAME:BST
DTSTART:20150329T020000Z
RRULE:FREQ=YEARLY;BYMONTH=3;BYDAY=-1SU
END:DAYLIGHT
BEGIN:STANDARD
TZOFFSETFROM:+0100
TZOFFSETTO:+0000
TZNAME:GMT
DTSTART:20151025T020000Z
RRULE:FREQ=YEARLY;BYMONTH=10;BYDAY=-1SU
END:STANDARD
END:VTIMEZONE
BEGIN:VEVENT
SUMMARY:Развилки Дня
DTSTAMP:20150629T074000Z
SEQUENCE:0
UID:1e6bcc0be6ecd940a9ad42ed41582cc6@172.17.0.3
ORGANIZER;CN="ясмин джакмич":fai@fai.org.ru
DESCRIPTION:\n27 июня3
	63 — в Р
	имской 
	империи
	 императ
	ором про
	возглашён
	 Иовиан\,
	 восстановив
	ший урезан
	ные при ег
	о предшес
	твеннике прав
	а христианства
	.1615 — чай впе
	рвые импортиро
	ван в Европу.1
	709 — Пётр I на 
	военном совет
	е решил дать 
	бой шведам 
	под Полтав
	ой.1754 — по
	 проекту
	 итальян
	ского а
	рхитек
	тора Ба
	ртолом
	ео Фра
	нческо
	 (Варф
	олом
	ея В
	арф
	олом
	ееви
	ча)  Ра
	стрелл
	и в Санк
	т-Петерб
	урге началос
	ь строительство
	 Зимнего дворца\
	, которое было з
	авершено в 1762 
	году. Елизавет
	а Петровна для к
	оторой дворец 
	был \"стройкой
	 правления\" так
	 и не смогла дожд
	аться окончания 
	его строительства.
	 XIX век1844 — в т
	юрьме Карфа
	гена (Иллинойс\
	, США) убили 
	основателя ц
	еркви мормоно
	в Дж. Смита.1862 
	— Гражданская
	 война в США:
	 Сражение при Г
	еинс-Милл\, тр
	етье из семи 
	сражений Сем
	идневной битвы
	.1864 — Гражда
	нская война в С
	ША: Сражение
	 у горы Кенн
	есо во вре
	мя Битвы за
	 Атланту.1865 —
	 учреждено М
	инистерство п
	утей сообщен
	ия России.XX век1905
	 — начало восс
	тания на брон
	еносце «Пот
	ёмкин».1910I
	II Государ
	ственная
	 дума при
	няла Сто
	лыпинско
	е аграрное
	 законодат
	ельство.192
	9Советско
	е правител
	ьство пост
	ановило в
	сех заклю
	чённых со
	 сроком б
	ольше т
	рёх лет
	 переве
	сти из 
	тюрем 
	в труд
	овые ла
	геря.В 
	нью-йор
	кских 
	лаборат
	ориях Б
	елла б
	ыла продем
	онстриров
	ана систе
	ма переда
	чи полно
	цветног
	о телеиз
	ображения
	.1931 — в 
	США и
	зобре
	татель Иг
	орь Сикорс
	кий получ
	ил патент 
	на изобре
	тение первог
	о вертолёта.19
	32 — в Сиаме 
	провозглашена
	 конституция.
	1936 — ЦИК и 
	СНК СССР при
	няли постановлени
	е о запрещении аб
	ортов. Отменено в нояб
	ре 1955 года.1941 — 
	Венгрия об
	ъявила вой
	ну СССР.19
	45Присв
	оение 
	И. В. С
	талину
	 звания 
	Генерали
	ссимус Со
	ветского 
	Союза.Феде
	ральная к
	омиссия по св
	язи США опред
	елила тринад
	цать каналов
	 для телевиде
	ния.1946 — на
	 совещан
	ии мини
	стров и
	ностранн
	ых дел С
	ША\, Ве
	ликоб
	ритани
	и\, Фр
	анции и 
	СССР прин
	ято решени
	е о передач
	е Греции До
	деканезских 
	островов\, в
	 тот момент
	 входивших
	 в состав Италии
	. Часть территории С
	еверной Италии перед
	ана Франции (sic!).19
	67 — в Энфил
	де (Англия) ус
	тановлен пер
	вый в мире б
	анкомат по 
	выдаче нали
	чных денег.1
	968 — в чех
	ословацко
	й «Литерат
	урной газете
	» появился д
	окумент\, 
	получивши
	й название
	 «Две тыс
	ячи слов
	» и подписа
	нный предст
	авителями в
	сех слоёв че
	хословацкого
	 общества\, с 
	призывом к 
	более быст
	рому перех
	оду к реа
	льной де
	мократии.
	 Это возз
	вание с
	тало кул
	ьминацио
	нным пункт
	ом Пражск
	ой весны. 
	Руководс
	тво Советс
	кого Союза
	 и других
	 стран В
	аршавск
	ого догово
	ра потребо
	вало от р
	уководства р
	еспублики св
	ертывания ре
	форм\, чрева
	тых «контр
	революцие
	й».1978 — запу
	ск советского
	 пилотируемог
	о космическог
	о корабля «Со
	юз-30».1983 —
	 запуск совет
	ского пилоти
	руемого косм
	ического кор
	абля «Союз Т-
	9».1986 — ме
	ждународ
	ный суд 
	в Гааге
	 вынес ре
	шение о 
	наруше
	нии Сое
	динённ
	ыми Шта
	тами ме
	ждунар
	одного
	 права 
	и суверен
	итета Ни
	карагуа з
	а оказание
	 помощи н
	икарагу
	анским 
	контрас.
	1990 — то
	ржест
	венная
	 церем
	ония 
	разо
	ружен
	ия ника
	рагуанс
	ких контрас\
	, символизи
	рующая ок
	ончание гр
	ажданской в
	ойны в Никарагуа.1997 — о
	кончание гражданской войны в Таджикист
	ане.
DTSTART;VALUE=DATE:20150626
END:VEVENT
END:VCALENDAR
