BEGIN:VCALENDAR
VERSION:2.0
PRODID:-//IP.Board Calendar 4.0.13.1//EN
METHOD:PUBLISH
CALSCALE:GREGORIAN
X-WR-CALNAME:В этот день в прошлом
BEGIN:VTIMEZONE
TZID:Europe/London
TZURL:http://tzurl.org/zoneinfo/Europe/London
X-LIC-LOCATION:Europe/London
BEGIN:DAYLIGHT
TZOFFSETFROM:+0000
TZOFFSETTO:+0100
TZNAME:BST
DTSTART:20150329T020000Z
RRULE:FREQ=YEARLY;BYMONTH=3;BYDAY=-1SU
END:DAYLIGHT
BEGIN:STANDARD
TZOFFSETFROM:+0100
TZOFFSETTO:+0000
TZNAME:GMT
DTSTART:20151025T020000Z
RRULE:FREQ=YEARLY;BYMONTH=10;BYDAY=-1SU
END:STANDARD
END:VTIMEZONE
BEGIN:VEVENT
SUMMARY:Развилки Дня
DTSTAMP:20150629T074521Z
SEQUENCE:0
UID:e90aada5fc728070e983ced12076d1cd@172.17.0.3
ORGANIZER;CN="ясмин джакмич":fai@fai.org.ru
DESCRIPTION:\n30 июня173
	6 — кап
	итуляция
	 турецкого г
	арнизона А
	зова. Город
	 окончател
	ьно присоедине
	н к России.181
	0 — Нидер
	ланды включ
	ены в состав
	 Франции.182
	4 — начало
	 экспедици
	и к берегам
	 Новой Земли в
	оенного бри
	га «Новая З
	емля» под 
	началом Ф. П.
	 Литке.1868 — 
	Самарканд п
	рисоединён 
	к Российск
	ой империи
	.1893 — в ЮАР
	\, на руднике Я
	херсфонтейн 
	найден алмаз
	 «Эксельсио
	р» весом 995 
	карат.18
	94Отк
	рыт 
	зна
	мен
	итый 
	лондонс
	кий мост
	 — Тауэр
	-бридж.Ко
	рея объя
	вила независ
	имость от Ки
	тая.1898 — пу
	ск трамвая
	 в Витебск
	е (Белорусс
	ия).1905 — А
	льберт Э
	йнштейн
	 в стать
	е «Об эл
	ектрод
	инамике
	 движущих
	ся тел» 
	изложил
	 основы Спе
	циальной тео
	рии относите
	льности1908 
	— Тунгусс
	кий феноме
	н.1910 — з
	акончена у
	кладка те
	лефонного
	 кабеля ме
	жду Европой и
	 Южной Америко
	й.1913 — начало
	 Второй бал
	канской во
	йны.1930 
	— осущес
	твлён перв
	ый приём ф
	оторадиограмм
	ы между Москвой
	 и Ленинградом.
	1934Дала ток Нивс
	кая ГЭС-2\, пер
	вая в стран
	е гидроэле
	ктростанци
	я\, построенн
	ая за Полярным 
	кругом по плану
	 ГОЭЛРО (Мурма
	нская область
	).В ночь с 3
	0 июня 
	на 1
	 ию
	ля
	 в 
	Гер
	ман
	ии 
	по 
	пр
	ик
	аз
	у 
	Гит
	лер
	а о
	тряд
	ы СС со
	вершили 
	внезапн
	ое напа
	дение на
	 руководс
	тво штурмо
	вых отрядо
	в (СА). Г
	лава ш
	турмов
	иков Эр
	нст Рем и
	 десятки дру
	гих руковод
	ителей СА бы
	ли расстрелян
	ы без суда и 
	следствия
	.1936 — нап
	ечатан пер
	вый тираж р
	омана Марга
	рет Митчелл 
	«Унесённые в
	етром».1941Ко
	мпания «П
	епси-Кола
	» слита с 
	кондите
	рской ком
	панией «
	Лофт».Ан
	глийски
	е учёные
	 доложили с
	воему прави
	тельству о 
	возможност
	и создания ато
	мной бомбы.1944 — ос
	нована Академия
	 медицинских нау
	к СССР\; в 1992 
	была преобраз
	ована в Росс
	ийскую акад
	емию медицински
	х наук (РАМН).1
	945 — в СССР
	 восстано
	влены отпу
	ска.1948 — учёные 
	Уильям Шокли\, Уолтер Бр
	аттейн и Джон Бардин из
	 «Bell Laboratories» объявил
	и о создани
	и транзист
	ора.1956в 
	газет
	ах ССС
	Р опубли
	ковано п
	остановлени
	е ЦК КПСС «О
	 преодолени
	и культа лич
	ности и его
	 последств
	ий».1960СС
	СР и К
	итай об
	ъявляют
	 об иде
	ологи
	ческо
	м раск
	оле.д
	обив
	шаяся
	 неза
	висимо
	сти бы
	вшая к
	олония
	 Бельг
	ии пров
	озгласи
	ла себя Рес
	публикой Ко
	нго. Презид
	ентом стра
	ны избран Жоз
	еф Касавубу\, 
	а премьер-
	министро
	м назначе
	н Патрис 
	Лумумба.1964 
	— получ
	ены первы
	е фотограф
	ии Луны с 
	близкого 
	расстояни
	я.1970 — 
	Велик
	обритан
	ия\, Да
	ния\, 
	Норв
	егия
	 и Ир
	ланди
	я нач
	али в 
	Люксе
	мбурге пер
	еговоры о 
	вступлени
	и в Европе
	йское эко
	номическо
	е сообщество
	.1971 — катастр
	офа пилотируемого
	 космического аппарата «Союз-
	11». Весь экипаж погиб.1972
	\, 23:59:60 UTC — впе
	рвые введен
	а високосна
	я секунда.1974
	 — Михаил
	 Барышников
	 бежал на Запад
	. Большой театр
	 в это время г
	астролировал
	 в Канаде.1982 — в
	 США поправка о р
	авных правах (пр
	инята конгрессом
	 в 1972)\, запрещающ
	ая дискримин
	ацию по полов
	ому признаку\,
	 не принята в 
	необходимом
	 числе штатов и
	 поэтому не мо
	жет быть вклю
	чена в конст
	итуцию стр
	аны.1988 — 
	за непо
	дчинени
	е церко
	вной рефо
	рме папа ри
	мский отлучи
	л от церкви фр
	анцузского а
	рхиепископа М. Леф
	ебра.1989 — отмен
	ено решение С
	оюза писател
	ей СССР 1974 
	года об 
	исключе
	нии Алексан
	дра Солженицы
	на из Союза п
	исателей СССР 
	как «ошибочное
	».1993Курс долл
	ара впервы
	е превысил
	 отметку в
	 тысячу ру
	блей на торгах
	 Московской меж
	банковской вал
	ютной биржи и
	 составил 1024 р
	убля за долл
	ар.В магазины
	 Кейптауна воз
	вращено 1200 то
	стеров одной и
	 той же фирмы и
	 одной серии. «
	Тостеры-убий
	цы»\, как обо
	звали их юж
	ноафриканские
	 газеты\, выстр
	еливали гото
	вые тосты с т
	акой силой\
	, что некот
	орые их сч
	астливые о
	бладатели по
	лучили физиче
	ские увечья. 
	Тостеры были
	 сняты с про
	изводства\
	, а фирма-изгот
	овитель опозо
	ренная и расс
	троенная пок
	инула рынок ЮАР.19
	94 — в России 
	завершена че
	ковая приватиз
	ация.1997 — в Вел
	икобритании 
	выходит первая 
	книга о Гарри Поттере - Гарри Поттер и ф
	илософский камень.
DTSTART;VALUE=DATE:20150629
END:VEVENT
END:VCALENDAR
