BEGIN:VCALENDAR
VERSION:2.0
PRODID:-//IP.Board Calendar 4.0.13.1//EN
METHOD:PUBLISH
CALSCALE:GREGORIAN
X-WR-CALNAME:В этот день в прошлом
BEGIN:VTIMEZONE
TZID:Europe/London
TZURL:http://tzurl.org/zoneinfo/Europe/London
X-LIC-LOCATION:Europe/London
BEGIN:DAYLIGHT
TZOFFSETFROM:+0000
TZOFFSETTO:+0100
TZNAME:BST
DTSTART:20150329T020000Z
RRULE:FREQ=YEARLY;BYMONTH=3;BYDAY=-1SU
END:DAYLIGHT
BEGIN:STANDARD
TZOFFSETFROM:+0100
TZOFFSETTO:+0000
TZNAME:GMT
DTSTART:20151025T020000Z
RRULE:FREQ=YEARLY;BYMONTH=10;BYDAY=-1SU
END:STANDARD
END:VTIMEZONE
BEGIN:VEVENT
SUMMARY:Развилки Дня
DTSTAMP:20150430T130527Z
SEQUENCE:0
UID:3dfb4246a55fdeb76f5413186b070fde@172.17.0.3
ORGANIZER;CN="ясмин джакмич":fai@fai.org.ru
DESCRIPTION:\n1 маядо XIX ве
	ка    305 — 
	древнеримск
	ие правители Дио
	клетиан и Макси
	миан отказались
	 от власти.\n   
	 381 — в Кон
	стантинополе 
	начался второй
	 Вселенский соб
	ор христианской церкви.\
	n    1006 — вспыхнула сверхн
	овая звезда SN 1006.\n    13
	28 — по мирному
	 договору 1328 года 
	Англия признала н
	езависимость Шотл
	андии.\n    1682 —
	 Людовик XIV торжес
	твенно открыл Па
	рижскую Обсерват
	орию.\n    1699 — 
	Пьер ле Мойн 
	основал первую к
	олонию европейц
	ев в долине реки М
	иссисипи.\n    1
	707 — объединен
	ие Шотландии
	 с Англией (Англо-
	шотландская уния
	)\, образование Великобрита
	нии.\n    1753 — публикация работы 
	«Species Plantarum» (Виды раст
	ений) К. Линн
	ея. Эта дата при
	нята за исходны
	й пункт ботаниче
	ской номенклатур
	ы.\n    1776 — А
	дам Вайсгаупт ос
	новал в Баварии та
	йное общество Илл
	юминатов.XIX век 
	   1808 — в Ба
	варии объя
	влена един
	ая для всех
	 конституц
	ия с представ
	ительным собрани
	ем\, основанном 
	на имущественном
	 цензе.\n    183
	2 — упразднение ре
	скриптом Николая 
	I Виленского унив
	ерситета.\n    1
	836\n        
	В Алексан
	дринском те
	атре Санкт-
	Петербурга
	 прошла пре
	мьера пьесы
	 Гоголя «Ре
	визор».\n  
	      Нача
	лось стр
	оительст
	во перв
	ой в Росс
	ии железной д
	ороги по марш
	руту Петербур
	г—Царское Село
	—Павловск.\n    
	1840 — в Англии п
	оявились в п
	родаже первые
	 в мире почтов
	ые марки: чёр
	ная однопен
	совая («Чёрны
	й пенни») и с
	иняя двух
	пенсовая с
	 профилем ко
	ролевы Викт
	ории. Автор
	ом идеи исп
	ользования м
	арок для\nоп
	латы почтов
	ых отправлени
	й был Роулэнд Хилл\
	, позже удостоенный
	 рыцарского звания.\n
	    1851 — в Лондо
	не\, в Хрусталь
	ном дворце\,
	 прошло от
	крытие пер
	вой Всемирной
	 выставки\, посвя
	щённой достижен
	иям техники и культуры
	.\n    1863 — Сражение п
	ри Чанселорсвилле\,
	\n    1884 — в Чик
	аго начато строите
	льство 10-этажног
	о дома — первого
	 небоскрёба.\n    1
	886 — Бирма включается в с
	остав Британской Инди
	и.\n    1886 — 1 мая 18
	86 года анарх
	ические орга
	низации США и К
	анады устроили 
	ряд митингов и
	 демонстраций. П
	о этому дню\, в п
	амять о казн
	ённых анархиста
	х\, Парижский ко
	нгресс II Инте
	рнационала о
	бъявил\n1 мая
	 Днём солид
	арности р
	абочих все
	го мира и 
	предложи
	л ежегодно от
	мечать его дем
	онстрациями с
	 социальными 
	требованиями
	\n    1890 — 
	впервые
	 проводитс
	я международ
	ный первомайск
	ий праздник рабо
	чими Австро-Венгр
	ии\, Бельгии\, Герма
	нии\, Дании\, Испани
	и и другими страна
	ми Европы.\n    18
	91 — первая 
	маёвка в С
	анкт-Петербу
	рге\, организова
	нная социал-демокр
	атической группой М
	. И. Бруснева.\n    
	1898 — испано-американская во
	йна. Битва в бухье Манилы 
	(1898).\n    1899\n     
	   В Германии
	 создан футбо
	льный клуб «А
	йнтрахт» (Франк
	фурт).\n        Впер
	вые в продаже поя
	вился аспирин.XX
	 век    1907 
	— во мног
	их европ
	ейских с
	толицах про
	шли демонстра
	ции трудящихся 
	по случаю праз
	дника Первого 
	мая\, а в Варшаве в э
	тот день объявлена вс
	еобщая забастовка.\n  
	  1912\n        Э. В.
	 Роу на аэроп
	лане «Авро» 
	тип Е совер
	шил первый п
	олёт на аэроплан
	е с полностью зак
	рытой пилотской ка
	биной.\n    1917 — 
	впервые в Рос
	сии праздник
	 1 Мая отмеч
	ается своб
	одно. Актив
	ное участи
	е в праздн
	ичных демонст
	рациях и митинга
	х наряду с рабочи
	ми принимают сол
	даты.\n    1918 
	— впервые над 
	Красной площадью 
	пролетел советский са
	молёт «Ньюпор-XXI»\, лёт
	чик И. Н. Виноградо
	в.\n    1919\n   
	     Пора
	жение бавар
	ской Красной
	 Армии. Паде
	ние Баварс
	кой Советс
	кой Респуб
	лики.\n   
	     На 
	Красной
	 площади с
	остоялось 
	торжествен
	ной открыти
	е памятника Ст
	епану Разину. На отк
	рытии с речью высту
	пил Владимир Лени
	н.\n    1921 - Отк
	рыта перв
	ая почтово
	-пассажирска
	я авиалиния Москв
	а-Орёл-Харьков на 
	самолётах «Илья
	 Муромец».\n    
	1922 — открыт
	а первая в
	 России м
	еждунаро
	дная воздуш
	ная линия — Москва — 
	Кёнигсберг (авиакомпания Дерулюфт — не
	м. Deutsche Russian Luftverkehr). В мае 1926
	 года авиалиния пр
	одлена до Берлина.
	\n    1924\n    
	    В Хар
	ькове вы
	пущен пе
	рвый совет
	ский гусеничный
	 трактор «Коммун
	ар» серии «Фордзон-Путиловец».
	\n    1926 — авиакомпания «Deutsc
	he Luft Hansa» выполн
	ила перв
	ый в мир
	е ночной рег
	улярный пассажирский
	 рейс Берлин—Кёнигсберг на 
	самолёте «Junkers G-24».\n    
	1930\n        Оп
	убликовано 
	имя открытой 
	18 февраля де
	вятой план
	еты Солнеч
	ной систе
	мы — Плуто
	н. Это имя
	 было пред
	ложено оди
	ннадцатилет
	ней школьницей
	 из Оксфорда В
	енецией Бёрни\
	, и планета по
	лучила его 
	по\nрезультатам
	 голосования\, прошед
	шего в обсерватории 
	Лоуэлла 24 марта.\n
	    1932 — в Тушино н
	ачал работу пл
	анёрный завод О
	соавиахима.\n  
	  1933 — установлена 
	телефонная связь 
	между Британией и
	 Индией.\n    1936 — 
	в Комсомольске-на-Амуре
	 собран первый серийны
	й Р-6 (АНТ-7).\n    19
	37 — завершено 
	строительство
	 канала Москва
	—Волга.\n    1940 —
	 официально объявл
	ено об отмене Олимпиады
	 1940 года — в связи с 
	войной.\n    1945 —
	 в Берлине над Рей
	хстагом водружено З
	намя Победы.\n    1948 -
	 Провозглашено с
	оздание КНДР.\n
	    1950 — в К
	итайской Н
	ародной Рес
	публике запр
	ещаются полигамия\
	, детоубийство и 
	браки в детском
	 возрасте\n    
	1960 — в районе Св
	ердловска сб
	ит американс
	кий самолёт-разведч
	ик U-2\, пилотировавши
	йся Фрэнсисом Пау
	эрсом.\n    1963\n
	        Во врем
	я парадов военно
	й техники в дни
	 празднования
	 1 мая и 7 но
	ября на
	 трибун
	ах Мав
	золея об
	язательно
	 присутст
	вовали пр
	едставители
	 иностранных
	 посольств. Н
	а этот раз а
	мериканцы 
	отказались\nи
	з-за присутс
	твия Фиделя
	 Кастро в ка
	честве поч
	ётного гостя
	.\n        Бы
	вшая голла
	ндская кол
	ония Запа
	дный Ириан\,
	 находивша
	яся под упра
	влением Временной
	 администрации ОО
	Н\, передана Индон
	езии.\n    1974
	 — в Порт
	угалии в
	ыпускаютс
	я на свобо
	ду полити
	ческие закл
	ючённые и отменяе
	тся цензура в сре
	дствах массовой и
	нформации.\n    197
	8\n        Япон
	ец Наоми Уэмур
	а в одиночку (
	впервые в мире
	) достиг Северн
	ого полюса на собачьей
	 упряжке после 54-дне
	вного пути к цели.
	\n    1979\n        Гренландия по
	лучила право на самоуправление.\n
DTSTART;VALUE=DATE:20150430
END:VEVENT
END:VCALENDAR
