BEGIN:VCALENDAR
VERSION:2.0
PRODID:-//IP.Board Calendar 4.0.13.1//EN
METHOD:PUBLISH
CALSCALE:GREGORIAN
X-WR-CALNAME:В этот день в прошлом
BEGIN:VTIMEZONE
TZID:Europe/London
TZURL:http://tzurl.org/zoneinfo/Europe/London
X-LIC-LOCATION:Europe/London
BEGIN:DAYLIGHT
TZOFFSETFROM:+0000
TZOFFSETTO:+0100
TZNAME:BST
DTSTART:20150329T020000Z
RRULE:FREQ=YEARLY;BYMONTH=3;BYDAY=-1SU
END:DAYLIGHT
BEGIN:STANDARD
TZOFFSETFROM:+0100
TZOFFSETTO:+0000
TZNAME:GMT
DTSTART:20151025T020000Z
RRULE:FREQ=YEARLY;BYMONTH=10;BYDAY=-1SU
END:STANDARD
END:VTIMEZONE
BEGIN:VEVENT
SUMMARY:Развилки Дня
DTSTAMP:20150629T081709Z
SEQUENCE:0
UID:1929a78521a57133c4cf71e352381a24@172.17.0.3
ORGANIZER;CN="ясмин джакмич":fai@fai.org.ru
DESCRIPTION:\n1 июляДо XI
	X века10
	97 — 
	Поб
	еда
	 крес
	тоносце
	в над се
	льджукск
	ой армией
	 Килидж-А
	рслана в 
	битве при 
	Дорилее.1
	200 — В Кита
	е впервые
	 упомянуты 
	солнечные о
	чки в виде
	 пластин к
	варца.156
	9 — Люб
	линской ун
	ией создана
	 Речь Поспол
	итая (объеди
	нение Польши
	 и Литвы).1643 
	— Началось
	 6-летнее 
	заседан
	ие Вестминс
	терской Асс
	амблеи\, ре
	формиров
	авшей ан
	гликанск
	ую церковь
	.1661 — з
	аключ
	ён мир
	ный договор
	 между Россией и Ш
	вецией\, завершена
	 Русско-шведская
	 война 1656—1658
	.1733 — залож
	ен Алексее
	вский равел
	ин в Петропа
	вловской крепо
	сти.1741 — Из-
	за тумана 
	корабль «
	Святой Па
	вел» пот
	ерял из 
	виду флаг
	манский к
	орабль ру
	сской пол
	ярной экспед
	иции Витуса 
	Беринга\, нач
	ав самостояте
	льное плавани
	е.1751 — Напеча
	тан первый то
	м «Энциклопеди
	и\, или Толков
	ого словаря 
	наук\, иск
	усств и ремё
	сел»\, изда
	нный Дени
	 Дидро и 
	Жаном Лер
	оном Д’А
	ламбером
	.1783 — в
	 стол
	ице Росси
	йской импери
	и Санкт-Пете
	рбурге откры
	т Большой Кам
	енный театр.
	XIX век1807 
	— раз
	гром турец
	кого флот
	а русской
	 эскадрой
	 Дмитрия 
	Сенявина
	 у берего
	в Афона.1
	813 — А
	нглийс
	кий пар
	ламент отм
	енил монопо
	лию Ост-Ин
	дской комп
	ании на то
	рговлю с 
	Индией.18
	23 — Со
	здана ф
	едерац
	ия Соеди
	нённые П
	ровинции 
	Центрально
	й Америки (
	включала в 
	себя Гватема
	лу\, Гондурас\, Са
	львадор\, Коста-
	Рику иНикарагу
	а).1846 — выпуск 184
	6 года в амер
	иканской во
	енной акаде
	мии Вест-По
	йнт.1859 — 
	В Прото
	колах л
	ондонс
	кого Л
	иннее
	вског
	о обще
	ства 
	впер
	вые о
	публ
	иков
	ано 
	кратк
	ое из
	ложе
	ние г
	ипотез
	ы есте
	ственно
	го отбо
	ра Чарл
	ьза Дар
	вина в
	месте с
	 аналог
	ичной стат
	ьёй другог
	о английс
	кого нату
	ралиста А
	льфреда Рассе
	ла Уоллеса.18
	62 — Открыт
	а Московск
	ая публичная
	 библиотека.
	1863 — Начин
	ается битв
	а при Геттисбе
	рге\, решающе
	е сражение в
	ойны между С
	евером и Югом.
	1867 — Канада
	 получила 
	\"ответст
	венное 
	правит
	ельств
	о\"\, став
	 юридич
	ески пе
	рвым с
	амоупр
	авляемы
	м домини
	оном Велик
	обритании.
	1877 — Нач
	ался пер
	вый Уимбл
	донский т
	еннисный 
	турнир. Р
	азыгрывало
	сь первенст
	во среди му
	жчин. Побед
	ителем ста
	л Спенсер Г
	ор. За право на
	блюдать фин
	альную игру
	 зрители пл
	атили оди
	н шиллинг
	.1882 — В Пет
	ербурге на
	чала действ
	овать перв
	ая телефон
	ная станция
	.1887 — Издан
	 так назы
	ваемый ц
	иркуляр Д
	елянова «О
	 кухаркиных
	 детях»\, кото
	рым огранич
	ивается пр
	иём в сред
	ние учеб
	ные зав
	едения
	 1890 —
	 Гель
	голан
	дско-
	Занзиба
	рский до
	говор: А
	нглия и
	 Германия
	 разделили з
	оны влияния в
	 Африке\, пом
	имо выверение
	 границ в Тог
	оленде\, Юго
	-Западной 
	Африке (На
	мибии) и Та
	ньганике Г
	ермания уступ
	ила Великобрита
	нии права на За
	нзибар\, Виту(б
	ерег Кении) и 
	Уганду в обмен
	 на стратегиче
	ски важную базу 
	в Северном море
	\, что вызвало нарек
	ания в прессе \"М
	ы меняем коро
	левства на ко
	рыто\"1896 
	— На 
	Всеро
	ссийс
	кой пр
	омышл
	енной 
	выста
	вке в
	 Ниж
	нем Н
	овго
	роде п
	редстав
	лен первый
	 русский автомоб
	иль (создатели —
	 Евгений Яковлев и
	 Пётр Фрезе).XX в
	ек1904 — В Сент
	-Луисе (США)
	 начались 
	Третьи Оли
	мпийские и
	гры.1911 —
	 Польски
	й биохим
	ик Кази
	мир Функ
	 впервые
	 использ
	овал сло
	во «вита
	мин» пр
	и описан
	ии определё
	нных химиче
	ских ингред
	иентов для озд
	оровительной 
	диеты.1915 — 
	Первая сцена
	 раздевания
	 в кино: а
	встрали
	йская спо
	ртсменка-пл
	овчиха\, д
	о этого 
	первой о
	смелившейся пере
	плыть Ла-манш\, а тогда актриса
	 Аннетт Келлерман (Annette Marie Sar
	ah Kellerman) обнажилась 
	в фильме «Дочь 
	богов» (хотя 
	все \"интере
	сные места\" прикрыва
	лись ее длинными распущенными волосами
	) https://en.wikipedia.org/wiki/Annette_Kellerman#/media/File:Annette_Kel
	lerman_in_tree\,_arms_spread.jpg1916 — 
	Во Франци
	и началась
	 битва на р
	еке Сомма.1917 
	— В России в
	первые осущес
	твлён перехо
	д на летнее
	 время.1921 
	— В Шанхае 
	13 делегатов
	 образова
	ли Коммуни
	стическую партию Кит
	ая.1929 — Американский художни
	к Элзи Сигар (Elzie Crisler Se
	gar) создал героя 
	комиксов\, а вп
	оследствии и м
	ультфильмов\, матр
	оса по имени Поп
	ай1930 — На про
	ходившем с 1
	 по 5 июля
	 в Белг
	раде съ
	езде эми
	грантски
	х русских
	 молодёжных
	 групп образ
	ован Национ
	альный Союз р
	усской молод
	ёжи во главе
	 с герцогом
	 С. Н. Лей
	хтенбергс
	ким. В пос
	ледующие
	 года наи
	менование 
	организаци
	и менялось 
	на Национал
	ьный Союз но
	вого поколен
	ия\, Национа
	льно-трудо
	вой союз но
	вого покол
	ения. Ныне 
	она носит на
	звание Наро
	дно-трудовой
	 союз русских
	 солидаристо
	в.1931 — На ю
	ге африкан
	ского конт
	инента отк
	рыта желез
	ная дорога
	 Бенгуэлл
	а-Катанга
	\, являющ
	аяся п
	оследним уч
	астком перво
	й трансафрик
	анской желез
	нодорожной ма
	гистрали.(?)1
	940 — В Я
	понии в
	ведены пер
	вые огранич
	ения на торгов
	лю товарами вн
	утреннего пот
	ребления - са
	харом и сп
	ичками.19
	41 — От
	крылась п
	ервая очер
	едь центра
	льного межд
	ународного 
	аэропорта «В
	нуково».1944 
	— В Бретто
	н-Вудсе н
	ачалась
	 конфере
	нция со
	юзников
	\, утвер
	дившая пла
	ны создани
	я МВФ и В
	семирного 
	банка реко
	нструкции и 
	развития.19
	46 — Первое п
	ослевоенное 
	испытание а
	томной бомб
	ы на атолле
	 Бикини.1952 — 
	За «подрывн
	ую деятельн
	ость» запре
	щена компар
	тия США.195
	5 — Выше
	л первы
	й номер
	 ежеме
	сячного ли
	тературно
	-художест
	венного ж
	урнала «
	Иностранная
	 литература».
	1957 — Начал
	ся Междун
	ародный ге
	офизический
	 год\, в тече
	ние которог
	о учёные к
	онцентриро
	вали свои 
	усилия на
	 освоени
	и Антаркт
	ики\, оке
	анограф
	ических
	 и метео
	рологиче
	ских иссл
	едования
	х и запуске 
	искусственных 
	спутников Земли в кос
	мическое пространст
	во (до 31 декабря 19
	58).1960 — в Мос
	кве откры
	т международ
	ный аэропорт «
	Шереметьево»
	.1960 — День неза
	висимости Со
	мали.1962 — Ден
	ь независим
	ости Руанды.
	1962 — День 
	независимос
	ти Бурунди.1
	966 — Франц
	ия вышла и
	з военной 
	организации
	 НАТО.1966 — 
	В колхозах
	 впервые вв
	едена ежемес
	ячная зарпла
	та.1969 — В 
	Дании вп
	ервые в 
	мире разреш
	ены выпуск и ра
	спространение 
	порнографической продукци
	и.1979 — Фирма «Sony» пред
	ставила «Walkman».198
	3 — запущен
	 советский 
	спутник «П
	рогноз-9»:
	 начало экс
	перимента Р
	ЕЛИКТ-1 по и
	зучению ре
	ликтового из
	лучения.1987 —
	 Принят зак
	он «О госу
	дарствен
	ном предп
	риятии в С
	ССР»\, ра
	сширяющи
	й самост
	оятельнос
	ть хозяйст
	венных еди
	ниц и переводящ
	ий их на самофи
	нансирование (в
	торой этап перест
	ройки).1988 — Вступил 
	в силу закон ССС
	Р «О кооперации
	».1988 — На XIX па
	ртконференции Е
	гор Лигачёв сказ
	ал Б. Ельцину: «Бо
	рис\, ты не пра
	в!».1991 — 
	В Пра
	ге под
	писан 
	проток
	ол об 
	официаль
	ном прекра
	щении суще
	ствования 
	Организаци
	и Варшавско
	го договора
	.1994 — В Ро
	ссии ли
	квидир
	ована с
	истема л
	ечебно-тру
	довых профилакт
	ориев. Первый экс
	периментальный 
	ЛТП был открыт в 19
	64 году в Моск
	ве при мини
	стерстве вн
	утренних д
	ел.1994 — 
	В Каза
	хстане 
	после не
	скольких л
	ет запрет
	ов зарегис
	трирована
	 первая органи
	зация казаков
	.1997 — Гонк
	онг внов
	ь стал ча
	стью Кит
	ая.1998 — 
	В Россий
	ской Федера
	ции восстановл
	ен орден Андрея
	 Первозванного.
	1999 — Впервые за 300 лет от
	крылось заседание парламента Шотландии
	.
DTSTART;VALUE=DATE:20150630
END:VEVENT
END:VCALENDAR
