BEGIN:VCALENDAR
VERSION:2.0
PRODID:-//IP.Board Calendar 4.0.13.1//EN
METHOD:PUBLISH
CALSCALE:GREGORIAN
X-WR-CALNAME:В этот день в прошлом
BEGIN:VTIMEZONE
TZID:Europe/London
TZURL:http://tzurl.org/zoneinfo/Europe/London
X-LIC-LOCATION:Europe/London
BEGIN:DAYLIGHT
TZOFFSETFROM:+0000
TZOFFSETTO:+0100
TZNAME:BST
DTSTART:20150329T020000Z
RRULE:FREQ=YEARLY;BYMONTH=3;BYDAY=-1SU
END:DAYLIGHT
BEGIN:STANDARD
TZOFFSETFROM:+0100
TZOFFSETTO:+0000
TZNAME:GMT
DTSTART:20151025T020000Z
RRULE:FREQ=YEARLY;BYMONTH=10;BYDAY=-1SU
END:STANDARD
END:VTIMEZONE
BEGIN:VEVENT
SUMMARY:Развилки Дня
DTSTAMP:20150629T083532Z
SEQUENCE:0
UID:22d1d0b8792cc6799af6ac5b641a180c@172.17.0.3
ORGANIZER;CN="ясмин джакмич":fai@fai.org.ru
DESCRIPTION:\n2 июляДо XIX 
	века1499 —
	 корабли э
	кспедиции
	 Охеды под
	ошли к сев
	ерному по
	бережью 
	Южной Америк
	и. В этот де
	нь Америг
	о Веспуччи
	 открыл д
	ельту Ам
	азонки.17
	76 — вто
	рой Кон
	тинента
	льный к
	онгрес
	с в Филад
	ельфии пр
	инял реше
	ние об от
	делении Ам
	ерики от Велик
	обритании. Но Д
	ень независимо
	сти отмечается
	 в США 4 июля\, 
	когда была пр
	инята Декларац
	ия независимости
	\, публично зачит
	анная 8 июля.1800 — 
	принят акт об у
	нии Великобри
	тании и Ирланд
	ии.XIX век1803 — французс
	кий воздухоплаватель А. Ж. Гар
	нерен (Andr? Jacques Garnerin) с
	о своей жено
	й совершили п
	ервый в России 
	полёт на тепло
	вом аэростат
	е (Санкт-Пе
	тербург).
	1853 — 
	русск
	ая армия 
	вступает
	 в Молдав
	ское княже
	ство — начин
	ается Крымска
	я война.1859 —
	 первый в Америке
	 дальний полёт на аэроста
	те осуществили Джон С. Уайз (John Wise)
	\, Джон Ли Маунтэн (John La Mountain) и О. 
	А. Гейджер (O.A.Gager). Они 
	пролетели 1800 км от
	 Сет-Луиса до Х
	ендерсона (ш
	тат Нью-Йор
	к).1860 — осно
	ван Владив
	осток в бух
	те Золотой 
	Рог на Тих
	ом океане.19
	00Первый
	 полёт дириж
	абля констру
	кции графа Фе
	рдинанда фон 
	Цеппелина модели LZ
	-1. 2-е Олимпийски
	е Игры откры
	лись в Париж
	е.XX век1920
	 — в при
	казе Тух
	ачевского
	 по Западн
	ому фронту 
	прозвучала
	 фраза: «На 
	наших штыках м
	ы принесём тр
	удящемуся чел
	овечеству счас
	тье и мир».1932
	Во время в
	ыдвижения
	 своей ка
	ндидатур
	ы на пост
	 президе
	нта США о
	т демокр
	атическо
	й партии 
	Франклин 
	Делано Рузвел
	ьт в своей реч
	и впервые употр
	ебил термин «Н
	овый курс».193
	7 — Политбюр
	о ЦК ВКП(б) сан
	кционировал
	о отправку сек
	ретарям обкомо
	в\, крайкомов\,
	 ЦК нацкомп
	артий телег
	раммы\, в к
	оторой пр
	едлагалос
	ь всем секре
	тарям област
	ных и краевы
	х организац
	ий и всем об
	ластным\, к
	раевым и 
	республик
	анским пре
	дставителя
	м НКВД взять
	 на учёт вс
	ех возврат
	ившихся на 
	родину после 
	отбытия срок
	ов высылки кул
	аков и уголов
	ников с тем\,
	 чтобы наиб
	олее вражде
	бные из них
	 были нем
	едленно 
	арестован
	ы и были ра
	сстреляны 
	в порядке а
	дминистрат
	ивного пров
	едения их д
	ел через т
	ройки. Рассы
	лку этой тел
	еграммы мож
	но считать 
	формальным 
	началом то
	го\, что в либ
	еральной 
	историограф
	ии носит назв
	ание Большог
	о Террора.1947
	Знаменитая а
	вария НЛО в Ро
	зуэлле. Отпра
	вная дата в разв
	итии Уфологии
	 - одного из з
	начимых фено
	менов XX век
	аВ. М. М
	олотов в
	 Париже подт
	вердил\, что СС
	СР в плане М
	аршалла учас
	твовать не б
	удет.1947 —
	 на экр
	аны вы
	шла му
	зыкал
	ьная 
	коме
	дия р
	ежис
	сёра
	 Григ
	ория 
	Алекс
	андрова
	 «Весна»
	 с Любовью
	 Орловой 
	и Николае
	м Черкасовы
	м в главных
	 ролях. В фил
	ьме также сн
	имались Фаи
	на Раневская
	\, Ростислав
	 Плятт\, Рина З
	елёная\, бле
	стяще сыгр
	авшие второсте
	пенных персонаже
	й.1948 — первый п
	олёт летающей 
	лодки Бе-6.196
	4 — посл
	е длительн
	ых дебато
	в в сенате
	 США прези
	дент Линдо
	н Джонсон 
	подписал А
	кт о гражд
	анских правах
	\, предложенны
	й его предшеств
	енником Д. Ф. 
	Кеннеди в 1963
	 году. Вступ
	ивший в си
	лу закон фо
	рмально поло
	жил конец дис
	криминации н
	а основе расовы
	х\, религиозн
	ых\, половых 
	или национ
	альных при
	знаков.196
	5 — Фра
	нция об
	ъявила о
	 бойкоте в
	сех заседа
	ний Европей
	ского эконо
	мического с
	ообщества кроме
	 тех\, на которы
	х будут реша
	ться рабочие в
	опросы.1970 — 
	открыт Пле
	нум Центра
	льного Ком
	итета КПСС\
	, который 
	принял П
	остановление
	 «Очередные з
	адачи партии
	 в области се
	льского хозя
	йства».1976В
	 США при 
	рассмотре
	нии дела «
	Грегг против
	 штата Джордж
	ия» Верховный
	 суд вынес пост
	ановление о т
	ом\, что нак
	азание в
	 виде с
	мертн
	ой каз
	ни не
	 прот
	ивор
	ечит
	 кон
	сти
	туц
	ии.
	Вос
	сое
	дин
	ени
	е Се
	верн
	ого и 
	Южного
	 Вьетн
	ама и
	 обра
	зован
	ие Со
	циалис
	тическ
	ой Рес
	публик
	и Вьет
	нам. С
	толиц
	а Сай
	гон пе
	реимен
	ована в
	 Хошими
	н.В Киеве о
	ткрылся памя
	тник жертвам ф
	ашистского расстрел
	а в Бабьем Яру.1990 — н
	ачал свою работу XXVIII съезд КПСС\, п
	оследний в истории партии.
DTSTART;VALUE=DATE:20150701
END:VEVENT
END:VCALENDAR
