BEGIN:VCALENDAR
VERSION:2.0
PRODID:-//IP.Board Calendar 4.0.13.1//EN
METHOD:PUBLISH
CALSCALE:GREGORIAN
X-WR-CALNAME:В этот день в прошлом
BEGIN:VTIMEZONE
TZID:Europe/London
TZURL:http://tzurl.org/zoneinfo/Europe/London
X-LIC-LOCATION:Europe/London
BEGIN:DAYLIGHT
TZOFFSETFROM:+0000
TZOFFSETTO:+0100
TZNAME:BST
DTSTART:20150329T020000Z
RRULE:FREQ=YEARLY;BYMONTH=3;BYDAY=-1SU
END:DAYLIGHT
BEGIN:STANDARD
TZOFFSETFROM:+0100
TZOFFSETTO:+0000
TZNAME:GMT
DTSTART:20151025T020000Z
RRULE:FREQ=YEARLY;BYMONTH=10;BYDAY=-1SU
END:STANDARD
END:VTIMEZONE
BEGIN:VEVENT
SUMMARY:Развилки Дня
DTSTAMP:20150630T090436Z
SEQUENCE:0
UID:afb73f36a160bd2c33eb166f4103b025@172.17.0.3
ORGANIZER;CN="ясмин джакмич":fai@fai.org.ru
DESCRIPTION:\n3 июляДо XI
	X века964 
	— Древ
	нерусское
	 государст
	во одержал
	о победу в 
	войне с 
	Хазарск
	им каган
	атом.987 
	— Гуг
	о Капет
	 в собо
	ре горо
	да Нуа
	йон ко
	ронован 
	королём Фр
	анции. Зак
	ончилась э
	поха правле
	ния династи
	и Каролингов
	.1528 — Папа 
	Римский Клим
	ент VII специ
	альной бул
	лой узакони
	л орден мон
	ахов-капуцино
	в\, главная це
	ль которог
	о — борьб
	а с идеями
	 Реформа
	ции.1608
	 — ф
	ранц
	узск
	им иссл
	едовател
	ем Сэмуэ
	лем де Шам
	плейном осн
	ован канадски
	й город Квебек
	.1648 — из Колы
	мы вышли в море 
	и повернули на 
	восток семь к
	очей с экипа
	жем из 90 ч
	еловек. В
	озглавля
	л экспедиц
	ию холмого
	рец Федот А
	лексеевич П
	опов\, прик
	азчик богат
	ого купца Ва
	силия Усова.
	 Ответственн
	ым сборщиком
	 ясака (подати
	\, взимавшейс
	я соболями) 
	был утверж
	дён казак 
	Семён Дежнёв
	. Во время до
	лгого плаван
	ия несколько 
	кораблей пог
	ибли\, Попов буд
	ет сначала ранен
	 в стычке с «чук
	очьими людьми»\,
	 а позже на мо
	ре его коч и
	 дежневский
	 разнесло бе
	з вести. Дежн
	ев благополу
	чно завершил
	 плавание и с
	тал первым чел
	овеком\, прош
	едшим из Се
	верного Лед
	овитого в Ти
	хий океан\, доказ
	ав существование
	 пролива между А
	зией и Америко
	й.XIX век1835 — з
	аложено г
	лавное зд
	ание Пул
	ковской об
	серватории.
	1841 — анг
	лийский аст
	роном Джон 
	Адамс объяв
	ил об открыт
	ии им планет
	ы Нептун.186
	3 — трети
	й день сра
	жения при Г
	еттисберге
	. Атака Пик
	етта\, Атака К
	илпатрика под
	 Геттисбергом
	\, Сражение при Фэи
	рфилде.1879 — на проход
	ящем в Воронеже со 2 п
	о 6 июля (20—24 июня п
	о ст. ст.) съе
	зде партии 
	«Земля и во
	ля» произ
	ошёл раско
	л между враж
	дующими течени
	ями по вопросу о
	 политическом т
	ерроре\, в част
	ности\, о цар
	еубийстве. В
	 результате
	 после съезд
	а были образова
	ны две новые па
	ртии: «Чёрный
	 передел» и «Н
	ародная воля
	».1880 — вед
	ущие евро
	пейские с
	траны и 
	США подпис
	али Марокк
	анскую ко
	нвенцию 
	о призна
	нии незав
	исимости 
	Марокко.188
	6 — Карл
	 Бенц из 
	Мангейма
	 совершил п
	ервый в мир
	е выезд на ав
	томобиле собствен
	ной конструкции\,
	 достигнув скоро
	сти в 16 км/ч.
	1897 — в 
	резу
	льта
	те м
	ног
	оча
	совы
	х об
	суж
	ден
	ий 
	в р
	ест
	ора
	не 
	«Сл
	авя
	нски
	й баз
	ар» Ста
	ниславский
	 и Немирови
	ч-Данченко р
	ешили создать н
	ародный театр.XX
	 век1917 — в 
	США отмен
	ено положе
	ние о том\,
	 что смо
	тровыми 
	офицерами на
	 американских 
	кораблях могу
	т быть только 
	граждане США.192
	8 — в продаже по
	явились первы
	е телевизоры.
	 Стоили они 7
	5 долларов.1
	936 — пос
	тановле
	нием Со
	вета наро
	дных коми
	ссаров соз
	дана ГАИ.1940 
	— Присоед
	инение Бесс
	арабии и Се
	верной Буков
	ины к СССР.1941
	 — радиоо
	бращение С
	талина к 
	советско
	му народу
	.1944 — 
	в х
	од
	е о
	пер
	аци
	и «
	Баг
	ратион
	» войс
	ками Р
	ККА от
	 фашист
	ских за
	хватчик
	ов освобо
	ждён горо
	д Минск.1
	948 — Алба
	ния потре
	бовала по
	кинуть стр
	ану всех г
	раждан Юг
	ославии.1
	949 — «Э
	нола Ге
	й» — бо
	мбардиро
	вщик\, сб
	росивш
	ий атом
	ную бомбу
	 на Хиросим
	у\, — стал 
	экспонато
	м музея См
	итсоновск
	ого института.
	1953 — австр
	иец Герм
	ан Буль 
	первым п
	окорил Нанг
	а Парбат.1954
	 — в Вел
	икобрита
	нии отмен
	ена карто
	чная систе
	ма.1956Пре
	зидент
	 США Д
	уайт Эй
	зенхауэ
	р одобр
	ил прове
	дение ра
	зведывате
	льных полё
	тов самолё
	тов «У-2» н
	ад территор
	ией Советского
	 Союза. Первый 
	полёт состоялся на
	 следующий день\, и 
	они продолжались 
	до 1 мая 1960 год
	а\, когда с
	амолёт-
	развед
	чик бы
	л сбит
	 сове
	тской
	 раке
	той п
	одСве
	рдлов
	ском.Пра
	вительств
	о Польши 
	разрешило 
	эмиграцию
	 польских 
	евреев в 
	Израиль.1
	958 — на
	чались х
	одовые ис
	пытания п
	ервой советс
	кой атомной 
	подводной ло
	дки К-3 «Лен
	инский ко
	мсомол».1960
	 — конг
	ресс США
	 ввёл за
	прет на
	 импор
	т кубинс
	кого саха
	ра.1962 —
	 Франц
	ия пров
	озгласил
	а незави
	симость Алж
	ира\, поскол
	ьку на ре
	ферендуме за 
	это решение выс
	казались 75 пр
	оцентов прог
	олосовавших (
	1 июля). Временно
	е правительс
	тво Алжира в 
	изгнании ве
	рнулось в стр
	ану.1964 — в
	 США приня
	т Закон о гра
	жданских пр
	авах\, запр
	ещающий р
	асовую сегр
	егацию.1966 
	— на ато
	лле Муру
	роа (Франц
	узская Пол
	инезия) про
	ведено пер
	вое испыт
	ание ядер
	ного оруж
	ия. Посл
	е поте
	ри пол
	игона 
	в Саха
	ре в ре
	зульта
	те обре
	тения 
	незави
	симости
	 Алжиром
	 атолл стал 
	главным ме
	стом прове
	дения фран
	цузских яде
	рных взрывов
	.1973 — в Х
	ельсинки
	 начало рабо
	ту Совещание п
	о безопасности
	 и сотрудниче
	ству в Европе
	 (СБСЕ). Чер
	ез два года 
	в столице
	 Финлянди
	и будет под
	писан Закл
	ючительный
	 акт.1976 —
	 в Бон
	не под
	писано
	 согла
	шение 
	о пост
	авке 
	Ирану
	 двух ато
	мных элек
	тростанций
	 западногерм
	анской фирмо
	й «Крафтверк
	унион».1980
	 — введ
	ена в де
	йствие
	 на пол
	ную мощно
	сть Зейс
	кая ГЭС —
	 первенец ги
	дроэнергет
	ики на Даль
	нем Востоке
	.1988 — Ира
	но-иракс
	кая войн
	а: в Пер
	сидско
	м залив
	е америка
	нский крейс
	ер «Винсеннес» 
	сбил иранский пасс
	ажирский самолёт
	 А300. Погибло 29
	8 человек.198
	9Представи
	тели Велик
	обритании о
	бъявили о том
	\, что жител
	ям Гонконга
	\, которые оп
	асаются пе
	рехода ко
	лонии под 
	юрисдикци
	ю Китая\, н
	е будет а
	втоматич
	ески пред
	оставлено
	 право на 
	жительств
	о в Велико
	британии.
	При рассм
	отрении д
	ела «Уэб
	стер пр
	отив от
	дела по
	 вопро
	сам ро
	ждаемо
	сти Уп
	равлен
	ия здрав
	оохранен
	ия» Верх
	овный су
	д США п
	оддержа
	л закон 
	штата 
	Миссури
	\, запр
	ещающ
	ий го
	суда
	рстве
	нным б
	ольниц
	ам и др
	угим учре
	ждениям зд
	равоохране
	ния делать 
	аборты во вс
	ех случаях кр
	оме тех\, когда
	 эта операци
	я необходим
	а для сохран
	ения жизни 
	матери.199
	1 — Верхо
	вный Совет
	 РСФСР приня
	л законы о п
	реобразован
	ии Адыгейско
	й\, Карачаев
	о-Черкесско
	й\, Горно-Ал
	тайской и Х
	акасской 
	автономных
	 областей в
	 республик
	и в составе
	 РСФСР (Ре
	спублика
	 Адыгея\
	, Карач
	аево-Ч
	еркес
	ская Респу
	блика\, Ре
	спублика
	 Алтай и
	 Республ
	ика Хака
	сиясоотве
	тственно).1996 — Борис Е
	льцин избран президентом РФ на втор
	ой срок.
DTSTART;VALUE=DATE:20150702
END:VEVENT
END:VCALENDAR
