BEGIN:VCALENDAR
VERSION:2.0
PRODID:-//IP.Board Calendar 4.0.13.1//EN
METHOD:PUBLISH
CALSCALE:GREGORIAN
X-WR-CALNAME:В этот день в прошлом
BEGIN:VTIMEZONE
TZID:Europe/London
TZURL:http://tzurl.org/zoneinfo/Europe/London
X-LIC-LOCATION:Europe/London
BEGIN:DAYLIGHT
TZOFFSETFROM:+0000
TZOFFSETTO:+0100
TZNAME:BST
DTSTART:20150329T020000Z
RRULE:FREQ=YEARLY;BYMONTH=3;BYDAY=-1SU
END:DAYLIGHT
BEGIN:STANDARD
TZOFFSETFROM:+0100
TZOFFSETTO:+0000
TZNAME:GMT
DTSTART:20151025T020000Z
RRULE:FREQ=YEARLY;BYMONTH=10;BYDAY=-1SU
END:STANDARD
END:VTIMEZONE
BEGIN:VEVENT
SUMMARY:Развилки Дня
DTSTAMP:20150630T091556Z
SEQUENCE:0
UID:807d59d0cf1a58aa7ef797b398126e07@172.17.0.3
ORGANIZER;CN="ясмин джакмич":fai@fai.org.ru
DESCRIPTION:\n4 июляДо XI
	X века1054
	 — 
	всп
	ышк
	а св
	ерхн
	овой
	 звезды
	 в созвез
	дии Тельц
	а\, резуль
	тат кото
	рой — Кр
	абовидная 
	туманност
	ь.1631 — в 
	Париже отк
	рылось пер
	вое агентс
	тво по за
	нятости — адр
	есное бюро.177
	6 — подпис
	ана Деклар
	ация независи
	мости США.178
	4 — импе
	ратор С
	вященно
	й Римско
	й Импери
	и Иосиф 
	II аннул
	ировал ко
	нституцию Венг
	рии и повелел пе
	ревезти венгерск
	ую корону в Вену.XI
	X век1817 — в С
	ША начато
	 сооружение 
	канала Эри\
	, соединяю
	щего одно
	имённое оз
	еро с рек
	ой Гудзон.
	1819 — из К
	ронштадта
	 в кругосве
	тное плаван
	ие отправили
	сь шлюпы «В
	осток» и «М
	ирный». Во вр
	емя этой эк
	спедиции б
	ыл открыт 
	«шестой» к
	онтинент.
	1848 — вп
	ервые опуб
	ликован «М
	анифест ком
	мунистическ
	ой партии» К
	арла Маркса
	.1855 — вышл
	о первое изд
	ание сборник
	а стихов Уол
	та Уитмена «Л
	истья травы»
	.1862 — во в
	ремя пик
	ника Чарль
	з Доджсон 
	начал расс
	казывать Ал
	исе Лидделл 
	историю о дев
	очке\, побежа
	вшей вслед 
	за кроликом в
	 Страну чудес
	. Десятилетняя
	 девочка стал
	а настаивать\,
	 чтобы он за
	писал всю 
	историю. 
	Доджсон 
	последова
	л совету и
	 под именем
	 Льюиса Кэрр
	олла написал 
	книжку «Алиса 
	в Стране чудес». 
	Ровно через 3 г
	ода вышло пе
	рвое издани
	е книги.1874 —
	 построен пе
	рвый посто
	янный мост
	 через Мисс
	исипи.1878 —
	 введение в
	 России ин
	ститута 
	урядников
	 (нижние чины
	 уездной полиц
	ии\, ближайш
	ие помощники 
	становых прис
	тавов).1886В 
	Нью-Йорк пр
	ибыла статуя
	 Свободы\, ко
	торая торже
	ственно от
	кроется 26 
	октября
	.В горо
	дке Пр
	ескотт
	 (штат 
	Аризон
	а) аме
	рикан
	ский к
	овбой
	 и шоу
	мен Уи
	льям Буффал
	о Билл Коди 
	продемонст
	рировал пер
	вое соревно
	вание по ро
	део.1894 —
	 вопрек
	и сопр
	отивлению
	 монархистов 
	провозглаше
	на республи
	ка на Гавай
	ских острова
	х.XX век1903
	 — пр
	езиден
	т Рузвель
	т торжеств
	енно объявил о
	б открытии ти
	хоокеанской ли
	нии связи\, разо
	слав по кабелю\
	, проложенному п
	о дну Тихого ок
	еана\, сообщ
	ения по вс
	ему миру.
	1906 — 
	Вели
	кобрита
	ния\, Фран
	ция и Ита
	лия выступ
	или гаранта
	ми независи
	мости Эфиоп
	ии.1918 — в га
	зете «Воль
	ность» пом
	ещена заме
	тка «Освоб
	ождение Купр
	ина». В нача
	ле весны пи
	сатель был 
	арестован 
	органами ВЧК з
	а публикацию 
	статьи в защ
	иту великого
	 князя Михаи
	ла.1920 — сп
	ектаклем «
	Маугли» отк
	рылся Первый 
	Государственны
	й театр для детей
	\, созданный то
	гда 17-летней На
	тальей Сац.19
	41 — резн
	я львовск
	их профес
	соров.19
	46Кёнигс
	берг пер
	еименован
	 в Калинин
	град.Призн
	ана независ
	имость Филиппин.1
	957 — первый полё
	т пассажирского 
	самолёта Ил-18.
	1958На атомно
	й подводн
	ой лодке 
	К-3 «Лени
	нский к
	омсомол
	» впервы
	е запущен ато
	мный реактор
	.Харьковский тр
	акторный завод
	 выпустил свой
	 500-тысячный
	 трактор.19
	59 — Ямай
	ка получил
	а право вну
	треннего самоу
	правления\, ост
	аваясь в составе 
	Вест-Индской Федер
	ации.1960 — на фл
	аге США прибавл
	ена 50-я звезда в 
	честь присоед
	инение Гавайс
	ких островов.
	1961Открытие 
	7-го Всеар
	мейского
	 совещан
	ия комсомольск
	их работников.А
	вария на советс
	кой атомной субм
	арине К-19.1966 —
	 «Битлз» вызв
	али скандал н
	а Филиппинах
	\, не прибыв 
	на приём\, орга
	низованный жен
	ой президента ст
	раны Имельдой Марко
	с. (P/S лично я после
	 того как узнал о
	б этом\, стал
	 еще больш
	е уважать
	 Битлов)
	1969Ди
	кта
	тор
	 Ис
	пани
	и ге
	нерал
	 Фран
	ко пр
	едложил в
	сем жител
	ям Гибра
	лтара св
	ободно п
	ринять и
	спанское
	 гражданс
	тво.1972 —
	 в Пхенья
	не и Сеуле
	 опубликов
	ано совмест
	ное заявлени
	е Севера и Ю
	га\, подп
	исанно
	е в ре
	зульт
	ате пе
	регов
	оров м
	ежду 
	офици
	альны
	ми пре
	дстави
	телями
	 КНДР и
	 Южной Кор
	еи и опреде
	ляющее осно
	вные принци
	пы мирного
	 объединен
	ия Кореи.1975 
	— остров
	а Кабо-Ве
	рде обре
	ли незав
	исимость
	 от Порт
	угалии.1
	976 — О
	перац
	ия «Э
	нтеб
	бе»:
	изр
	аиль
	ские 
	спецсл
	ужбы о
	свобод
	или зал
	ожников в
	 угандийс
	ком аэропорт
	у Энтеббе.В ходе 
	перестрелки были уб
	иты 5 израильтян\,6 тер
	рористов и 23 уган
	дийца.101 залож
	ник был спа
	сён.1986 —
	 презид
	ент СШ
	А Рональд Р
	ейган в присутствии п
	резидента Франции Франсуа Миттерана (Fra
	n?ois Maurice Adrien Marie Mitterrand) тор
	жественно отк
	рыл после рек
	онструкции Стат
	ую Свободы в Нью-
	Йорке.1989 — пило
	т самолёта МиГ-
	23 ВВС СССР\, взл
	етевшего в Пол
	ьше\, катапульт
	ировался на 41-й 
	секунде полёт
	а\; неуправляемы
	й самолёт пролет
	ел 900 км и упал в Бельгии
	 после того\, как у него кончилось топлив
	о.
DTSTART;VALUE=DATE:20150703
END:VEVENT
END:VCALENDAR
