BEGIN:VCALENDAR
VERSION:2.0
PRODID:-//IP.Board Calendar 4.0.13.1//EN
METHOD:PUBLISH
CALSCALE:GREGORIAN
X-WR-CALNAME:В этот день в прошлом
BEGIN:VTIMEZONE
TZID:Europe/London
TZURL:http://tzurl.org/zoneinfo/Europe/London
X-LIC-LOCATION:Europe/London
BEGIN:DAYLIGHT
TZOFFSETFROM:+0000
TZOFFSETTO:+0100
TZNAME:BST
DTSTART:20150329T020000Z
RRULE:FREQ=YEARLY;BYMONTH=3;BYDAY=-1SU
END:DAYLIGHT
BEGIN:STANDARD
TZOFFSETFROM:+0100
TZOFFSETTO:+0000
TZNAME:GMT
DTSTART:20151025T020000Z
RRULE:FREQ=YEARLY;BYMONTH=10;BYDAY=-1SU
END:STANDARD
END:VTIMEZONE
BEGIN:VEVENT
SUMMARY:Развилки Дня
DTSTAMP:20150630T092351Z
SEQUENCE:0
UID:aabf30f64cea3fa95660109450fdc443@172.17.0.3
ORGANIZER;CN="ясмин джакмич":fai@fai.org.ru
DESCRIPTION:\n5 июляДо XIX 
	века1687
	 — оп
	убликова
	ны «Матема
	тические н
	ачала натур
	альной фило
	софии» Исаака
	 Ньютона.1701 — 
	захваченный в 
	плен кормщик 
	Иван Рябов\, з
	аведя на м
	ель шведскую 
	эскадру\, со
	рвал попы
	тку захва
	та город
	а Арханг
	ельска.1710 
	— возле 
	Санкт-Пет
	ербурга 
	основана р
	езиденция 
	 Царское С
	ело.1748 —
	 учёный
	 Михаи
	л Ломо
	носов 
	в пись
	ме к м
	атем
	атику
	 Леон
	арду Эйлер
	у впервые 
	сформулиров
	ал закон со
	хранения м
	атерии и д
	вижения.1
	770 — с 
	боя в Х
	иосско
	м проли
	ве началос
	ь Чесменское 
	сражение меж
	ду российским 
	и турецким фло
	том.XIX век18
	11 — Ве
	несуэла
	 первой
	 из испанск
	их колоний 
	в Южной Ам
	ерике пров
	озгласила с
	вою независимо
	сть.1829 — к за
	паду от Ура
	ла нашли первы
	й в России алм
	аз.1831 — холе
	рный бунт 
	в Санкт-
	Петербур
	ге.1841 — анг
	личанин 
	Томас Кук
	 открыл 
	первое 
	туристич
	еское аге
	нтство.18
	65 — в Лон
	доне осн
	ована бл
	аготвори
	тельная о
	рганизаци
	я «Армия спасен
	ия».1884 — Герм
	ания объявил
	а протекторат 
	над Того.XX в
	ек1915 — австр
	ийцы взломал
	и секретный
	 «Красный ши
	фр» итальян
	ской армии
	.1917 — В
	ременное
	 правите
	льство Р
	оссии по
	становил
	о расфор
	мировать
	 воинские
	 части\, прин
	явшие участ
	ие в июльс
	ких демон
	страциях 
	в Петрогра
	де.1918 — 
	На съе
	зде в Е
	катери
	нодаре
	 провозглаш
	ено создани
	е Северо-Ка
	вказской р
	еспублики 
	в составе Р
	СФСР.1919 —
	 организация
	 ирландских 
	националист
	ов «Шинн Фе
	йн» объявле
	на вне зако
	на.1920 — неме
	цкая земля
	 Шлезвиг пе
	редана под упр
	авление Дании.
	1921 — в сове
	тской Рос
	сии принят
	 декрет\, п
	озволяющий 
	сдачу государ
	ственных пре
	дприятий в 
	аренду ча
	стным лиц
	ам.1922 — в Рио
	-де-Жанейро
	 началось во
	сстание тенен
	тистов (от пор
	т. tenente — «л
	ейтенант»): 
	демократи
	чески наст
	роенных м
	олодых ар
	мейских о
	фицеров.1
	924 — в 
	Париже
	 состоялась
	 торжествен
	ная церемо
	ния откры
	тия Восьм
	ых Олимпи
	йских игр
	.1940Швеци
	я разр
	ешила Г
	ермании
	 использ
	овать шв
	едские же
	лезные д
	ороги дл
	я перево
	зки солд
	ат в Норв
	егию.През
	идент США
	 Ф. Рузвельт 
	наложил эмбар
	го на поставк
	у в Америку я
	понских то
	варов.1941
	 — немцами
	 интерниро
	ван глава 
	украински
	х национал
	истов Степ
	ан Бандера.1
	942 — будущ
	ий писатель Я
	н Флеминг с 
	отличием ок
	ончил школу 
	для шпионов
	 в Канаде.1943 
	— Великая 
	Отечественна
	я война: начало Кур
	ской битвы.1946 — француз
	ский модельер Луи Реа
	рд (Louis R?ard) впервые
	 представил
	 купальник-бик
	ини.1954Вышел п
	ервый выпуск т
	елевизионных новостей Би-
	Би-Си. Их ведущий Ричард Б
	ейкер (Richard Baker) устано
	вил рекорд: он чит
	ал новости на протяж
	ении 28 лет — с 195
	4 г. по Рождество 19
	82 г.Элвис Пресли записал с
	вою первую песню — That'
	s All Right.1958 — ам
	ериканска
	я экспедиция со
	вершила первое во
	схождение на Гашербрум 
	I (Хидден-пик)\, 11-ю п
	о высоте верш
	ину мира[2].
	1959 — д
	екре
	том пре
	зидента 
	Индонезии А
	хмеда Сукарно
	 была восстан
	овлена Консти
	туция 1945 го
	да\, в соо
	тветстви
	и с котор
	ой прези
	дент над
	елялся 
	значите
	льными 
	полномо
	чиями. Одн
	овременно 
	было распущ
	ено индоне
	зийское Уч
	редительное
	 собрание.1961
	 — ударил 
	мощный фон
	тан нефти 
	на скважин
	е № 6 в Ж
	етыбае. С э
	того моме
	нта считае
	тся год о
	ткрытии 
	Мангыста
	уской нефти.
	1978 — КГБ СС
	СР выведен
	 из подчин
	ения Сове
	ту Министров 
	СССР.1994 — в 
	Китае запре
	щено использо
	вание детског
	о труда.1995 
	— песня «
	Моя Москва»
	 принята в
	 качестве 
	официальног
	о гимна столицы
	 России.1999 — К
	уба предъявила С
	ША иск на сумму 18
	1 млрд долларов за
	 ущерб\, причинённый 40-летней эк
	ономической блокадой.
DTSTART;VALUE=DATE:20150704
END:VEVENT
END:VCALENDAR
