BEGIN:VCALENDAR
VERSION:2.0
PRODID:-//IP.Board Calendar 4.0.13.1//EN
METHOD:PUBLISH
CALSCALE:GREGORIAN
X-WR-CALNAME:В этот день в прошлом
BEGIN:VTIMEZONE
TZID:Europe/London
TZURL:http://tzurl.org/zoneinfo/Europe/London
X-LIC-LOCATION:Europe/London
BEGIN:DAYLIGHT
TZOFFSETFROM:+0000
TZOFFSETTO:+0100
TZNAME:BST
DTSTART:20150329T020000Z
RRULE:FREQ=YEARLY;BYMONTH=3;BYDAY=-1SU
END:DAYLIGHT
BEGIN:STANDARD
TZOFFSETFROM:+0100
TZOFFSETTO:+0000
TZNAME:GMT
DTSTART:20151025T020000Z
RRULE:FREQ=YEARLY;BYMONTH=10;BYDAY=-1SU
END:STANDARD
END:VTIMEZONE
BEGIN:VEVENT
SUMMARY:Развилки Дня
DTSTAMP:20150707T072944Z
SEQUENCE:0
UID:bb9930df7817aa8c80f8cc28e4038932@172.17.0.3
ORGANIZER;CN="ясмин джакмич":fai@fai.org.ru
DESCRIPTION:\n7 июля1438 —
	 французский
	 король Карл
	 VII провозг
	ласил Пра
	гматическу
	ю санкцию\,
	 по котор
	ой утверждал
	ся приоритет 
	королевской
	 власти над
	 властью п
	апы римск
	ого.1445 — в
	 битве 
	у Суз
	даля 
	войско
	 татар
	ских царе
	вичей Мах
	муда и Яку
	ба\, сынов
	ей казанс
	кого хана
	 Улу-Мухам
	меда\, нагол
	ову разбило р
	ать великого кн
	язя Московского
	 Василия II Тёмног
	о\, который был п
	ленён\, а вел
	икое княжение
	\, в соответс
	твии с древни
	м порядком н
	аследования
	\, перешло 
	к Дмитрию Ше
	мяке.1668 — 
	Исаак Нью
	тон получ
	ил степень 
	магистра н
	аук.1754 — 
	в Нью-Йор
	ке открылся
	 Королевский
	 колледж (ныне
	 Колумбийски
	й университе
	т).1770 — п
	обеда 
	русск
	ого ф
	лота 
	под к
	оман
	дованием
	 адмирала Сп
	иридова в Чесменс
	кой битве в русско
	-турецкой войне 176
	8—1774 гг..17
	84 — первы
	й в Австрии
	 пилотируе
	мый полёт н
	а аэроста
	те соверш
	ил Й. Стув
	ер.1807 
	— з
	акл
	юче
	ние 
	Тильзитс
	кого мира
	 между Ро
	ссийской и
	мперией и 
	наполеоно
	вской Франци
	ей.1835 — в Р
	оссии ре
	зко огра
	ничена авто
	номия унив
	ерситетов\, 
	все руков
	одство — в 
	руках попеч
	ителей.1846 
	— США об
	ъявили об анн
	ексии Калифо
	рнии\, котор
	ая тогда бы
	ла частью Ме
	ксики.1881 — 
	первая публика
	ция сказки «Пи
	ноккио» (Рим\, «
	Журнал для 
	детей»).1891 
	— компан
	ия «Амер
	икан Экс
	пресс» 
	запате
	нтовала 
	дорожные че
	ки\, послуж
	ившие про
	образом с
	овременн
	ых креди
	тных карт
	.1898 — конгр
	есс США пр
	инял резо
	люцию об
	 аннекси
	и Гавайс
	ких остро
	вов.1906
	 — пер
	вые в 
	Велик
	обрита
	нии оф
	ициальные
	 соревнов
	ания возду
	хоплавателей
	\, организован
	ные Аэроклубо
	м. В состязани
	ях приняли уча
	стие 7 аэростат
	ов\, которые по
	днялись в возд
	ух с площадок Р
	инлаг-клуба в Ба
	рн Элмсе (Лондон). Победителе
	м стал Франк Хеджес Батлер (Fr
	ank Hedges Butler)1920 — в А
	нтверпене
	 начались 
	VII Летние Оли
	мпийские игры (
	официальная цер
	емония открытия с
	остоялась 14 авг
	уста).1921 — в
	 советской
	 России в
	 рамках 
	НЭпа ра
	зрешено соз
	давать частные 
	предприятия с
	 численностью
	 работающих б
	олее 20 человек.1
	923Образована
	 Нагорно-Ка
	рабахская авт
	ономная облас
	ть.1925 — Сенат 
	Южной Африки
	 отклонил За
	кон о расов
	ой дискрим
	инации.193
	2 — ле
	нингра
	дский на
	учно-исс
	ледоват
	ельский 
	институт
	 молочной
	 промышлен
	ности впервые 
	в стране разра
	ботал способ 
	переработки м
	олока в порошо
	к.1937Инцидент 
	на мосту Лу
	гоуцяо (мост
	у Марко Поло)
	 недалеко о
	т Пекина\, 
	Китай. Нап
	адение я
	понских 
	войск н
	а кита
	йский
	 гарни
	зон с
	тало 
	начал
	ом кру
	пномасш
	табной 
	агресси
	и Японии
	 против К
	итая и по
	служило е
	щё одним 
	шагом к 
	началу 
	Второй 
	мировой
	 войны.
	Специа
	льная 
	Корол
	евска
	я коми
	ссия 
	предлож
	ила анг
	лийскому
	 правител
	ьству раз
	делить Пал
	естину на бр
	итанскую\, е
	врейскую и
	 арабскую
	 территории\,
	 которая п
	озже долж
	на присое
	диниться 
	к Трансиор
	дании.1938 
	— в Лени
	нграде о
	пытным те
	лецентро
	м показан
	 в эфире д
	вухчасово
	й концерт.
	 Это — пер
	вая в СССР
	 телевизио
	нная переда
	ча.1944 — В
	торая мир
	овая вой
	на: Арм
	ия Край
	ова нач
	ала опера
	цию «Острая
	 брама» по 
	освобожде
	нию Вильны 
	от немецкой
	 оккупации.1
	949 — ленин
	градский 
	суд пригов
	орил трёх 
	публицисто
	в журналов 
	«Звезда» и
	 «Ленинград» к
	 десяти годам
	 тюрьмы каж
	дого за «а
	нтисовет
	ские статьи
	».1950 — в 
	английс
	ком Фар
	нборо со
	стоялось п
	ервое авиаш
	оу. Ныне возд
	ушные праздн
	ики в Фарнбо
	ро стали од
	ним из самых п
	рестижных в
	 мире пока
	зов совре
	менной ав
	иатехник
	и.1953 — 
	на Пл
	енуме
	 ЦК КПСС 
	завершило
	сь слушан
	ие дела м
	аршала Лав
	рентия Павл
	овича Берия
	.1956Бундес
	тагом 
	ФРГ при
	нят зако
	н о всеобщ
	ей воинск
	ой обязанно
	сти.Австрийс
	кие альпинис
	ты Фриц Морав
	ек\, Ганс Вилленпар
	т\, Зепп Ларх перв
	ыми поднялись на
	 Гашербрум II.19
	70 — подписа
	н Договор 
	о дружбе\, со
	трудничест
	ве и взаимно
	й помощи м
	ежду ССС
	Р и Румын
	ией.1980 — пе
	рвый перел
	ёт через Ла
	-Манш самол
	ета на сол
	нечных бата
	реях.1987 — н
	ачался суд
	 над тремя 
	руководителя
	ми Чернобыльс
	кой АЭС\, кот
	орых обвин
	или во взры
	ве.1989 — н
	а совещ
	ании в Б
	ухарест
	е Михаил
	 Горбачёв
	 заявил о пр
	аве социали
	стических с
	тран на собс
	твенный пут
	ь развития.1
	990 — в Р
	име вп
	ервые 
	выступи
	ли вмес
	те три 
	выдаю
	щихся 
	тенора
	 соврем
	енности 
	— Лучано
	 Паваротт
	и\, Пласид
	о Доминго и
	 Хосе Карре
	рас. Концерт
	 был благот
	ворительно
	й акцией\, а
	 запись в
	ыступлен
	ия певцов раз
	ошлась рекорд
	ным тиражом в 
	истории клас
	сической музы
	ки.1997Девятая по объёму 
	продаж компания рознич
	ной торговли «Montgom
	ery Ward» объя
	вила о банкротстве
	.Разрушительное наводнение в Ц
	ентральной Европе. \n
DTSTART;VALUE=DATE:20150706
END:VEVENT
END:VCALENDAR
