BEGIN:VCALENDAR
VERSION:2.0
PRODID:-//IP.Board Calendar 4.0.13.1//EN
METHOD:PUBLISH
CALSCALE:GREGORIAN
X-WR-CALNAME:В этот день в прошлом
BEGIN:VTIMEZONE
TZID:Europe/London
TZURL:http://tzurl.org/zoneinfo/Europe/London
X-LIC-LOCATION:Europe/London
BEGIN:DAYLIGHT
TZOFFSETFROM:+0000
TZOFFSETTO:+0100
TZNAME:BST
DTSTART:20150329T020000Z
RRULE:FREQ=YEARLY;BYMONTH=3;BYDAY=-1SU
END:DAYLIGHT
BEGIN:STANDARD
TZOFFSETFROM:+0100
TZOFFSETTO:+0000
TZNAME:GMT
DTSTART:20151025T020000Z
RRULE:FREQ=YEARLY;BYMONTH=10;BYDAY=-1SU
END:STANDARD
END:VTIMEZONE
BEGIN:VEVENT
SUMMARY:Развилки Дня
DTSTAMP:20150707T074133Z
SEQUENCE:0
UID:1f59c744dd99a71964e52b26a2d526bb@172.17.0.3
ORGANIZER;CN="ясмин джакмич":fai@fai.org.ru
DESCRIPTION:\n6 июляДо XVIII ве
	ка1325 — Гр
	анада. Мухам
	мад ибн Исмаил
	 приказывает 
	убить своег
	о двоюродного
	 брата\, Исмаила
	 I. Новым правит
	елем Гранады
	 стал Мухаммад 
	IV\, слишком юный\
	, чтобы приним
	ать ответст
	венные решени
	я.1415 — сожжён
	 на костре л
	идер чешск
	их протес
	тантов Ян
	 Гус.1439 — Па
	па Римский
	 Евгений I
	V и византи
	йский импе
	ратор Иоан
	н VIII подпи
	сали Флорен
	тийскую ун
	ию\, создавшую
	 грекокатолическ
	ую церковь.1483 — к
	оронован Ричар
	д III Английский
	.1535 — по обв
	инению в г
	осударстве
	нной измене к
	азнён английс
	кий гуманист\
	, лорд-канцлер
	 Томас Мор\, п
	озже причис
	ленный к ли
	ку католич
	еских святых
	.1609 — импе
	ратор Свящ
	енной Римск
	ой империи
	 Рудольф II
	 издал Гр
	амоту величе
	ства\, гарант
	ирующую рел
	игиозную с
	вободу чеш
	ским сослови
	ям.1658 — цар
	ские слуги
	 избили пос
	ланника пат
	риарха Никона\, 
	что стало начал
	ом разрыва ца
	ря с главой 
	русской ц
	еркви.16
	61 — на п
	равом б
	ерегу 
	Ангары
	 напрот
	ив усть
	я Ирку
	та основ
	ан Иркутск.1687 
	— Исаак Ньютон опубликовал 
	в Лондоне знаменитые «Philosofiae naturalis pri
	ncipia mathematika»\, соде
	ржащие из
	ложение сам
	ых блестящи
	х открытий авт
	ора в области пр
	икладной матем
	атики\, астрономи
	и и физики\, в том числ
	е и теорию всемирног
	о тяготения.XVIII в
	ек1710 — в М
	ейсене
	 (Саксо
	ния) соз
	дана пе
	рвая в
	 Европ
	е фарф
	оровая 
	мануфа
	ктура — Мей
	сенский фар
	фор.1785 — 
	Доллар с
	тал наци
	онально
	й валютой
	 США.178
	9 — Ф
	ранцу
	зское Н
	ационал
	ьное соб
	рание пр
	овозгласи
	ло себя Уч
	редительны
	м собранием и
	 заявило о суверен
	ности народа по 
	отношению к вл
	асти короля.XIX 
	век1809 — по
	 приказу 
	Наполеона п
	апа римский П
	ий VII похище
	н из Вати
	кана и вы
	везен в 
	Гренобль
	.1819 — 
	над П
	арижем
	 в корз
	ине возд
	ушного шар
	а вспыхнул
	 огонь и перек
	инулся на обо
	лочку. Горящи
	й шар упал на
	 крышу дома\,
	 пионер возду
	хоплавания г
	-жа Бланшар р
	азбилась1854
	 — в Джек
	соне (Мичи
	ган) прошёл 
	первый офи
	циальный с
	ъезд Респуб
	ликанской партии США.1
	863 — основан крупнейший 
	банк Франции «Cr?dit L
	yonnais».1880 — 
	Франц
	узским
	 прави
	тельст
	вом Пр
	инято п
	остано
	вление о п
	разднован
	ии Дня вз
	ятия Баст
	илии как
	 национа
	льного 
	праздник
	а. 1885 — 
	Луи Па
	стер у
	спешно
	 испытал 
	вакцину п
	ротив беше
	нства на 9-
	летнем мальчи
	ке Жозефе Мей
	стере\, кото
	рого укус
	ила бешеная с
	обака.1899 —
	 основание
	 порта Александр
	овск на Мурмане 
	(с 1933 года — посёлок П
	олярное\, с 1939 год
	а город Полярны
	й).XX век1905 — 
	впервые 
	службы п
	равопор
	ядка Амер
	ики и Ев
	ропы об
	менялись
	 отпечат
	ками па
	льцев п
	одозре
	ваемог
	о в прес
	туплени
	ях чело
	века. П
	олицей
	скиеЛон
	дона и Сент-
	Луиса перед
	али друг дру
	гу отпечатки
	 пальцев Джо
	на Уокера.19
	12В Стокг
	ольме от
	крылись V
	 Летние Ол
	импийские
	 игрыВ Росс
	ии впервые вв
	едено страхо
	вание рабоч
	их от несча
	стных слу
	чаев и боле
	зни.1918 — в
	 Москве 
	подняли 
	вооружённ
	ое восста
	ние левые 
	эсеры.1919
	 — первый 
	трансатла
	нтический п
	ерелёт дирижаб
	ля - британский ж
	есткий R34 благополу
	чно прибыл в Минеолу\
	, Штат Нью-Йорк чер
	ез 108 часов и 12
	 минут после
	 старта (под 
	командовани
	ем Джорджа Гербе
	рта Скотта\, в будущ
	ем первого и послед
	него командира R.1
	01)1923 — офи
	циально в
	ступили в 
	силу реше
	ние о соз
	дании ССС
	Р и Конст
	итуция СССР.
	 Созданы Сов
	ет Народных Ком
	иссаров СССР (Пр
	авительство) и 
	наркоматы (ми
	нистерства).
	1926 — в СССР
	 открыта пер
	вая электрифи
	цированная л
	иния железной 
	дороги (Баку-
	Сабунчи).192
	8 — в Мо
	скве завер
	шился один 
	из первых п
	олитическ
	их процес
	сов («Шах
	тинское дел
	о») по обви
	нению гор
	ных инжен
	еров Донбасс
	а в саботаже.192
	9 — морские и
	спытания л
	етающей л
	одки Ш-1 
	В. Б. Шавр
	ова.1933 
	— на
	чат а
	втопро
	бег Мо
	сква — 
	Каракумы
	 — Москва
	.1935 — Ле
	докол 
	«Садко»
	 начал 
	первую 
	советск
	ую аркт
	ическую 
	высокоши
	ротную эк
	спедицию
	 под руко
	водством
	 Н. Н. Зу
	бова и 
	Г. А. Уш
	акова в це
	лях исследо
	вания глубоко
	водных районов А
	рктического бас
	сейна (6 июля — 2
	7 сентября).193
	6 — на пар
	аде физку
	льтурников
	 в Москве в
	первые по
	явился лозун
	г «Спасибо то
	варищу Сталин
	у за наше счас
	тливое детст
	во».1939 — п
	ервый ре
	гулярный 
	рейс по дост
	авке авиапо
	чты винтокрылым 
	летательным аппаратом
	 (США). Полёт выполнял
	 автожир Kellett KD-
	1B авиаком
	пании «Ист
	ерн Эрлай
	нз»1941 —
	 Постано
	вление 
	ГКО СССР об
	 ответственн
	ости за распр
	остранение сл
	ухов и панике
	рство.1942 —
	 первый полёт с
	амолёта Як-7
	ДИ — прото
	тип серийного
	 истребителя 
	Як-9.1945В США
	 учреждена
	 Медаль Своб
	оды.В США на
	чата кампани
	я «Скрепка» п
	о поиску и пер
	еправке в Аме
	рику немецки
	х учёных (в пе
	рвую очередь\
	, ядерщиков)
	.Никарагуа стал
	а первой в ми
	ре страной\,
	 ратифицир
	овавшей Харт
	ию ООН.1950 
	— ГДР и 
	Польша под
	писали в Зг
	ожельце до
	говор\, с
	огласно 
	которо
	му гран
	ица ме
	жду д
	вумя 
	госу
	дарст
	вами у
	стана
	вливал
	ась по лин
	ии Одер —Нейсе
	. ФРГ признала не
	рушимость этой гр
	аницы лишь в 1970
	 году.1960 —
	 Велики
	м народ
	ным ху
	ралом 
	приня
	та новая с
	оциалист
	ическая Ко
	нституция Мо
	нгольской Наро
	дной Республик
	и.1961 — договор о
	 дружбе\, сотруд
	ничестве и вз
	аимной помощи
	 СССР с КНДР.
	1988 — в Северном м
	оре взорвалась и затону
	ла нефтяная платформа Pip
	er Alpha\, погибли 167 человек.
	 Это крупнейший из подобных инцидентов.
DTSTART;VALUE=DATE:20150705
END:VEVENT
END:VCALENDAR
