BEGIN:VCALENDAR
VERSION:2.0
PRODID:-//IP.Board Calendar 4.0.13.1//EN
METHOD:PUBLISH
CALSCALE:GREGORIAN
X-WR-CALNAME:В этот день в прошлом
BEGIN:VTIMEZONE
TZID:Europe/London
TZURL:http://tzurl.org/zoneinfo/Europe/London
X-LIC-LOCATION:Europe/London
BEGIN:DAYLIGHT
TZOFFSETFROM:+0000
TZOFFSETTO:+0100
TZNAME:BST
DTSTART:20150329T020000Z
RRULE:FREQ=YEARLY;BYMONTH=3;BYDAY=-1SU
END:DAYLIGHT
BEGIN:STANDARD
TZOFFSETFROM:+0100
TZOFFSETTO:+0000
TZNAME:GMT
DTSTART:20151025T020000Z
RRULE:FREQ=YEARLY;BYMONTH=10;BYDAY=-1SU
END:STANDARD
END:VTIMEZONE
BEGIN:VEVENT
SUMMARY:Развилки Дня
DTSTAMP:20150708T072521Z
SEQUENCE:0
UID:9caaceeedcb31ab283d1414b522af295@172.17.0.3
ORGANIZER;CN="ясмин джакмич":fai@fai.org.ru
DESCRIPTION:\n8 июля52 до н.
	 э. — приня
	тая дата о
	снования
	 Парижа.1
	492 — пе
	рвая м
	орская
	 экспед
	иция из Евр
	опы в Инди
	ю отплыла из
	 Лиссабона в
	о главе с Васко 
	да Гама.1573 —
	 Булонски
	м эдиктом 
	положен коне
	ц 4-летней 
	войне фр
	анцузски
	х католико
	в и гугенот
	ов.1618 — з
	а «околд
	ование» фр
	анцузской к
	оролевы была 
	казнена камер
	истка Марии Ме
	дичи.1659 — Бит
	ва под Конотопо
	м.1663 — англи
	йский корол
	ь объявил Х
	артию Род-Айле
	нду\, которая ост
	авалась консти
	туцией остров
	а вплоть до 1
	842 года.16
	86 — ав
	стрийски
	е войска осв
	ободили Буду от
	 турецкого владычес
	тва\, длившегося с 1
	541 года.1709 — Полт
	авская битва.1777
	 — Вермонт с
	тал 1-м штатом
	\, отменившим
	 рабство.17
	96 — госуда
	рственный де
	партамент СШ
	А выдал первы
	й паспорт гр
	ажданина США.
	1820 — франкф
	уртский се
	йм принял
	 Венский за
	ключитель
	ный акт\, 
	дополня
	вший кон
	ституци
	ю Германског
	о союза и п
	одтвержда
	вший сувер
	енитет нем
	ецких госуда
	рств.1833 — п
	одписан У
	нкяр-Искел
	есийский 
	договор о
	 мире\, дру
	жбе и оборо
	нительном 
	союзе межд
	у Россией 
	и Османской
	 империей.18
	53 — в Токий
	ском зали
	ве высад
	ился аме
	рикански
	й командо
	р Мэтью П
	ерри\, от
	 имени 
	США потр
	ебовавши
	й от Японии
	 до конца го
	да установит
	ь торговые отн
	ошения с Аме
	рикой. (всег
	да хотелось
	 чтобы в какой
	 нибудь тв-пос
	тановке его 
	сыграл актер Мэть
	ю Перри\, было 
	бы не лишено
	 портретног
	о сходства)
	)1901 — во 
	Франции в
	ведено ограниче
	ние скорости дв
	ижения автомоби
	лей в городах —
	 10 км/ч.1907 —
	 в Нью-Й
	орке пр
	ошло пер
	вое пре
	дставление
	 самого знаменитог
	о американского варьете перв
	ой половины XX века «Ziegfe
	ld Follies»\, организо
	ванного импр
	есарио Флоре
	нцем Зигфельдом.
	1916 — указ о мо
	билизации на
	 принудительн
	ые работы 400
	 тыс. жит
	елей Ту
	ркестана
	 и степны
	х областе
	й. Последо
	вавшее за
	 этим Массов
	ое восстание 
	казахских плем
	ён было жесток
	о подавлено.19
	22 — впервые
	 в мире на 
	бывшем Хо
	дынском аэ
	родроме прове
	дены опыты по п
	рименению авиац
	ии для борьбы с в
	редителями (sic!) се
	льского хозяйст
	ва (лётчик Н. П.
	 Ильзин).1944
	Указом Пр
	езидиума В
	ерховного 
	Совета ССС
	Р введено 
	почётное з
	вание «Мат
	ь-героиня»
	 и учрежде
	ны орден 
	«Матери
	нская сл
	ава» и 
	медаль 
	«Медал
	ь мате
	ринст
	ва».В
	ыпуск 
	первог
	о автомо
	биля на э
	вакуированном 
	в город Миасс
	 заводе «ЗИС» 
	(Заводе имени 
	И. В. Сталин
	а).1945 — в
	осстан
	овлена
	 после
	 Велик
	ой Отече
	ственной
	 войны Кр
	ымская аст
	рофизическ
	ая обсерват
	ория АН ССС
	Р (КАО была 
	основана на ба
	зе частной любител
	ьской обсерватории\
	, созданной в 1900 
	году).1958
	 — со
	вершил
	 первы
	й полё
	т первы
	й послево
	енный не
	мецкий в
	ертолёт — т
	рёхместный Б
	оргварт «Коли
	бри I»\, постро
	енный Генри
	хом Фокке.19
	69 — Вьетн
	амская войн
	а: начат вы
	вод америка
	нских войск 
	из Южного Вьет
	нама\, заверш
	ившийся чере
	з три с половин
	ой года.1972 — пр
	езидент США Н
	иксон объявил о
	 том\, что СССР в те
	чение 3 лет закупи
	т американское 
	зерно на сумму 
	750 миллионов
	 долларов.1
	974 — ЦК К
	ПСС утвердил проект
	 строительства Байкало-Амурской магист
	рали (БАМа).
DTSTART;VALUE=DATE:20150707
END:VEVENT
END:VCALENDAR
