BEGIN:VCALENDAR
VERSION:2.0
PRODID:-//IP.Board Calendar 4.0.13.1//EN
METHOD:PUBLISH
CALSCALE:GREGORIAN
X-WR-CALNAME:В этот день в прошлом
BEGIN:VTIMEZONE
TZID:Europe/London
TZURL:http://tzurl.org/zoneinfo/Europe/London
X-LIC-LOCATION:Europe/London
BEGIN:DAYLIGHT
TZOFFSETFROM:+0000
TZOFFSETTO:+0100
TZNAME:BST
DTSTART:20150329T020000Z
RRULE:FREQ=YEARLY;BYMONTH=3;BYDAY=-1SU
END:DAYLIGHT
BEGIN:STANDARD
TZOFFSETFROM:+0100
TZOFFSETTO:+0000
TZNAME:GMT
DTSTART:20151025T020000Z
RRULE:FREQ=YEARLY;BYMONTH=10;BYDAY=-1SU
END:STANDARD
END:VTIMEZONE
BEGIN:VEVENT
SUMMARY:Развилки Дня
DTSTAMP:20150709T080207Z
SEQUENCE:0
UID:909e15f08ccc35c009bafeb8c36256af@172.17.0.3
ORGANIZER;CN="ясмин джакмич":fai@fai.org.ru
DESCRIPTION:\n9 июля1357
	 — корол
	ь Карл IV 
	заложил 
	в Праге
	 Карлов мос
	т через Влта
	ву.1558 — Жен
	ева стала 
	независим
	ой от Швей
	царии.1686
	 — сем
	ь европ
	ейских
	 госуд
	арств 
	создал
	и Аугс
	бургскую ли
	гу с цель
	ю остановить
	 экспансию Фр
	анции в Западн
	ой Европе.1762 — св
	ержение Петра I
	II его супругой
	\, Екатериной 
	II.1788 — Кон
	нектикут
	 стал пят
	ым штатом СШ
	А.1816 — Арге
	нтина объ
	явила неза
	висимость
	 от Испани
	и.1864 — 
	в сра
	жении
	 на М
	онокас
	и генера
	л Конфед
	ерации 
	Джубал Э
	рли побе
	дил генер
	ала Союза 
	Уоллеса.1877
	 — в Уим
	блдоне с
	тартовал п
	ервый чемп
	ионат по те
	ннису\, которы
	й провёл Вс
	еанглийский
	 клуб лаун-те
	нниса и крок
	ета.1900 — 
	королев
	а Викто
	рия дала с
	воё одобре
	ние Закону 
	об образов
	ании Австр
	алийской ф
	едерации\,
	 на основании
	 которого создан
	о новое государство
	 Федерация Австра
	лии (с 1 января 
	1901 года).19
	06 — им
	ператором р
	аспущена Го
	сударственн
	ая дума Росс
	ийской импе
	рии I созыва
	.1915 — на
	чалась Ала
	шкертская опе
	рация левого крыла
	 русской Кавказской
	 армии1919 — 208 г
	олосами про
	тив 115 не
	мецкий
	 рейхстаг р
	атифициров
	ал унизите
	льный для Ге
	рмании Верс
	альский дого
	вор.1928 — И.
	 Сталин вы
	двинул те
	зис об обост
	рении классо
	вой борьбы 
	по мере п
	родвижения 
	к социализ
	му.1938 — в 
	магазины
	 Великобр
	итании пос
	тупили 35 м
	иллионов
	 противог
	азов. Вперв
	ые эти средс
	тва защиты б
	ыли предлож
	ены граждан
	скому насел
	ению.1941 — в
	оенная кол
	легия приго
	ворила гене
	тика Н. Вавилов
	а к казни по о
	бвинению в шп
	ионаже в пол
	ьзу Англии.1
	943 — начало о
	перации Хаски
	 (высадка со
	юзных войск 
	на Сицилии
	).1945 — ге
	нерал 
	Шарль д
	е Голл
	ь пре
	дложил
	 прове
	сти во
	 Франции 
	референду
	м для опр
	еделения
	 государс
	твенного
	 устройс
	тва стра
	ны.1956 — 
	США отк
	азались
	 финанс
	ировать 
	строител
	ьство Асуан
	ской плотины\
	, после чего Егип
	ет обратился за
	 помощью к СССР
	.1957 — открыт 1
	02-й элеме
	нт табл
	ицы Менд
	елеева — н
	обелий.1958 — огр
	омный оползень
	 вызвал волну рекор
	дной высоты (574 м)\
	, которая со ск
	оростью 160
	 км/ч прок
	атилась по уз
	кому\, похо
	жему на 
	фьорд зал
	ивуЛитуя 
	на Аляске\
	, США.1959
	 — пр
	авител
	ьство И
	ндонезии 
	во главе с
	 Раденом 
	Джуандой 
	Картавид
	жайя вышло 
	в отставку\,
	 новое пра
	вительство
	 возглавил 
	президент
	 Сукарно.1
	961Греция
	 принял
	а решение о
	 присоедине
	нии к Европ
	ейскому экон
	омическому с
	ообществу.196
	7 — во вре
	мя воздуш
	ного пара
	да в Домод
	едово вп
	ервые ши
	рокой п
	ублике п
	редставле
	ны советские 
	самолёты с 
	изменяемой с
	треловидностью к
	рыла («МиГ» и «
	Су») и верти
	кального в
	злёта и по
	садки.1970 —
	 в Феодо
	сии откр
	ыт литер
	атурный 
	музей Ал
	ександра
	 Грина.1991
	 — МОК
	 восстано
	вил членс
	тво Южно-А
	фриканской
	 Республики
	\, исключённой
	 ранее за пров
	одимую в стран
	е политику ап
	артеида.1993 — принят Закон РФ «Об а
	вторском и смежных правах»
DTSTART;VALUE=DATE:20150708
END:VEVENT
END:VCALENDAR
