BEGIN:VCALENDAR
VERSION:2.0
PRODID:-//IP.Board Calendar 4.0.13.1//EN
METHOD:PUBLISH
CALSCALE:GREGORIAN
X-WR-CALNAME:В этот день в прошлом
BEGIN:VTIMEZONE
TZID:Europe/London
TZURL:http://tzurl.org/zoneinfo/Europe/London
X-LIC-LOCATION:Europe/London
BEGIN:DAYLIGHT
TZOFFSETFROM:+0000
TZOFFSETTO:+0100
TZNAME:BST
DTSTART:20150329T020000Z
RRULE:FREQ=YEARLY;BYMONTH=3;BYDAY=-1SU
END:DAYLIGHT
BEGIN:STANDARD
TZOFFSETFROM:+0100
TZOFFSETTO:+0000
TZNAME:GMT
DTSTART:20151025T020000Z
RRULE:FREQ=YEARLY;BYMONTH=10;BYDAY=-1SU
END:STANDARD
END:VTIMEZONE
BEGIN:VEVENT
SUMMARY:Развилки Дня
DTSTAMP:20150710T072413Z
SEQUENCE:0
UID:158925c78e74e2fcead476471c4d5776@172.17.0.3
ORGANIZER;CN="ясмин джакмич":fai@fai.org.ru
DESCRIPTION:\n10 июляДо X
	IX века138 —
	 Антонин Пи
	й стал римс
	ким императ
	ором.1040 — 
	согласно 
	легенде\,
	 в этот д
	ень леди 
	Годива пр
	оехала обн
	ажённой по 
	городу Ковен
	три верхом на л
	ошади\, чтобы 
	заставить св
	оего мужа\, г
	рафа Леофр
	ика\, сниз
	ить непос
	ильные дл
	я горожан 
	налоги. Бла
	годарные по
	томки устано
	вили в городе па
	мятник леди Го
	диве и отмечаю
	т этот день к
	ак праздник
	.1499 — кора
	бль «Берри
	у» под ком
	андой Нико
	лау Куэлью из
	 флотилии Вас
	ко да Гама\, 
	открывшей 
	морской пут
	ь в Индию\,
	 первым воз
	вратился вЛ
	иссабон спу
	стя два года
	 после начала
	 экспедиции.
	 Да Гама на
	 «Сан-Габр
	иэле» разл
	учился с «Б
	ерриу» у ос
	тровов Зелёного
	 Мыса во время
	 шторма и приб
	ыл на родину
	 в сентябре
	.1547 — во 
	Франции
	 прошла
	 последн
	яя офици
	ально раз
	решённая 
	королём 
	дуэль. При
	чиной даль
	нейшего зап
	рета дуэлей б
	ыли частые с
	мертельные сл
	учаи. Несмотря н
	а запрет\, дуэли пр
	одолжались столь 
	же часто\, как и пр
	ежде. Поэтому в 1
	566 году король
	 Карл IX бы
	л вынужден
	 издать ук
	аз\, которым к
	 смертной 
	казни приг
	оваривался 
	любой учас
	тник дуэли.15
	61 год — ум
	ер велики
	й визирь О
	сманской и
	мперии Ру
	стем-паша.
	1609 — нем
	ецкие 
	католичес
	кие князья
	 создали К
	атолическ
	ую лигу д
	ля борьбы 
	с Реформ
	ацией.1796 
	— выдаю
	щийся н
	емецкий
	 математ
	ик Карл Ф
	ридрих Га
	усс откры
	л\, что люб
	ое натура
	льное чис
	ло может 
	быть предс
	тавлено ка
	к сумма не 
	более чем
	 трёх треуголь
	ных чисел и сделал знаменит
	ую запись в своём дневнике: «Heureka
	! num= ? + ? + ?.» (и вот эту
	 фигню нам в
	 школе нас
	ильно прип
	односили как
	 один из вели
	чайших моментов 
	в человеческой ист
	ории\, знать который
	 мы обязаны!)XIX ве
	к1847 — в США 
	прибыли 35
	 первых
	 китайс
	ких эмиг
	рантов.18
	77 — завер
	шилась г
	ероическ
	ая оборона 
	русскими войска
	ми крепости Баязет
	.1890 — Вайоминг с
	тал 44 штатом С
	ША.XX век1908 
	— голла
	ндский физи
	к Хейке Камерл
	инг-Оннес впер
	вые в мире полу
	чил жидкий г
	елий.1918 — 
	на V Все
	российском
	 съезде Сов
	етов в Мос
	кве прин
	ята перва
	я Констит
	уция РСФС
	Р.1925Начался
	 «Обезьяний процесс» 
	— суд над учителем Джоном 
	Скоупсом (John Thomas Scopes
	)\, который
	 на своих л
	екциях изл
	агал основы 
	теории эволюци
	и Чарльза Дарвина. (Кадр Х
	/Ф Стенли Крамера \"Пожн
	ешь бурю\"\, 1960 г\
	,\, представляющий не
	много беллитрезированную версию событ
	ий \nhttp://i48.fastpic.ru/big/2013/0509/1f/f46e8baf771a02aebc3eab08a18
	12b1f.jpgП
	ос
	та
	но
	вл
	ен
	ием
	 Пр
	ез
	ид
	иу
	ма 
	ЦИК
	 и С
	овнар
	кома 
	СССР 
	созд
	ано 
	ТАСС 
	— Те
	легр
	афно
	е аг
	ент
	ство
	 Сов
	етс
	ког
	о С
	ою
	за
	.П
	о
	 м
	а
	р
	ш
	р
	у
	т
	у 
	Мо
	ск
	ва
	 — 
	Улан
	-Бат
	ор —
	 Пеки
	н старт
	овали ше
	сть самол
	ётов — пер
	вый большой
	 перелёт советс
	ких лётчиков. За 
	семь дней самолёт
	ы покрыли рассто
	яние 6476 км.1931
	 — Политб
	юро ЦК ВКП(б
	) постановило
	 освободить и
	з тюрем несколь
	ко тысяч инженер
	ов и техников.19
	34 — образов
	ан НКВД ССС
	Р.1935 — при
	нято поста
	новление «
	О Генеральн
	ом плане ре
	конструкц
	ии Москвы»
	. В нём ска
	зано: «…с
	троить и с
	оздавать
	 высокока
	чественные 
	сооружения
	 для трудящ
	ихся\, что
	бы строи
	тельство
	 столицы 
	СССР и ар
	хитектур
	ное офор
	мление с
	толицы полн
	остью отраж
	али величие
	 и красоту
	 социали
	стическ
	ой эпох
	и».1940
	 — 
	во 
	Фра
	нции в
	 городе 
	Виши обр
	азовано п
	равительст
	во маршала 
	Анри Филипп
	а Петэна.19
	41Массо
	вое у
	бийст
	во по
	ляка
	ми е
	врее
	в в 
	дер
	евне
	 Едв
	абне в 
	Польше.Н
	ачало См
	оленског
	о сражени
	я в Вели
	кой Отече
	ственной в
	ойне.1956 —
	 палата л
	ордов бри
	танского па
	рламента нал
	ожила вето на 
	закон об отме
	не смертной 
	казни в Англи
	и. Незадолг
	о до этого 
	движение за 
	отмену смерт
	ной казни бы
	ло подогрето
	 громким делом\, к
	огда из-за суд
	ебной ошибки 
	был казнён 9 
	марта 1950 го
	да дальноб
	ойщик Тимо
	ти Эванс за у
	бийство сво
	ей жены и п
	редположите
	льно\, их до
	чери-младен
	ца\, соверше
	нные серийны
	м убийцей \"Га
	зовым маньяком
	\" доктором Джон
	ом Кристи (успел
	 убить свою жену и
	 еще двух женщин\, прежде
	 чем был схвачен и ка
	знен 14 июля 1953
	 года)1962 — 
	запущен пе
	рвый комме
	рческий спутник
	 связи — «Телстар».1964 — вы
	шел в свет альбом группы The Beatles
	 «A Hard Day’s Night»\, с к
	оторого нача
	лась массовая битлома
	ния.1965Первое место в хит-па
	раде журнала «Billboard» заняла песня «(I Ca
	n-t Get No) Satisfaction» группы «The Rolling St
	ones» и удержи
	вала его 
	четыре неде
	ли. Мик Джагг
	ер со товари
	щи был опред
	елённо удовле
	творён\, а песня т
	ак и осталась 
	визитной карто
	чкой группы. В 
	1999 году в авт
	оритетном 
	опросе\, про
	ведённом тел
	еканалом VH1 
	среди деяте
	лей музыкаль
	ного бизнеса\
	, эта песня была 
	названа самым 
	популярным рок
	-произведением
	 XX века.1981 
	— в военно-
	морском фло
	те США офиц
	ерам запре
	тили ношен
	ие бороды.
	1984 — на
	 пресс-к
	онферен
	ции в Ми
	лане сове
	тский режиссё
	р Андрей Тарковски
	й заявил\, что остаё
	тся на Западе.1985Кат
	астрофа Ту-154 
	под Учкудуко
	м. Погибли 2
	00 челове
	к — кру
	пнейшая
	 авиакат
	астрофа 
	в истории 
	советской авиации.
	французскими спецслужб
	ами затоплен корабль «R
	ainbow Warrior»\, принадл
	ежавший ор
	ганизации
	 «Гринпис»
	.1991 — на
	чало и
	сполнения 
	полномочий
	 первого Пр
	езидента РФ
	 Бориса Ник
	олаевича Ел
	ьцина.1994 
	— Гран 
	При Вел
	икобрит
	ании. Начало
	 битвы Мих
	аэля Шумах
	ера за свой п
	ервый чемпион
	ский титул.19
	95 — Папа ри
	мский Иоанн 
	Павел II в с
	пециальном
	 послании ж
	енщинам при
	знал\, что 
	католическая церковь
	 на протяжении многих лет дискримини
	ровала их. \n
DTSTART;VALUE=DATE:20150709
END:VEVENT
END:VCALENDAR
