BEGIN:VCALENDAR
VERSION:2.0
PRODID:-//IP.Board Calendar 4.0.13.1//EN
METHOD:PUBLISH
CALSCALE:GREGORIAN
X-WR-CALNAME:В этот день в прошлом
BEGIN:VTIMEZONE
TZID:Europe/London
TZURL:http://tzurl.org/zoneinfo/Europe/London
X-LIC-LOCATION:Europe/London
BEGIN:DAYLIGHT
TZOFFSETFROM:+0000
TZOFFSETTO:+0100
TZNAME:BST
DTSTART:20150329T020000Z
RRULE:FREQ=YEARLY;BYMONTH=3;BYDAY=-1SU
END:DAYLIGHT
BEGIN:STANDARD
TZOFFSETFROM:+0100
TZOFFSETTO:+0000
TZNAME:GMT
DTSTART:20151025T020000Z
RRULE:FREQ=YEARLY;BYMONTH=10;BYDAY=-1SU
END:STANDARD
END:VTIMEZONE
BEGIN:VEVENT
SUMMARY:Развилки Дня
DTSTAMP:20150713T073240Z
SEQUENCE:0
UID:96d0aaf9d00807377d5241fd32957a20@172.17.0.3
ORGANIZER;CN="ясмин джакмич":fai@fai.org.ru
DESCRIPTION:\n13 июляДо XIX 
	века1249 — коро
	нация короля Шотл
	андии Александра 
	III.1260 — произо
	шла битва 
	при Дурбе.1
	728 — рус
	ский м
	орепл
	аватель
	 Витус Б
	еринг от
	правился в
	 плавание 
	от берего
	в Камчат
	ки на сев
	ер. Во врем
	я экспеди
	ции был откр
	ыт пролив 
	между Ам
	ерикой и
	 Азией\, 
	названн
	ый его им
	енем.1772
	 — А
	нглийс
	кий мор
	еплават
	ель Дже
	ймс Кук на
	чал первое в
	 истории кр
	угосветное
	 плавание с 
	запада на во
	сток.1790 — З
	а напечата
	ние книги 
	«Путешес
	твие из П
	етербур
	га в Мос
	кву» арест
	ован и заключ
	ён в Петропа
	вловскую кре
	пость Алекса
	ндр Радищев.XIX
	 век1830 — В 
	Российско
	й Империи 
	император Н
	иколай I у
	твердил 
	«Положе
	ние о Ре
	месленн
	ом учеб
	ном зав
	едении» (
	ныне Моск
	овский государ
	ственный техни
	ческий универ
	ситет имени Н.
	 Э. Баумана)
	.1837 — 
	Коро
	лева В
	иктория
	 перееха
	ла из Сен
	т-Джеймсс
	кого двор
	ца в Бук
	ингемски
	й дворец\, к
	оторый ст
	ал основно
	й резиденцие
	й королей В
	еликобритани
	и.1839 — Дене
	жная реформ
	а в России\,
	 осуществ
	лённая м
	инистро
	м финанс
	ов Е. Ф. Ка
	нкриным: вв
	едение ра
	счёта на
	 серебр
	о путём де
	вальвации.18
	41 — в Лонд
	оне закл
	ючена ко
	нвенция 
	между Рос
	сией\, Анг
	лией\, Ф
	ранцией
	\, Прусс
	ией и Т
	урцией 
	о воспр
	ещении
	 военн
	ым судам и
	ностранн
	ых госуд
	арств в
	ходить 
	в проли
	вы Босфо
	р и Дарда
	неллы.1857 —
	 в Лондон
	е Герцен 
	выпустил п
	ервый номер 
	журнала «Ко
	локол»\, п
	ервого 
	русско
	го оппо
	зиционного 
	издания.18
	70 — Би
	смарко
	м отред
	актирован
	ная Эмсска
	я депеша.18
	82 — В Москв
	е и Петер
	бурге откр
	ыты первые
	 в России
	 телефонные
	 станции.1897 
	— Гульел
	ьмо Маркони 
	получил пате
	нт на радио.XX в
	ек1908 — В Лон
	доне открыл
	ись IV Олимпий
	ские игры. В
	 них вперв
	ые принял
	и участие
	 женщины.192
	3 — Англи
	йский пар
	ламент о
	добрил вн
	есённый леди
	 Астор закон\, з
	апрещавший п
	родажу алког
	оля лицам моло
	же 18 лет.1923 —
	 Официальн
	ое открытие
	 Знака Голл
	ивуда. Тогда 
	Надпись был
	а длинней и 
	выглядела
	 как Голливуд
	лэнд\, служа 
	рекламным з
	наком для п
	родажи недв
	ижимости.19
	25 — Зав
	ершён
	 пере
	лёт шес
	ти сове
	тских с
	амолёто
	в по маршр
	уту Москва — 
	Улан-Батор — Пе
	кин\, старт котор
	ому был дан 10 июня
	.1938 — Первый телет
	еатр открылся в Бост
	оне. За 25 центов 200 
	зрителей могли в
	 течение 45 мин
	ут наблюдать 
	за шоу с песн
	ями и танцами
	. Само предс
	тавление шло 
	этажом выше 
	и передавал
	ось вниз с п
	омощью теле
	видения.1939 — Ф
	рэнк Синатра записал свою пе
	рвую пластинку с песней «From the Botto
	m of My Heart».1941 — Восс
	тание 13 июля 
	в Черногории
	.1944 — Вели
	кая Отеч
	ественн
	ая война
	: войск
	а 3-го 
	Белорус
	ского ф
	ронта о
	свободи
	ли Вильню
	с от немецк
	о-фашистских 
	войск.1944 —
	 Великая О
	течественн
	ая война: во
	йска 1-го У
	краинског
	о фронта пе
	решли в на
	ступление
	 на рава-р
	усском и ль
	вовском на
	правления
	х. Начало 
	Львовско-С
	андомирско
	й операции.
	1947 — В П
	ариже м
	инистры
	 иностр
	анных д
	ел европе
	йских стр
	ан согла
	сились п
	ринять 
	план вос
	становлен
	ия Европы\,
	 предложе
	нный госс
	екретарём
	 США Джорд
	жем Маршал
	лом. От уч
	астия в кон
	ференции о
	тказались 
	страны сове
	тского блока
	 и Финляндия
	\, но предложени
	е им присоеди
	ниться к плану 
	позже оставалось 
	в силе.1949 — Папа
	 римский Пий XII
	 объявил\, чт
	о любой като
	лик\, сознат
	ельно и до
	бровольно в
	ступивший в 
	ряды компарт
	ии или иным образ
	ом поддерживающ
	ий её\, будет от
	лучён от церк
	ви.1966 — На
	 экраны
	 США вы
	шел фил
	ьм «Как 
	украсть ми
	ллион» с О
	дри Хепбё
	рн и Питеро
	м О’Тулом в главны
	х ролях.1973 — выш
	ел первый ал
	ьбом группы «
	Queen».1985 — В Лон
	доне и Филадел
	ьфии одновременн
	о прошли концерты 
	«Live Aid» в помо
	щь голодающим в
	 Африке. Организаторо
	м мероприятия был лидер 
	группы «Boomtown Rats» 
	Боб Гелдоф\, который
	 сумел привлечь для
	 участия таких звёзд\
	, как Queen\, Мик Джа
	ггер\, Мадонна\, 
	Тина Тёрнер\, 
	Пол Маккартн
	и\, Дэвид Боу
	и\, Боб Дил
	ан. По те
	левидению пр
	едставление с
	мотрели более 
	полутора милли
	ардов зрителей в 1
	60 странах. СССР
	 отказался от п
	оказа концер
	та.1990 — На
	 пике Лен
	ина (Пам
	ир) в ре
	зульт
	ате з
	емлетря
	сения лав
	иной был н
	акрыт лаге
	рь междуна
	родной группы 
	альпинистов. 
	43 человека о
	казались п
	огребены лавин
	ой.1990 — основан
	 Центральный ба
	нк Российской Ф
	едерации.1993 
	— в бою на 12-й
	 заставе Мо
	сковского по
	гранотряда (Таджикистан) погибло 25
	 российских пограничников.
DTSTART;VALUE=DATE:20150712
END:VEVENT
END:VCALENDAR
