BEGIN:VCALENDAR
VERSION:2.0
PRODID:-//IP.Board Calendar 4.0.13.1//EN
METHOD:PUBLISH
CALSCALE:GREGORIAN
X-WR-CALNAME:В этот день в прошлом
BEGIN:VTIMEZONE
TZID:Europe/London
TZURL:http://tzurl.org/zoneinfo/Europe/London
X-LIC-LOCATION:Europe/London
BEGIN:DAYLIGHT
TZOFFSETFROM:+0000
TZOFFSETTO:+0100
TZNAME:BST
DTSTART:20150329T020000Z
RRULE:FREQ=YEARLY;BYMONTH=3;BYDAY=-1SU
END:DAYLIGHT
BEGIN:STANDARD
TZOFFSETFROM:+0100
TZOFFSETTO:+0000
TZNAME:GMT
DTSTART:20151025T020000Z
RRULE:FREQ=YEARLY;BYMONTH=10;BYDAY=-1SU
END:STANDARD
END:VTIMEZONE
BEGIN:VEVENT
SUMMARY:Развилки Дня
DTSTAMP:20150713T074001Z
SEQUENCE:0
UID:53cbb4cec94ecafb85590322d0947ff3@172.17.0.3
ORGANIZER;CN="ясмин джакмич":fai@fai.org.ru
DESCRIPTION:\n12 июляДо XIX в
	ека1573 —
	 Испан
	ская арм
	ия под р
	уководство
	м герцога А
	льбы захват
	ила город Харле
	м после 7 месяце
	в осады.1590 — О
	снован город С
	аратов.1679 — 
	Английский 
	король Карл II и
	здал акт\, гар
	антирующий 
	судебные пр
	ава граждан.
	1703 — В це
	нтре кр
	епости С
	анкт-Пете
	рбург на 
	Заячьем 
	острове 
	заложена 
	деревянная ц
	ерковь во имя 
	Святых Апосто
	лов Петра и Павл
	а. Спустя 11 лет н
	а её месте бы
	л заложен каменн
	ый собор\, который 
	был торжественно
	 освящён 9 июля 1
	733 года.1776 
	— Из Плим
	ута отпра
	вился в св
	ою послед
	нюю экспе
	дицию Дже
	ймс Кук.17
	90 — Уч
	редите
	льное с
	обрание
	 Франции
	 отделил
	о церковь
	 Франции от Ри
	ма и причислили
	 священников к
	 гражданским с
	лужащим.XIX ве
	к1804 — В С
	анкт-Пе
	тербург
	е состоя
	лось первое 
	в мире иск
	лючитель
	но научно
	е путеше
	ствие на
	 воздуш
	ном шаре.18
	06 — Нап
	олеон созд
	ал Рейнский
	 союз германс
	ких государст
	в.1889 — Алек
	сандр III под
	писывает указ 
	о создании и
	нститута зе
	мских начальн
	иков.XX век19
	01 — В 
	германско
	м рейхста
	ге не про
	шла попытк
	а законода
	тельно запрети
	ть дуэли.1908 
	— В Праге н
	ачался первы
	й Славянский
	 съезд.1916 —
	 в ходе П
	ервой м
	ировой во
	йны впервы
	е в мире пр
	именено бо
	евое отра
	вляющее 
	веществ
	о иприт.1922 
	— Самый б
	ольшой парус
	ник в истории
	 судостроени
	я «Франс II»\,
	 наскочил н
	а риф.192
	8 — С
	оветс
	ким л
	едокол
	ом «Кр
	асин» 
	в арктич
	еских вод
	ах вблиз
	и Шпицбе
	ргена спа
	сён экипа
	ж дириж
	абля «Итали
	я».1931 — 
	Во Фран
	ции отк
	рыт пам
	ятник 
	мушке
	тёру Д
	’Артань
	яну.1933 
	— Конг
	ресс СШ
	А ввёл з
	начение МРО
	Т — минималь
	ного размера
	 оплаты труда
	 — 33 цента 
	в час.1943
	 — В 
	райо
	не Пр
	охоро
	вки пр
	оизошло са
	мое крупно
	е встречн
	ое танков
	ое сражение В
	торой мировой 
	войны.1950 — В Ч
	ехословакии 
	принят закон\
	, по котором
	у все лица\
	, которые в
	ыражали н
	едовольств
	о народно-д
	емократическим
	 строем\, должн
	ы были поме
	щаться в трудовые л
	агеря.1962 — Состоялся пе
	рвый концерт группы «R
	olling Stones» в Лондо
	не.1970 —
	 Экспе
	диция
	 норве
	жского
	 путешест
	венника-иссл
	едователя Ту
	ра Хейердала н
	а папирусной 
	лодке «Ра-2» чер
	ез 57 дней пл
	авания до
	стигла б
	ерегов Ба
	рбадоса.19
	88 — Обла
	стной с
	овет Наг
	орного Кар
	абаха объя
	вил о выхо
	де област
	и из соста
	ва Азербай
	джана.1996 
	— Конгр
	есс США пре
	доставил каж
	дому штату п
	раво не признавать однополый брак
	\, признанный в других штатах.
DTSTART;VALUE=DATE:20150711
END:VEVENT
END:VCALENDAR
