BEGIN:VCALENDAR
VERSION:2.0
PRODID:-//IP.Board Calendar 4.0.13.1//EN
METHOD:PUBLISH
CALSCALE:GREGORIAN
X-WR-CALNAME:В этот день в прошлом
BEGIN:VTIMEZONE
TZID:Europe/London
TZURL:http://tzurl.org/zoneinfo/Europe/London
X-LIC-LOCATION:Europe/London
BEGIN:DAYLIGHT
TZOFFSETFROM:+0000
TZOFFSETTO:+0100
TZNAME:BST
DTSTART:20150329T020000Z
RRULE:FREQ=YEARLY;BYMONTH=3;BYDAY=-1SU
END:DAYLIGHT
BEGIN:STANDARD
TZOFFSETFROM:+0100
TZOFFSETTO:+0000
TZNAME:GMT
DTSTART:20151025T020000Z
RRULE:FREQ=YEARLY;BYMONTH=10;BYDAY=-1SU
END:STANDARD
END:VTIMEZONE
BEGIN:VEVENT
SUMMARY:Развилки Дня
DTSTAMP:20150713T090056Z
SEQUENCE:0
UID:9e681d35845116e658961ce5924c24f9@172.17.0.3
ORGANIZER;CN="ясмин джакмич":fai@fai.org.ru
DESCRIPTION:\n11 июляДо XIX ве
	ка1302 — Битв
	а золотых шп
	ор. Фламандск
	ое ополчение\
	, в основном
	 состоявшее из 
	ремесленнико
	в\, одержало побе
	ду над французс
	кой армией.1533 — 
	папа римский 
	Климент VII нако
	нец-то объяви
	л\, что брак
	 короля Ан
	глии Генр
	иха VIII и 
	Екатери
	ны Арагон
	ской по-пр
	ежнему счит
	ается действ
	ительным и от
	лучил короля 
	от церкви. Ко
	роль к этому
	 времени уже р
	азвёлся с пе
	рвой супруг
	ой и женилс
	я на Анне 
	Болейн\, связ
	и между анг
	ликанской
	 церковью 
	и Ватика
	ном были
	 прерван
	ы.1576 — ан
	глийска
	я экспе
	диция 
	Мартина
	 Фробиш
	ера откр
	ыла Гренланд
	ию.1700 — в Б
	ерлине ос
	нована Ге
	рманская а
	кадемия н
	аук.1733
	 — в
	 Санкт
	-Петерб
	урге п
	рошло то
	ржествен
	ное освя
	щение П
	етропавл
	овского соб
	ора\, возвод
	ившегося п
	о проекту 
	архитект
	ора Доменико Т
	резини.1776 — капита
	н Джеймс Кук отплыл из Пл
	имута на «Resolution» в соп
	ровождении «Discove
	ry» в свою п
	оследнюю 
	экспедиц
	ию.1783 
	— Фр
	анцуз
	ская 
	Академия
	 прекрати
	ла работы
	 по разра
	ботке п
	арохода
	 как бес
	перспект
	ивные.179
	2 — за
	конодате
	льное соб
	рание Фра
	нции выдвин
	уло лозунг «
	Отечество в 
	опасности!»
	. По декрету
	 собрания в
	се мужчины
	 призывалис
	ь на военн
	ую службу. По
	явление всеобще
	й воинской обяз
	анности в совр
	еменном виде.
	 XIX век1810
	 — постр
	оена Шер
	еметевска
	я больница
	 графом Ник
	олаем Шереме
	тевым (с 1929 
	— Московски
	й НИИ скорой 
	помощи имен
	и Н. В. Скл
	ифосовского)
	.1874 — Алекса
	ндр Николаев
	ич Лодыгин п
	олучил привил
	егию № 1619 на 
	лампу нака
	ливания. Е
	го изобрете
	ние было за
	патентован
	о и в несколь
	ких европейс
	ких странах\
	, Петербургская
	 АН присудила ем
	у в этом году 
	Ломоносовск
	ую премию\, 
	а в конце г
	ода было с
	оздано «Това
	рищество эле
	ктрического 
	освещения А.
	 Н. Лодыги
	н и Ко».1893 
	— Кокити
	 Микимото 
	впервые по
	лучил иск
	усственн
	ый жемчуг
	.1897 — пр
	едприн
	ята пер
	вая поп
	ытка ис
	следова
	ния Аркт
	ики с пом
	ощью аэрост
	ата. Соломо
	н Август А
	ндре с двум
	я товарищам
	и поднялся в неб
	о с датского остр
	ова Шпицберген. Их
	 аэростат объёмом 
	4531 м? был оснащён
	 парусом\, кот
	орый крепил
	ся к сложно
	й системе 
	тросов. С е
	го помощь
	ю планиро
	валось упр
	авлять лет
	ательным апп
	аратом. О судьбе
	 исследователей ни
	чего не было извес
	тно до 6 августа 1
	930 года\, когда и
	х тела были обнару
	жены на Белом остр
	ове (Земля Франца
	-Иосифа).XX век1
	903 — по 
	инициа
	тиве Ко
	ролевс
	кого ях
	т-клуба
	 ирланд
	ского г
	орода Ко
	рк состояли
	сь первые сп
	ортивные го
	нки судов с п
	аровым двиг
	ателем.1918 
	— совнарком
	 России утве
	рдил первый
	 советский
	 бюджет на
	 полугод
	ие\; в э
	тот же де
	нь Лито
	вская Тар
	иба пров
	озгласила
	 создание 
	Королевств
	а Литвы\, и
	 пригласил
	а на королевс
	кий престол н
	емецкого прин
	ца Вильгельма
	 фон Ураха.192
	0 — на реф
	ерендуме
	 в Восточн
	ой и Запа
	дной Пру
	ссии боль
	шинство н
	аселения прог
	олосовало за 
	сохранение э
	тих регионов 
	в составе Гер
	мании.1921 — 
	после побе
	д Монгольс
	кой народн
	ой армии с 
	помощью К
	расной А
	рмии над
	 оккупа
	ционны
	ми кита
	йскими 
	войскам
	и и отрядам
	и белогва
	рдейцев в
	 Монголи
	и установ
	лена народн
	ая власть.19
	33 — в Жен
	еве принят
	а междунар
	одная конве
	нция по контр
	олю за нарк
	отиками.194
	0 — Румыния 
	исключена из 
	Лиги Наций за с
	отрудничество с на
	цистами.1941 — началась об
	орона Киева\, (11 июля
	 — 19 сентября 1
	941 г)  1942
	 —
	 в 
	ст
	ар
	ов
	ер
	че
	ск
	ой
	 де
	рев
	не 
	Тухов
	ежи Лен
	инградск
	ой области
	 солдатам
	и вермахт
	а пленён 
	генерал Власо
	в.1946 — вве
	дён в стр
	ой газоп
	ровод Сара
	тов — Москв
	а.1960В Чехос
	ловакии о
	бъявлено о
	 победе с
	оциализм
	а\, стран
	а переи
	менован
	а в Чех
	ослова
	цкую С
	оциали
	стическ
	ую Респу
	блику.Фр
	анция с
	огласил
	ась пре
	достав
	ить незав
	исимость в 
	августе те
	кущего года
	 Дагомее (
	современный Б
	енин)\, Нигеру
	\, Верхней Вол
	ьте (современ
	ная Буркина-Фа
	со)\, Берегу 
	Слоновой 
	Кости\, Ч
	аду\, Цен
	тральной А
	фрике (совр
	еменная Це
	нтральноафри
	канская Респу
	блика) и Конг
	о.1975 — в Севе
	ро-Западном
	 Китае обнаруже
	но массовое за
	хоронение 6 т
	ысяч древн
	их статуй 
	воинов.197
	9 — амер
	иканская 
	орбитальн
	ая станция
	 Скайлэб была 
	сведена с орб
	иты и разрушена в пл
	отных слоях атмосфер
	ы.1984В США объявлен
	о\, что к 1989 г. 
	во всех авт
	омобилях 
	обязател
	ьно должн
	ы быть ре
	мни безо
	пасност
	и.1995 — США и Вье
	тнам восстановили полные ди
	пломатические отношения.
DTSTART;VALUE=DATE:20150710
END:VEVENT
END:VCALENDAR
