BEGIN:VCALENDAR
VERSION:2.0
PRODID:-//IP.Board Calendar 4.0.13.1//EN
METHOD:PUBLISH
CALSCALE:GREGORIAN
X-WR-CALNAME:В этот день в прошлом
BEGIN:VTIMEZONE
TZID:Europe/London
TZURL:http://tzurl.org/zoneinfo/Europe/London
X-LIC-LOCATION:Europe/London
BEGIN:DAYLIGHT
TZOFFSETFROM:+0000
TZOFFSETTO:+0100
TZNAME:BST
DTSTART:20150329T020000Z
RRULE:FREQ=YEARLY;BYMONTH=3;BYDAY=-1SU
END:DAYLIGHT
BEGIN:STANDARD
TZOFFSETFROM:+0100
TZOFFSETTO:+0000
TZNAME:GMT
DTSTART:20151025T020000Z
RRULE:FREQ=YEARLY;BYMONTH=10;BYDAY=-1SU
END:STANDARD
END:VTIMEZONE
BEGIN:VEVENT
SUMMARY:Развилки Дня
DTSTAMP:20150715T074143Z
SEQUENCE:0
UID:098ba0b1f6d9f02db51736ddb4de7691@172.17.0.3
ORGANIZER;CN="ясмин джакмич":fai@fai.org.ru
DESCRIPTION:\n15 июлядо XVII
	I века1099 — вз
	ятие Иерусал
	има крестонос
	цами.1205 — Пап
	а Иннокентий
	 III заявил\, ч
	то евреи 
	обречены на в
	ечное рабств
	о и покорени
	е из-за расп
	ятия Иисус
	а Христа.12
	40 — Алекс
	андр Невски
	й со своим в
	ойском атако
	вал военный л
	агерь шведов на Н
	еве и нанёс им 
	полное пораже
	ние (Невская 
	битва).1381 —
	 в Сент-О
	лбансе 
	повешен 
	английский 
	народный про
	поведник\, 
	идеолог е
	реси лол
	лардов Д
	жон Болл.
	1410 — п
	оражен
	ие вой
	ск Тев
	тонского 
	ордена в
	 Грюнваль
	дском сраж
	ении от лит
	овских и пол
	ьских войск
	\, остановив
	шее экспан
	сию ордена
	 на земли Ве
	ликого кн
	яжества 
	Литовско
	го и корол
	евства Пол
	ьского.15
	25 — ку
	рфюрст 
	Бранденб
	ургский со
	 всем дворо
	м в панике
	 покинул Берлин
	 из-за ложных слух
	ов о надвигающем
	ся Великом Потопе
	.XVIII век1772 —
	 в Санкт-Пе
	тербурге 
	прошли пе
	рвые ска
	чки под
	 Красны
	м Селом.1776
	 — в и
	тальян
	ском го
	роде Ми
	лане откр
	ылся театр
	 «Ла Скала»
	.1784 — пе
	рвый ди
	рижабль с
	 баллонето
	м (небольш
	ой внутрен
	ний газоне
	проницаемый о
	тсек\, находящ
	ийся между г
	азовой и вне
	шней оболочко
	й\, в который
	 можно нака
	чивать возд
	ух или выпус
	кать его с цел
	ью управлени
	я высотой под
	ъёма) совершил
	 свой первый 
	полёт\, ока
	завшийся не 
	очень успеш
	ным: экипажу
	 пришлось п
	рорезать обо
	лочку\, чтобы 
	уменьшить с
	тавшее опасн
	о высоким д
	авление газа.179
	5 — «Марселье
	за» официальн
	о стала гимном Фр
	анции.XIX век1801 —
	 конкордат Н
	аполеона с папой
	 Пием VII.1822 —
	 открылас
	ь Нижегоро
	дская ярмар
	ка.1826 — п
	реобразован
	ие «Особой к
	анцелярии» 
	при Министе
	рстве внутр
	енних дел в
	 III отделени
	е собствен
	ной Его Им
	ператорс
	кого Вели
	чества ка
	нцелярии.1
	841 — в Л
	ондоне
	 Осман
	ская имп
	ерия подп
	исала новую
	 конвенцию
	 по пролив
	ам с Велик
	обританией
	\, Францией
	\, Россие
	й\, Пру
	ссией 
	и Австр
	ией\, за
	прещав
	шую пр
	оход че
	рез Бо
	сфор и
	 Дарданеллы
	 военных суд
	ов всех евро
	пейских держ
	ав без согл
	асия Турци
	и.1867 — н
	а сес
	сии 
	фран
	цузс
	кой а
	каде
	мии п
	роде
	монст
	риров
	аны пи
	сьма П
	аскаля 
	юному Нью
	тону с изло
	жением закон
	а всемирного тяг
	отения (позже в
	ыяснилось\, чт
	о письма бы
	ли фальши
	выми).186
	9 — в
	 Пари
	же Ипп
	олит Ме
	же-Мурь
	е запат
	ентовал 
	маргарин как 
	дешевый замен
	итель масла д
	ля нужд воен
	но-морского 
	флота.1876 — 
	на конфере
	нции в Филадель
	фии принято реше
	ние о роспуске I И
	нтернационала.XX
	 век1912 — в А
	нглии вступи
	л в силу За
	кон о на
	циональ
	ном мед
	ицинско
	м страхо
	вании.19
	16 — а
	мерика
	нский ин
	женер Уил
	ьям Боинг 
	основал ко
	мпанию «Па
	сифик аэро 
	продактс»\,
	 сменившую ч
	ерез нескол
	ько месяцев
	 название 
	на «Боинг
	 эрплейн».
	1917 — ка
	деты вы
	шли из В
	ременног
	о правит
	ельства 
	России из-з
	а намерения
	 левых мини
	стров приз
	нать автон
	омию Укра
	ины.1923СС
	СР объ
	являет 
	об образ
	овании 
	государ
	ственной
	 авиакомп
	ании «Аэр
	офлот».отк
	рылась пе
	рвая в 
	Советс
	ком Сою
	зе рег
	улярна
	я возд
	ушная 
	линия 
	по мар
	шруту
	 Москва
	 — Нижни
	й Новгород
	.итальянск
	ий парламе
	нт принял нову
	ю конституцию
	\, узаконившу
	ю захват влас
	ти фашистами.
	1929принимается 
	постановление
	 ЦК ВКП(б) «О
	 состоянии
	 обороны СС
	СР».1932 —
	 западные 
	страны по
	обещали А
	встрии фин
	ансовую пом
	ощь при усло
	вии\, что австри
	йцы будут воздержив
	аться от аншлюса с 
	Германией до1952
	 года.1933Итал
	ия\, Герм
	ания\, А
	нглия и 
	Франция 
	заключили
	 Пакт четы
	рёх о согл
	асованных
	 действиях
	 по общим
	 междуна
	родным во
	просам.пущен в
	 строй Свердло
	вский машинострои
	тельный завод (Ура
	лмаш).1937 — вступ
	ает в строй 12
	8-километро
	вый канал «Моск
	ва-Волга имени
	 Сталина» (ны
	не Канал име
	ни Москвы).1
	940Совнарк
	ом СССР у
	тверждает «
	Положение о
	 дисциплинар
	ном батальон
	е в Красной Ар
	мии»\, куда м
	ожно попасть «
	за самовольну
	ю отлучку в т
	ечение боле
	е двух часов».
	1943 — оконча
	ние оборон
	ительного 
	сражения п
	од Курском.
	1944 — Грин
	вичская о
	бсерватория р
	азрушена при б
	омбардировке 
	во время Втор
	ой мировой во
	йны.1946в С
	ША пре
	зидент Гар
	ри Трумэн по
	дписал Закон о
	 кредите Великобр
	итании в размере 
	3\,75 миллиарда до
	лларов.1954 
	— в США 
	осущест
	влён пр
	обный полёт 
	на четырёхтурбинн
	ом реактивном пассажирс
	ком авиалайнере «Boeing
	 707» (Сиэтл).19
	55 — в гор
	оде Майна
	у-на-Боде
	нзее под
	писано Ма
	йнауское з
	аявление\,
	 в которо
	м многие 
	нобелевские
	 лауреаты п
	редупрежда
	ли об опасн
	остях яде
	рного ор
	ужия.19
	57 — 
	в Архан
	гельской
	 области 
	основан ис
	пытательны
	й полигон Р
	ВСН «Плесецк
	».1959 — на эк
	раны США вы
	шел фильм
	 «Некотор
	ые любят пог
	орячее» с Мэрилин Монр
	о\, Тони Кертисом и Джеком Лем
	моном (Jack Uhler Lemmon III) в 
	главных роля
	х. В советском п
	рокате шёл по
	д названием
	 «В джазе то
	лько девуш
	ки».1963 — во
	сстановле
	ние дипло
	матическ
	их отноше
	ний СССР с И
	зраилем.1964
	 — избран
	ие Микояна Пр
	едседателем Пр
	езидиума ВС.196
	5 — Конгресс
	 США принял
	 закон\, тре
	бующий печ
	атать на сига
	ретных пачках
	 предупрежден
	ие о вреде кур
	ения для здоровь
	я.1975 — начало 
	эксперимент
	а «Союз-Аполло
	н».1979 — в сов
	етской пре
	ссе опубли
	ковано соо
	бщение о пуске
	 первой в мире
	 термоядерной устан
	овки типа «Токамак».1982 — в Англ
	ии вышел фильм «Pink Floyd»: «The 
	Wall» (Стена).1988п
	о советск
	ому ТВ вп
	ервые пе
	редаётся
	 репортаж с р
	асширенного
	 заседания П
	резидиума Со
	вета Министро
	в СССР.1990Пре
	зидиум Ве
	рховного 
	Совета СС
	СР прини
	мает ука
	з об объ
	явлени
	и чрезв
	ычайног
	о положе
	ния на т
	ерритори
	и Нагорн
	о-Карабах
	ской авто
	номной о
	бласти.У
	каз През
	идента 
	СССР о 
	формал
	ьном п
	рекра
	щении
	 конт
	роля 
	КПСС 
	над с
	редст
	вами 
	масс
	овой и
	нформ
	ации.
	образ
	ована
	 Всеро
	ссийска
	я государс
	твенная те
	левизионн
	ая и радио
	вещательная компания (ВГТ
	РК)\; первый председатель — О. М. Попцов
	.
DTSTART;VALUE=DATE:20150714
END:VEVENT
END:VCALENDAR
