BEGIN:VCALENDAR
VERSION:2.0
PRODID:-//IP.Board Calendar 4.0.13.1//EN
METHOD:PUBLISH
CALSCALE:GREGORIAN
X-WR-CALNAME:В этот день в прошлом
BEGIN:VTIMEZONE
TZID:Europe/London
TZURL:http://tzurl.org/zoneinfo/Europe/London
X-LIC-LOCATION:Europe/London
BEGIN:DAYLIGHT
TZOFFSETFROM:+0000
TZOFFSETTO:+0100
TZNAME:BST
DTSTART:20150329T020000Z
RRULE:FREQ=YEARLY;BYMONTH=3;BYDAY=-1SU
END:DAYLIGHT
BEGIN:STANDARD
TZOFFSETFROM:+0100
TZOFFSETTO:+0000
TZNAME:GMT
DTSTART:20151025T020000Z
RRULE:FREQ=YEARLY;BYMONTH=10;BYDAY=-1SU
END:STANDARD
END:VTIMEZONE
BEGIN:VEVENT
SUMMARY:Развилки Дня
DTSTAMP:20150715T075432Z
SEQUENCE:0
UID:9878a1ce3bbee3b7e2d7e06ad27ace5b@172.17.0.3
ORGANIZER;CN="ясмин джакмич":fai@fai.org.ru
DESCRIPTION:\n14 июляДо XIX 
	века109
	9 — кре
	стоносц
	ы во глав
	е с Готфр
	идом Бульонс
	ким начали ш
	турм Иерусал
	има\, который 
	пал на след
	ующий день
	.1471 — м
	осков
	ские в
	ойска 
	совме
	стно 
	с тат
	арск
	ой к
	онн
	ице
	й ц
	аре
	вич
	а Дан
	ияра ра
	згромили
	 ополчени
	е Новгоро
	дской рес
	публики в
	 Шелонской
	 битве.171
	0 — рос
	сийски
	й генер
	ал-фельд
	маршал Бо
	рис Петров
	ич Шеремет
	ев въехал 
	в побежденн
	ую Ригу. В 
	тот же ден
	ь члены рижс
	кого магист
	рата присяг
	нули на верн
	ость русск
	ому царю Пе
	тру.1789 — 
	восстав
	шие пар
	ижане взяли
	 крепость Баст
	илию. Начало 
	Великой фран
	цузской революц
	ии.XIX век1860 
	— созда
	н Госуда
	рственный 
	банк России1865
	 — Первое вос
	хождение на М
	аттерхорн (Ал
	ьпы) высотой 
	4478 м совершил член
	 англо-французской эксп
	едиции Эдуард Уимпер (E
	dward Whymper). Успех экс
	педиции был 
	омрачён трагеди
	ей: во время спус
	ка четверо её чле
	нов погибли. 18
	67 — В карье
	ре Рэдхилл
	 (гр-во С
	юррей\,
	 Великоб
	ритания) 
	Альфред 
	Нобель 
	впервые
	 продемо
	нстриров
	ал динам
	ит.1896 
	— В 
	Нижн
	ем Н
	овгор
	оде п
	редста
	влен п
	ервый р
	усский 
	автомо
	биль о
	тставно
	го лейтенан
	та Е. Яков
	лева и х
	озяина к
	аретных
	 мастерс
	ких Пет
	ра Фрезе
	.1897 — 
	Воскресе
	нье в Россий
	ской империи
	 объявлено о
	фициальным в
	ыходным днё
	м.XX век190
	2 — В
	 Вене
	ции н
	а площ
	ади Сан-М
	арко обру
	шилась ко
	локольня-
	кампанила
	 — один из
	 символов
	 города.1
	905 — И
	ндейц
	ы Окл
	ахомы
	 прово
	згласи
	ли созд
	ание индейск
	ого штата С
	еквойя (Ко
	нгресс США
	 отказалс
	я признава
	ть его).19
	16 — Три
	стан Тц
	ара опуб
	ликовал в
	 Цюрихе 
	манифест 
	дадаисто
	в. Дадаи
	зм\, сфо
	рмиров
	авшийся 
	в среде а
	нархиству
	ющей интелли
	генции Швейц
	ариикак прот
	ест против 1
	-й мировой
	 войны\, б
	ыл своео
	бразным
	 художес
	твенным
	 иррацион
	альным хули
	ганством и в
	ыражался в бе
	ссмысленных соч
	етаниях слов и 
	звуков\, в кара
	кулях\, настен
	ных надписях\,
	 псевдочерте
	жах\, наборе
	 случайных 
	предметов
	.1917Финля
	ндия п
	ровозг
	ласила с
	вою авт
	ономию.
	Времен
	ное пр
	авительств
	о опублико
	вало декла
	рацию о на
	циональн
	ой автон
	омии Ук
	раины.1920 —
	 Части К
	расной 
	армии 
	заняли 
	столиц
	у Литв
	ы горо
	д Вильнюс
	.1933Начи
	нается
	 Аркти
	ческая 
	экспедиц
	ия на пар
	оходе «Ч
	елюскин»\
	, возглав
	ляемая 
	О. Ю. Ш
	мидтом.Вышел
	 первый мультфильм Мак
	са Флейшера про матро
	са Попая — «Popeye Th
	e Sailor».Нацисты
	 запретили де
	ятельность в
	сех политич
	еских партий
	\, кроме собстве
	нной.1939 — П
	осёлок Ма
	гадан получи
	л статус города
	.1941 — Первое п
	рименение ус
	тановки «Ка
	тюша».1946 —
	 Вышло в с
	вет первое
	 издание 
	книги доктор
	а Бенджамин
	а Спока «Ух
	од за ребёнк
	ом и его вос
	питание».1
	951 — Ску
	дерия Феррар
	и одержала с
	вою первую по
	беду в рамка
	х этапа Форм
	улы-1.1952 — Аме
	риканская 
	компания «Д
	женерал мот
	орз» объявила
	\, что она н
	ачинает ус
	танавливат
	ь в машинах
	 первые в
	 мир ав
	томоби
	льные к
	ондицион
	еры.1954
	 — П
	ринст
	онский
	 униве
	рситет в 
	США вперв
	ые объявил
	 о сдаче к
	омпьютеро
	в в частное
	 пользован
	ие.1956 — В
	ерховный С
	овет СССР п
	ринимает зак
	он о государствен
	ных пенсиях.1958 
	— Революция в Ир
	аке (Революция 14 и
	юля). Свержен
	ие монархии 
	и приход к в
	ласти Касем
	а.1962 — В М
	оскве собира
	ется Всемирны
	й конгресс за в
	сеобщее и по
	лное разору
	жение.1967 
	— Подп
	исана К
	онвенц
	ия\, учрежд
	ающая Все
	мирную ор
	ганизацию
	 интеллект
	уальной с
	обственности
	.1968 — Начал
	о коммер
	ческих а
	виарейсов ме
	жду СССР и 
	США.1976 — 
	В Канаде
	 отменена
	 смертная к
	азнь.1979 
	— Команда У
	ильямс одер
	жала свою перв
	ую победу в ра
	мках этапа Ф
	ормулы-11990Ук
	аз Горбачё
	ва. «О демо
	кратизаци
	и и разви
	тии теле
	видения
	 в СССР».
	Верхов
	ный Сов
	ет РСФС
	Р прини
	мает Зак
	он РСФС
	Р «О собс
	твенност
	и на тер
	ритори
	и РСФСР».
	Полная смена состава Поли
	тбюро ЦК КПСС кроме Горбачёва и Ивашко
	.
DTSTART;VALUE=DATE:20150713
END:VEVENT
END:VCALENDAR
