BEGIN:VCALENDAR
VERSION:2.0
PRODID:-//IP.Board Calendar 4.0.13.1//EN
METHOD:PUBLISH
CALSCALE:GREGORIAN
X-WR-CALNAME:В этот день в прошлом
BEGIN:VTIMEZONE
TZID:Europe/London
TZURL:http://tzurl.org/zoneinfo/Europe/London
X-LIC-LOCATION:Europe/London
BEGIN:DAYLIGHT
TZOFFSETFROM:+0000
TZOFFSETTO:+0100
TZNAME:BST
DTSTART:20150329T020000Z
RRULE:FREQ=YEARLY;BYMONTH=3;BYDAY=-1SU
END:DAYLIGHT
BEGIN:STANDARD
TZOFFSETFROM:+0100
TZOFFSETTO:+0000
TZNAME:GMT
DTSTART:20151025T020000Z
RRULE:FREQ=YEARLY;BYMONTH=10;BYDAY=-1SU
END:STANDARD
END:VTIMEZONE
BEGIN:VEVENT
SUMMARY:Развилки дня
DTSTAMP:20150716T083838Z
SEQUENCE:0
UID:0ad017dd902989783c295016f8c4cf27@172.17.0.3
ORGANIZER;CN="ясмин джакмич":fai@fai.org.ru
DESCRIPTION:\n16 июля622 — 
	Начало и
	сламског
	о календа
	ря.1054 — Н
	еудаче
	й завер
	шились 
	в Конст
	антинопол
	е перегово
	ры между Римо
	м и Констант
	инополем о с
	ферах влияни
	я в Южной Ит
	алии и по ря
	ду теолог
	ических во
	просов. Пос
	ланник папы 
	римского Льв
	а IX Гумберт п
	оложил на алт
	арь собора 
	св. Софии 
	папскую 
	буллу с 
	анафемо
	й в адрес К
	онстантин
	опольского п
	атриарха Мих
	аила Кирулария.
	 Патриарх\, в с
	вою очередь\
	, проклял по
	сланника и 
	всех членов 
	его делега
	ции. Христи
	анская церковь
	 разделилась на
	 две ветви: ка
	толическую и 
	православну
	ю.1439 — В Англии
	 временно за
	прещены поцел
	уи. Причина — 
	эпидемия чумы.1548 —
	 Испанцами основан 
	Ла-Пас. Город назван
	 так (La Paz — по-
	испански «
	мир») в че
	сть примирен
	ия долго вр
	аждовавши
	х между собой 
	испанских за
	воевателей.1
	611 — Захв
	ат Новгор
	ода шведам
	и.1643 — Экс
	педиция гол
	ландского м
	ореплавате
	ля Мартена д
	е Фриза отк
	рыла о. Сах
	алин.1652 
	— В Мос
	кву перен
	есены мощи
	 святого му
	ченика мит
	рополита 
	Филиппа\, 
	выступав
	шего в сво
	ё время пр
	отив политики
	 опричины Ива
	на Грозного и 
	попавшего за 
	это в опалу.
	1661 — Первые 
	европейски
	е банкноты
	 выпущены С
	токгольмским б
	анком.1769 — Испанский иссл
	едователь Гаспар де Порт
	ола (Gaspar de Portol?)
	 основал ба
	зу Сан-Диего
	 для исследов
	ания Калифорни
	и.1790 — Округ Кол
	умбия\, не вхо
	дящий в юри
	сдикцию ни
	 одного штата\
	, определён 
	как месторас
	положение пр
	авительства СШ
	А.1814 — Первая
	 публикаци
	я в печати 
	(стихотворен
	ие «К другу 
	стихотворц
	у») юного А
	лександра
	 Пушкина.
	1819 — Н
	ачал
	ась к
	ругосве
	тная эк
	спедици
	я шлюпов
	 «Восто
	к» и «Мирный
	» под коман
	дованием М. 
	П. Лазарева 
	и Ф. Ф. Белли
	нсгаузена.186
	7 — франц
	уз Жозеф Мон
	ье\, бывший 
	садовник\,
	 получил п
	атент на
	 армиров
	анный бетон
	\, ставший гл
	авным матер
	иалом при возвед
	ении высотных зда
	ний.1909 — Основан
	а компания Audi\,
	 тогда еще 
	под неме
	цким назва
	нием Хорьх
	 1917 — На
	чалось Ию
	льское вос
	стание в П
	етрограде - 
	по призыву
	 анархистов
	 солдаты 1-
	го пулем
	етного полк
	а приняли 
	постановле
	ние о немед
	ленном воо
	руженном в
	осстании19
	18 — Конг
	ресс США
	 постан
	овил ввест
	и правитель
	ственный к
	онтроль над с
	редствами тел
	екоммуникации.
	1919 — части 
	ВСЮР заня
	ли Херсон1
	920Отмен
	а блок
	ады Со
	ветско
	й Росс
	ии Анта
	нтой.Постан
	овлением СН
	К РСФСР уст
	ановлены ос
	обые (персон
	альные) пенсии
	.1923 — Бенито
	 Муссолини з
	апретил азар
	тные игры в 
	Италии.1925 
	— Первый
	 полёт п
	ервого со
	ветского ди
	рижабля «Моск
	овский химик-
	резинщик» кон
	струкции Н. В
	. Фомина.1926
	 — В Герма
	нии запре
	щён совет
	ский филь
	м «Броненосец
	 Потёмкин».1
	939 — США денон
	сировали торго
	вое соглашение
	 1911 года с Я
	понией.1944 — В
	 освобождён
	ном Минске
	 прошёл Пар
	тизанский па
	рад.1945Перв
	ое успешно
	е испытан
	ие атомн
	ой бомбы 
	на полиг
	оне в шт
	ате Нью-Ме
	ксико\, СШ
	А.В Герма
	нии близ
	 Аслинга в 
	пассажирски
	й поезд\, что
	 перевозил н
	емецких военнопл
	енных\, врезался груз
	овой поезд армии С
	ША. Погибло от 10
	2 до 106 чело
	век. Крупне
	йшая железнод
	орожная катаст
	рофа в истории
	 Германии.194
	7 — Предс
	тавители
	 16 европ
	ейски
	х гос
	ударс
	тв со
	брали
	сь в П
	ариже для
	 обсуждения пл
	ана Маршалла во
	сстановления эко
	номики Европы (д
	о 15 июля).1951 
	— Опублико
	вана повесть
	 Дж. Сэлинд
	жера «Над 
	пропастью 
	во ржи».19
	56 — Ка
	рело-Ф
	инская
	 ССР пр
	еобразована 
	в Карельскую
	 АССР (ныне Р
	еспублика Ка
	релия в сост
	аве РФ).1965Откр
	ыт туннель по
	д Монбланом
	 (высочайшей
	 вершиной Аль
	п — 4807 м)\,
	 связав
	ший Фран
	цию и Итали
	ю.Открытие кр
	атеров на М
	арсе (телеп
	ередача с «
	Маринер-4»\
	, США).С 
	космо
	дрома Ба
	йконур ус
	пешно осущ
	ествлён пе
	рвый запуск
	 ракеты-нос
	ителя Прот
	он\, котор
	ая вывел
	а на око
	лоземную ор
	биту советс
	кий научно-ис
	следователь
	ский спутник
	 Протон-1.19
	66 — Эри
	к Клэптон
	\, Джек Брюс и
	 Джинджер Бей
	кер сформирова
	ли первую суперг
	руппу «Cream». Им
	енно этот б
	люз-роковы
	й коллекти
	в ввёл дли
	нные гита
	рные и бара
	банные соло
	 в усложнён
	ной музыка
	льной факту
	ре композиц
	ий\, пришедши
	х на смену
	 незатейливым пе
	сенкам. Музыкаль
	ное направление\,
	 сформированное 
	«Cream»\, стало дом
	инирующим в 
	блюзе после
	дующие десять
	 лет.1968 — Р
	уководи
	тели СССР
	\, Восточ
	ной Герм
	ании\, В
	енгрии
	\, Пол
	ьши и 
	Болгарии 
	заявили о 
	неприемле
	мости про
	водимых в
	 Чехослов
	акии реформ.
	1969 — Спасены
	 члены эксп
	едиции Тура Х
	ейердала на пл
	оту «Ра»\, попа
	вшем в шторм
	 в Карибском мо
	ре.1977 — Из 
	Сомали вы
	сланы все
	 советские сп
	ециалисты.1
	979 — Садд
	ам Хуссейн
	 стал през
	идентом И
	рака.1990Укр
	аина при
	няла Декл
	арацию о г
	осударств
	енном сувер
	енитете (ра
	нее отме
	чался на У
	краине ка
	к День нез
	ависимости).О
	ткрыт спутник Сат
	урна — Пан\, также
	 известный как Сат
	урн XVIII.1992 —
	 Верховн
	ый Совет
	 Российской
	 Федерации 
	принял поста
	новление «О 
	реабилитации казачес
	тва».1993 — В Лондоне\,
	 прошла презентация 
	Amiga CD32 — первой 32-битно
	й игровой консол
	и\, использующей
	 CD-ROM.1994 — Ком
	ета Шумейк
	еров-Леви ст
	олкнулась с 
	Юпитером.1999С
	тоимость акций 
	«Майкрософта»\
	, которыми влад
	еет Билл Гейт
	с\, достигла 100
	 миллиардов 
	долларов.Джо
	н Фицджеральд 
	Кеннеди младш
	ий\, его жена Кэ
	ролин и сестр
	а жены погибли
	 в авиакатастро
	фе. Самолёт\, 
	за штурвал
	ом которого 
	был Джон\, упал в Атлантический ок
	еан у берегов Массачусетса.
DTSTART;VALUE=DATE:20150715
END:VEVENT
END:VCALENDAR
