BEGIN:VCALENDAR
VERSION:2.0
PRODID:-//IP.Board Calendar 4.0.13.1//EN
METHOD:PUBLISH
CALSCALE:GREGORIAN
X-WR-CALNAME:В этот день в прошлом
BEGIN:VTIMEZONE
TZID:Europe/London
TZURL:http://tzurl.org/zoneinfo/Europe/London
X-LIC-LOCATION:Europe/London
BEGIN:DAYLIGHT
TZOFFSETFROM:+0000
TZOFFSETTO:+0100
TZNAME:BST
DTSTART:20150329T020000Z
RRULE:FREQ=YEARLY;BYMONTH=3;BYDAY=-1SU
END:DAYLIGHT
BEGIN:STANDARD
TZOFFSETFROM:+0100
TZOFFSETTO:+0000
TZNAME:GMT
DTSTART:20151025T020000Z
RRULE:FREQ=YEARLY;BYMONTH=10;BYDAY=-1SU
END:STANDARD
END:VTIMEZONE
BEGIN:VEVENT
SUMMARY:Развилки Дня
DTSTAMP:20150717T093047Z
SEQUENCE:0
UID:62cf9f480ed47e002be97c825511db4d@172.17.0.3
ORGANIZER;CN="ясмин джакмич":fai@fai.org.ru
DESCRIPTION:\n17 июляДо XIX ве
	ка709 до н. э
	. — Первое
	 описание полн
	ого солнечног
	о затмения\, сдел
	анное китайцем
	 Чу Фу.1048 — Г
	ерманский к
	ороль Генрих
	 III изгнал из Рима
	 папу Бенедикта
	 IX и заменил е
	го Дамасием
	 II.1429 — 
	В отбито
	м у англ
	ичан Рейм
	се коронова
	лся на франц
	узский прест
	ол Карл VII (
	знамя над его
	 головой во в
	ремя церемо
	нии держала 
	Жанна д’Арк).1
	453 — францу
	зы разбили
	 англичан в
	 битве при 
	Кастийоне\
	, последне
	й битве 
	Столетней вой
	ны (после это
	й битвы франц
	узские войска
	 овладели Бордо)
	.1505 — После потр
	ясения во время
	 ужасной грозы\
	, когда он был
	 на волосок о
	т смерти\, М
	артин Люте
	р изменил 
	свои планы
	 стать юристо
	м и стал мон
	ахом авгу
	стинског
	о монастыря
	 в Эрфурте.
	1570 — Уч
	режден
	ие в В
	ильно иез
	уитской ко
	ллегии\, вп
	оследстви
	и преобраз
	ованной в ун
	иверситет.175
	4 — В Нью-
	Йорке откр
	ылся Короле
	вский коллед
	ж. В этом выс
	шем учебном
	 заведении б
	ыло десять с
	тудентов и од
	ин профессор.
	 Через тридцат
	ь лет колледж
	 сменил своё им
	я на Колумби
	йский\, а п
	отом ст
	ал уни
	версит
	етом. 
	1785 
	—
	 с
	ло
	ва
	цки
	й ава
	нтюри
	ст Мор
	иц Бен
	ёвский 
	провозглас
	ил себя им
	ператором 
	Мадагаскар
	а\, объяви
	в войну 
	Франции.1
	791 — На
	 Марсо
	вом пол
	е в Па
	риже р
	асстре
	ляна м
	ирная дем
	онстрация\, тр
	ебовавшая о
	тречения ф
	ранцузского к
	ороля Людовика 
	XVI.1793 — В Па
	риже каз
	нена Шар
	лотта Корде\,
	 убийца одного
	 из лидеров Фра
	нцузской рево
	люции Марата
	.XIX век1841
	 — Вышел
	 первый 
	номер а
	нглийск
	ого юмор
	истическо
	го журнала 
	«Панч».1854 
	— В Австрии
	 пущена в с
	трой перв
	ая в Европ
	е горная
	 железная д
	орога.1868 —
	 японская
	 столица 
	перенесена
	 из Киото в
	 Токио.XX 
	век190
	2 — Уилл
	исом Кэр
	риером п
	редложен 
	проект пе
	рвого кон
	диционера в
	оздуха.1907 
	— Русско-
	японское 
	соглашение
	 в Санкт-Пе
	тербурге. 
	Соглашен
	ие содержа
	ло в себе с
	татьи об у
	важении 
	территориа
	льной целос
	тности сто
	рон\, незави
	симости и це
	лостности Кита
	я\, о разделе Ман
	чжурии на русску
	ю (север) и японс
	кую (юг) сфер
	ы влияния\, 
	о призна
	нии Кореи
	 сферой спе
	циальных 
	интересо
	в Японии\
	, Внешней
	 Монголи
	и — Росс
	ии.1915 —
	 Герм
	ания и А
	встрия зак
	лючили сек
	ретный до
	говор о 
	сотрудн
	ичестве
	 с Болга
	рией.1917 
	— В Ве
	ликобри
	тании и
	з титуло
	в изъяты 
	все немец
	кие имена
	\, в резул
	ьтате 
	чего п
	равящая 
	Саксен-Ко
	бург-Гот
	ская ди
	настия 
	стала н
	азыват
	ься Ви
	ндзорской
	.1917 — В П
	етрогр
	аде ра
	сстрел
	яна дем
	онстра
	ция ра
	бочих 
	и солдат
	.1917 — В
	 пле
	ханов
	ской 
	газете 
	«Единство»
	 русский ж
	урналист 
	Г. Алекси
	нский оп
	убликова
	л сведен
	ия о том\,
	 что Лен
	ин и бол
	ьшевики 
	финансир
	уются неме
	цким прави
	тельством.
	1917 — Ком
	андующ
	ий Бал
	тфлот
	ом ад
	мирал
	 Д. В
	ерд
	ере
	вск
	ий 
	от
	ка
	за
	лс
	я 
	и
	с
	п
	о
	л
	н
	я
	т
	ь
	 
	приказ Временного правите
	льств
	а отпр
	авить 
	корабл
	и прот
	ив крон
	штадтск
	их моряк
	ов.1918 —
	 Протя
	жённо
	сть За
	падного 
	фронта дост
	игла рекорд
	ной для Перво
	й мировой войн
	ы длины — 856
	 км.1918 — 
	США пров
	озгласили
	\, что ос
	новным
	 принц
	ипом ам
	ерикан
	ской ин
	тервенц
	ии на Д
	альнем Вост
	оке будет нев
	мешательство 
	в политически
	е события в Рос
	сии.1918 — Ноч
	ью\, в по
	двале 
	Ипатье
	вского
	 дома\
	, была ра
	сстреляна 
	семья посл
	еднего Им
	ператора В
	сероссийского 
	Николая II.1918 
	— провозгл
	ашена Сибир
	ская республи
	ка.1918 — СНК
	 принял поста
	новление «О
	 постановке
	 в Москве п
	амятников 
	великим лю
	дям».1923 — С
	овнарком СССР
	 создал Сове
	т Труда и Об
	ороны во г
	лаве с В. И.
	 Лениным.1
	928 — Мек
	сикански
	й политик А
	льваро Обрег
	он\, победивш
	ий на выбор
	ах президента
	 страны\, уб
	ит в Мех
	ико во в
	ремя оф
	ициаль
	ного пр
	иёма.1
	929 —
	 СС
	СР 
	раз
	орвал 
	дипломат
	ические о
	тношения 
	с Китаем 
	из-за кон
	фликта по
	 поводу К
	ВЖД.1933
	 — 
	пос
	ле 
	за
	вер
	шен
	ия 
	ст
	ро
	ит
	ел
	ьст
	ва 
	Дне
	про
	гэс
	а 
	и 
	л
	и
	к
	в
	ид
	ации
	 днеп
	ровских
	 порогов
	 пущен пе
	рвый пар
	оход по 
	маршруту 
	Киев — Хер
	сон.1936 — С м
	ятежа вое
	нных нач
	алась Г
	ражданс
	кая война в 
	Испании193
	9 — Итали
	я начала 
	высылку и
	ностранце
	в из Тирол
	я.1941 — В 
	Германии 
	создано р
	ейхсминис
	терство ок
	купирован
	ных восточн
	ых террито
	рий.1942 — Нача
	лся первый
	 этап Стал
	инградской
	 битвы (обо
	ронительны
	й).1943 — 
	В Сиц
	илии сою
	зники созд
	али «военн
	ое правител
	ьство оккуп
	ированных 
	территорий
	».1944 — При
	 разгруз
	ке двух 
	корабле
	й с взры
	вчаткой в 
	Порт-Чикаго 
	в бухте Сан-Фра
	нцискского залива п
	роизошёл взрыв\, 
	из-за которого по
	гиб 321 челове
	к.1944 — По Мо
	скве проведе
	ны 57 тысяч н
	емецких во
	еннопленных.194
	4 — Войска 1
	-го Украинског
	о фронта окруж
	или около 40 
	тысяч не
	мецких 
	солдат
	 в Пол
	ьше.1
	944
	 — В Нормандии английский
	 сам
	олёт 
	обстр
	елял а
	втомоби
	ль немецког
	о фельдмарш
	ала Эрвина Р
	оммеля\, ко
	торый пол
	учил ране
	ния.1945 — На
	чалась П
	отсдамск
	ая конфер
	енция гла
	в государс
	тв-союзник
	ов.1946 — 
	В Юго
	слави
	и расс
	трелян
	 лидер 
	партиз
	анского
	 движени
	я чётников 
	полковник 
	Драголюб М
	ихайлович
	 и восемь
	 его сто
	ронников
	.1947 — В 
	Индийс
	ком оке
	ане перевер
	нулся индийский
	 паром «Рандас»\,
	 в результате чего
	 погибло 625 че
	ловек.1951 
	— Союзники
	 передали 5
	1 угольну
	ю компанию Рура
	 под немецкий к
	онтроль.1962 —
	 Американски
	й самолёт X
	-15\, пилоти
	руемый 
	Роберто
	м Уайто
	м вперв
	ые пере
	сёк гран
	ицу космоса (
	50 миль согласно
	 классификации Вое
	нно-воздушных сил С
	ША).1962 — В 6 ча
	сов 50 ми
	нут ат
	омная 
	подводн
	ая лодка
	 «Ленинс
	кий комсом
	ол» достиг
	ла Северног
	о полюса Зем
	ли. После в
	озвращения
	 лодку на 
	пирсе встреч
	али Н. С. Х
	рущёв и ми
	нистр обор
	оны Р. Я. 
	Малиновс
	кий. 1968
	 — В 
	Лондо
	не про
	шла пре
	мьера 
	полном
	етражного м
	ультипликаци
	онного фильма 
	«Битлз» «Жёлтая подво
	дная лодка».1968 — В х
	оде переворота (в 1
	968—2003 гг. назы
	валась Июльск
	ой революцией)
	 к власти в Ир
	аке пришла партия
	 Баас. На этот раз 
	партия Баас пр
	авила Ираком 
	до 2003 года
	1973 — В Аф
	ганиста
	не свер
	гнута м
	онархия 
	и провоз
	глашена 
	республика
	.1975 — Сос
	тоялась стыков
	ка космических
	 кораблей «Союз» (
	СССР) и «Аполло
	н» (США).1975 — 
	В Калифор
	нии умерла
	 75-летняя 
	слониха Мо
	док\, самое ста
	рое млекопи
	тающее (за искл
	ючением людей) на
	 Земле.1976 — В
	 Монреале
	 начались 
	XXI Олимпийс
	кие игры.197
	9 — Дик
	татор Н
	икарагуа А
	настасио Сом
	оса сбежал в СШ
	А.1982 — Изра
	иль дал боевика
	м ООП 30 дней дл
	я того\, чтоб
	ы покинуть
	 Бейрут.198
	6 — Во в
	ремя телем
	оста Лени
	нград-Бост
	он прозвуч
	ала фраза «
	У нас сек
	са нет…
	»1989 — Восс
	тановлены 
	официальны
	е отношения
	 между Ват
	иканом и Пол
	ьшей.1989 — В С
	ША произвёл
	 первый полё
	т бомбардировщ
	ик B-2 «Спирит»
	\, самый дорогой 
	военный самолёт в 
	мире (его стоимость с
	оставила 1\,3 млрд 
	долларов).1992 
	— После то
	го\, как 
	слова
	цкие д
	епута
	ты про
	голос
	овали 
	за вы
	ход С
	ловак
	ии из
	 состава
	 Чехосло
	вакии и 
	создание
	 собственног
	о суверенного государс
	тва\, президент страны Вац
	лав Гавел (V?clav Havel
	) подал в отс
	тавку.1995 — Е
	вропейский 
	союз подпис
	ал торговый 
	договор с Ро
	ссией.1997 
	— Американ
	ская компа
	ния «Вулворт
	» объявила о
	 закрытии 
	последних
	 50-центо
	вых ма
	газинов
	 в США.1
	998 — Косов
	ские албан
	цы захватил
	и город Ора
	ховац (Юго
	-Запад Кос
	ово).1998 —
	 В Петро
	павловск
	ом собор
	е Петер
	бурга за
	хоронены
	 останки\, при
	знанные на 
	основании
	 экспертиз о
	станками семьи Николая II\, последн
	его русского императора. \n
DTSTART;TZID=Europe/London:20150716T210000Z
DTEND;TZID=Europe/London:20150716T210000Z
END:VEVENT
END:VCALENDAR
