BEGIN:VCALENDAR
VERSION:2.0
PRODID:-//IP.Board Calendar 4.0.13.1//EN
METHOD:PUBLISH
CALSCALE:GREGORIAN
X-WR-CALNAME:В этот день в прошлом
BEGIN:VTIMEZONE
TZID:Europe/London
TZURL:http://tzurl.org/zoneinfo/Europe/London
X-LIC-LOCATION:Europe/London
BEGIN:DAYLIGHT
TZOFFSETFROM:+0000
TZOFFSETTO:+0100
TZNAME:BST
DTSTART:20150329T020000Z
RRULE:FREQ=YEARLY;BYMONTH=3;BYDAY=-1SU
END:DAYLIGHT
BEGIN:STANDARD
TZOFFSETFROM:+0100
TZOFFSETTO:+0000
TZNAME:GMT
DTSTART:20151025T020000Z
RRULE:FREQ=YEARLY;BYMONTH=10;BYDAY=-1SU
END:STANDARD
END:VTIMEZONE
BEGIN:VEVENT
SUMMARY:Развилки дня
DTSTAMP:20150720T081813Z
SEQUENCE:0
UID:dbcac71b8add470437eea521d1e85fcd@172.17.0.3
ORGANIZER;CN="ясмин джакмич":fai@fai.org.ru
DESCRIPTION:\n20 июляДо XIX в
	ека1217 — на княж
	еском съезде 
	в Исадах бы
	ло убито 6 ря
	занских кн
	язей.1534 — 
	в Кембри
	дже зареги
	стрировано п
	ервое в мире
	 издательство\,
	 тогда состоя
	вшее в связи 
	с городским
	 университе
	том.1653 — р
	усское по
	сольство п
	рибыло в 
	Чигирин с
	 уведомлен
	ием о согл
	асии царя взять
	 под своё покро
	вительство запо
	рожское казаче
	ство.1658 — (10
	 июля по старом
	у стилю) патри
	арх Никон отр
	ёкся от патриа
	ршества.XIX 
	век1810 
	— пр
	овоз
	глашено 
	создание 
	независим
	ого латино
	американск
	ого госуда
	рства Колу
	мбия.1840 — в
	 Англии с
	оздана «
	Национал
	ьная чарт
	истская а
	ссоциация»
	\, явившаяся
	 прототипом
	 будущих п
	олитичес
	ких партий 
	рабочих. Асс
	оциация с центр
	ом в городе Ман
	честер насчиты
	вала 40 тыс. челов
	ек.1877 — Эмил
	ь Рено про
	демонстр
	ировал свои 
	- это событ
	ие можно 
	считать 
	началом ис
	тории мул
	ьтипликации.18
	82 — состоя
	лись испыт
	ания самолё
	та А. Ф. Мож
	айского.189
	3 — в России
	 введена «каз
	ённая продажа
	 питей» («вин
	ная монополия
	»)\, один из са
	мых существ
	енных источ
	ников попол
	нения казны
	.1900 — в Па
	риже в св
	ете пров
	едения 
	очеред
	ной Все
	мирной выс
	тавки была о
	ткрыта перв
	ая во Франции
	 линия метропо
	литена.XX век1917
	Представи
	тели сербов
	\, хорватов и
	 словенцев
	 подписали
	 на остров
	е Корфу д
	екларацию\,
	 в которой
	 выразил
	и стремл
	ение соз
	дать единое
	 государство эти
	х народов.Зареги
	стрирована тор
	говая марка «B
	MW».1920 — 
	в ходе на
	ступлени
	я на Пол
	ьшу част
	и Красной 
	армии заня
	ли Вильнюс.
	1933 — ирла
	ндская А
	ссоциация 
	товарищей п
	о оружию пе
	реименован
	а в Национа
	льную гвардию
	\, членов котор
	ой стали назы
	вать «синими ру
	башками».1936 
	— конвенц
	ия\, подпи
	санная 
	в Монтрё\,
	 отдала 
	под юри
	сдикци
	ю Турци
	и проливы Да
	рданеллы и Босфор.
	1940 — американский м
	узыкальный журнал «Bil
	lboard» опубликовал пер
	вый \"топ\" - с
	писок самы
	х популярн
	ых песен.19
	41НКГБ и
	 НКВД 
	СССР об
	ъединены в
	 единый Н
	аркомат в
	нутренни
	х дел.Вел
	икая Оте
	чественн
	ая война
	: На кир
	пичах Бре
	стской креп
	ости была сде
	лана последняя на
	дпись — «Умираю\
	, но не сдаюсь! 
	Прощай\, Р
	одина».19
	44 — совер
	шено знам
	енитое неу
	дачное поку
	шение на Ад
	ольфа Гитлер
	а.1955 — впе
	рвые отк
	рыт для 
	всеобщего
	 обозрения
	 историко-
	архитекту
	рный анса
	мбль Моско
	вского Кремля
	\, после пер
	еезда со
	ветского 
	правитель
	ства весно
	й 1918 года из
	 Петроград
	а в Москву
	 Кремль был 
	закрыт для по
	сещений.1965
	 — глубоково
	дный самоходн
	ый аппарат «
	Элвин»\, пр
	инадлежащий
	 ВМФ США\, с с
	отрудником
	 Океанограф
	ического инс
	титута в Вудс
	-Холле О. Рейн
	и-младшим начал п
	огружение в подв
	одный каньон Язык
	 Океана. Через 1 
	час 37 минут аппар
	ат достиг дна. Глуби
	на погружения сос
	тавила 1 829 метр
	ов. Через 20
	 лет под
	обные и
	сследова
	тельские 
	аппараты п
	озволят доктору
	 Роберту Балларду с
	пуститься к обломкам \"
	Титаника\"\, а еще че
	рез 5 к остову \
	"Лузитании\"
	1966Выход Май
	кла Коллинз
	а с борта к
	осмическог
	о корабля 
	«Джемини
	 X» к рак
	етной 
	ступе
	ни «А
	джен
	а».По
	дпис
	ано 
	пост
	анов
	ление 
	правитель
	ства СССР 
	о строительс
	тве Волжского 
	автомобильного
	 завода.1969 — 
	«Аполлон-11» с
	овершил пер
	вую в истор
	ии пилотиру
	емую посадку на
	 Луну.1974 — на
	чалось Турец
	кое вторжени
	е на Кипр.1976 —
	 проведены 
	первые исс
	ледования 
	на поверхн
	ости Марса
	.1990Опубли
	кованы 
	основны
	е положе
	ния принятой
	 российским пр
	авительством
	 программы «М
	андат довери
	я на 500 дне
	й»\, ра
	зраб
	отан
	ной Г
	ригор
	ием Я
	влинск
	им и п
	редус
	матрива
	ющей приват
	изацию госуд
	арственной с
	обственности 
	и освобождение 
	цен.1994 — на 
	базе Гуманит
	арной Академии
	 ВС РФ и Военн
	ой академии
	 экономики
	\, финансов
	 и права 
	ВС РФ создан Во
	енный университет Вооружённых Сил 
	Российской Федерации.
DTSTART;VALUE=DATE:20150719
END:VEVENT
END:VCALENDAR
