BEGIN:VCALENDAR
VERSION:2.0
PRODID:-//IP.Board Calendar 4.0.13.1//EN
METHOD:PUBLISH
CALSCALE:GREGORIAN
X-WR-CALNAME:В этот день в прошлом
BEGIN:VTIMEZONE
TZID:Europe/London
TZURL:http://tzurl.org/zoneinfo/Europe/London
X-LIC-LOCATION:Europe/London
BEGIN:DAYLIGHT
TZOFFSETFROM:+0000
TZOFFSETTO:+0100
TZNAME:BST
DTSTART:20150329T020000Z
RRULE:FREQ=YEARLY;BYMONTH=3;BYDAY=-1SU
END:DAYLIGHT
BEGIN:STANDARD
TZOFFSETFROM:+0100
TZOFFSETTO:+0000
TZNAME:GMT
DTSTART:20151025T020000Z
RRULE:FREQ=YEARLY;BYMONTH=10;BYDAY=-1SU
END:STANDARD
END:VTIMEZONE
BEGIN:VEVENT
SUMMARY:Развилки Дня
DTSTAMP:20150720T083018Z
SEQUENCE:0
UID:61477875568e9fa476bc41202ca06f92@172.17.0.3
ORGANIZER;CN="ясмин джакмич":fai@fai.org.ru
DESCRIPTION:\n19 июляДо XI
	X века71
	1 — Меж
	ду вес
	тготами
	 и армие
	й Омейя
	дов состо
	ялась бит
	ва при Гвад
	алете\, ок
	ончившая
	ся полной
	 победой ар
	абов. Следс
	твием бит
	вы стало 
	падение
	 государ
	ства ве
	стготов\
	, завоеван
	ие арабами
	 Пиренейского
	 полуострова и
	 последующие за
	тем почти 800 лет Р
	еконкисты.1195 —
	 произошла бит
	ва при Аларкос
	е.1270 — В та
	тарской 
	Орде за 
	отказ о
	тречься о
	т правосл
	авной вер
	ы казнили
	 рязанско
	го князя Рома
	на Олеговича
	\, которого 
	впоследст
	вии канон
	изируетР
	ПЦ.1551 
	— К
	арл
	сбу
	ргск
	им догов
	ором под
	твержден
	ы права 
	Габсбург
	ов на Ве
	нгрию и Т
	рансильванию
	.1553 — в анг
	лийском коро
	левстве низл
	ожена Джейн 
	Грей\, пробывшая 
	королевой 9 д
	ней. Новой 
	королевой
	 стала Мар
	ия Тюдор.1
	586 — Экс
	педиция
	 Джона Д
	эвиса дости
	гла южного б
	ерега Гренла
	ндии\, названн
	ого Землёй З
	апустения.1
	650 — Туре
	цкий пос
	ол Осман-ага
	 в Чигирин
	е заключил
	 военный со
	юз с Богда
	ном Хмель
	ницким.16
	95 — В 
	Велико
	британи
	и в попу
	лярном г
	азетно-
	журналь
	ном сбор
	нике «Как
	 улучшить хоз
	яйство и то
	рговлю» пу
	бликуются пер
	вые брачные об
	ъявления.169
	6 — Азовс
	кие походы
	 Петра I: 
	русская
	 армия о
	владева
	ет Азово
	м после к
	апитуляции ту
	рецкого гарни
	зона. Россия 
	получает вых
	од в Азовск
	ое море.170
	2 — в х
	оде Вели
	кой Север
	ной войн
	ы между а
	рмией Авгу
	ста Сильног
	о и армией 
	Карла XII п
	роизошло С
	ражение при К
	лишове\, зак
	ончившееся р
	ешительной п
	обедой швед
	ов.1799Найд
	ен Роз
	еттски
	й каме
	нь\, б
	лаго
	даря
	 кот
	оро
	му Ша
	мполь
	ону уд
	алось 
	расшиф
	ровать
	 древн
	еегипет
	ский яз
	ык.импе
	ратор 
	Павел I
	 утве
	рдил 
	создани
	е в Иркутск
	е Российско-
	Американской
	 Компании для
	 освоения Аляск
	и.XIX век1802 — 
	В США осн
	ован химиче
	ский концер
	н «Дюпон де 
	Немур». Со
	здателем к
	омпании бы
	л молодой ф
	ранцуз-эми
	грант. Нач
	инала компан
	ия с произво
	дства порох
	а и других в
	зрывчатых 
	веществ и л
	ишь в наше
	м столетии 
	ассортиме
	нт её проду
	кции расширил
	ся до производств
	а красок\, синте
	тической резин
	ы и тканей\, у
	добрений.18
	14 — Англ
	ийский м
	ореплава
	тель М. Ф
	линдерс
	 в своей
	 книге вп
	ервые си
	стематиче
	ски назвал
	 Зелёный к
	онтинент А
	встралией\, поб
	ережье которой
	 он тщательно 
	исследовал и
	 нанес на к
	арту1825 
	— В де
	нь от
	ъезда 
	Анны Петр
	овны Керн
	 из Триго
	рского Пушки
	н вручил ей стихо
	творение «К*» (
	«Я помню чуд
	ное мгновенье
	»). Через 15 ле
	т композитор
	 Глинка напис
	ал романс на эти
	 слова и посвят
	ил его женщине\, 
	в которую был 
	влюблён\, —
	 дочери Анны
	 Керн Екате
	рине. 1870С
	вятой Пр
	естол пр
	овозгласил д
	огмат о папск
	ой безошибочн
	ости. Это решение
	 было принято на I
	 Ватиканском соб
	оре в апреле 553 г
	олосами против 
	двух. Догмат определяет\
	, что когда папа провозгла
	шает «ex catedra»\, то ест
	ь как глава Це
	ркви\, учение
	 Церкви\, 
	касающе
	еся веры
	 или мо
	рали — 
	это учение 
	обладает 
	безошибоч
	ностью.На
	чалась Ф
	ранко-пру
	сская война.1
	871 — В Ка
	наду вкл
	ючена про
	винция Бр
	итанская К
	олумбия.1886 
	— В Люксембу
	рге свой посл
	едний концерт
	 дал Ференц Ли
	ст. XX век190
	5 — В Р
	оссийск
	ой импе
	рии на 
	съезде 
	земски
	х предс
	тавител
	ей призн
	ана пров
	алившей
	ся попыт
	ка устано
	вления вы
	борного п
	равления 
	в рамках 
	констит
	уционной мон
	архии и нача
	та разработк
	а проекта рос
	сийской консти
	туции.1908 — В
	 Лондонском 
	соборе святог
	о Павла еписк
	оп\, благословл
	яя Олимпиаду\, пр
	оизнёс фразу: 
	«Главное — не п
	обеда\, а участи
	е».1909 — Фран
	цузский лётч
	ик Юбер Латам\, п
	риняв вызов газ
	еты «Дейли Мейл»\
	, предложившей 1
	000 фунтов сте
	рлингов перво
	му пилоту\, к
	оторый переле
	тит на аэроплане чер
	ез Ла-Манш\, потерпел 
	неудачу. Пролетев 1
	0-13 км\, он упал в 
	море из-за неи
	справности д
	вигателя\, к
	оторую не с
	умел устра
	нить в полё
	те. Латама по
	добрал франц
	узский военн
	ый корабль 
	«Гарпун». Ч
	ерез 6 дней
	 успеха до
	бился дру
	гой франц
	уз — Луи 
	Блерио. Неуда
	чник на след
	ующий год у
	становил р
	екорд высо
	ты полёта.191
	4 — Григори
	й Распутин в
	ыжил после п
	опытки поку
	шения на не
	го.1918 — В РС
	ФСР вступи
	ла в действие 
	первая советс
	кая конституци
	я.1919 — В Лондоне 
	в течение 21 час
	а продолжался
	 парад победы
	.1920 — В Р
	оссии соз
	дана чре
	звычайн
	ая комис
	сия по 
	ликвид
	ации неграм
	отности.19
	26 — Ек
	атерино
	слав пер
	еименова
	н в Днеп
	ропетровск
	.1927 — В Ле
	нинграде
	 испытан 
	первый о
	течеств
	енный аэр
	оглиссер.
	1928 — В 
	Китае 
	нанкин
	ское п
	равите
	льство
	 аннулиро
	вал все «не
	справедли
	вые» дого
	воры с е
	вропейс
	кими гос
	ударства
	ми.1930Пр
	авите
	льство
	 Финля
	ндии д
	епортир
	овало ли
	деров фи
	нской ко
	мпартии 
	в Советс
	кий Союз.
	Торжеств
	енное от
	крытие Х
	ибинской
	 горной 
	станции
	 Академии
	 Наук ССС
	Р «Тиэт
	та» — центр
	а научно-иссл
	едовательских
	 работ на Кольс
	ком полуострове.
	 В 1934 году станци
	я была преобразо
	вана в Кольскую б
	азу\, в 1949 — с
	оздан Кольский 
	филиал АН СССР\
	, теперь Кольск
	ий научный цент
	р РАН.1936 — Лид
	ер испански
	х коммунистов 
	Д. Ибаррури в речи по р
	адио впервые провозгласил
	а лозунг «No Pasaran!» («О
	ни не пройдут
	!»).1937 — Гебб
	ельсом отк
	рыта выста
	вка «вырож
	денческого и
	скусства»\, 
	на которой
	 были выст
	авлены ра
	боты ава
	нгардис
	тов.1943
	 — У
	инсто
	н Черч
	илль 
	предс
	тавил
	 план
	 испо
	льзов
	ания айсб
	ергов в ка
	честве не
	больших в
	спомогательн
	ых плавучих а
	виабаз.1946 — 
	Первая кин
	опроба Мэри
	лин Монро\, в р
	езультате которой она зак
	лючила контракт с киностудией «
	Twentieth Century-Fox».1949Ла
	ос получ
	ает незави
	симость от
	 Франции.През
	идент США Гарр
	и Трумэн заявил\
	, что СССР разр
	ушит сам се
	бя.1951 — 
	Первый дирижа
	бль\, построенн
	ый в Великобрит
	ании после катас
	трофы R-101\, со
	вершил свой 
	первый полёт
	 в Кардингтоне
	 (графство Бедф
	оршир). Этот м
	аленький ди
	рижабль\, на
	званный «Б
	уэнмаут»\,
	 построен
	 на средс
	тва англий
	ского Клуба 
	любителей 
	дирижаблей
	 под руков
	одством л
	орда Вентр
	и.1952 — Пр
	езидент
	 Финляндии
	 Юхо Паасики
	ви открыл в 
	Хельсинки XV 
	Летние Олим
	пийские игры\, 
	в которых вп
	ервые прин
	яли участи
	е советские с
	портсмены.1
	954 — Выход п
	ервого си
	нгла Элви
	са Пресли.
	1963 — Ин
	донезия
	 объявила\, 
	что переи
	меновыва
	ет Индийс
	кий океан в
	 Индонезий
	ский океан.19
	69 — Индир
	а Ганди от
	дала распоряже
	ние о национа
	лизации 14 крупн
	ейших индийских б
	анков.1980 — В Моск
	ве открылись XXI
	I Олимпийские и
	гры.1991Б. Ел
	ьцин изд
	ал указ о
	 «депар
	тизации
	» всех г
	осударс
	твенных ор
	ганов Росс
	ии.Тысячи 
	жителей Т
	егерана в п
	анике покин
	ули город\, 
	когда китайск
	ий астролог пре
	дсказал там ск
	орое землетряс
	ение.1993 — В С
	ША при набо
	ре в армию 
	запрещено 
	задавать в
	опросы о сек
	суальной ориента
	ции рекрутов (п
	ринцип «Не спраши
	вай\, не говори»).19
	96 — В Атланте 
	начались XXVI 
	Олимпийски
	е игры\, в кот
	орых приняли уч
	астие рекордное колич
	ество спортсменов — 10 744 человека (7 0
	60 мужчин и 3 684 женщины).
DTSTART;VALUE=DATE:20150718
END:VEVENT
END:VCALENDAR
