BEGIN:VCALENDAR
VERSION:2.0
PRODID:-//IP.Board Calendar 4.0.13.1//EN
METHOD:PUBLISH
CALSCALE:GREGORIAN
X-WR-CALNAME:В этот день в прошлом
BEGIN:VTIMEZONE
TZID:Europe/London
TZURL:http://tzurl.org/zoneinfo/Europe/London
X-LIC-LOCATION:Europe/London
BEGIN:DAYLIGHT
TZOFFSETFROM:+0000
TZOFFSETTO:+0100
TZNAME:BST
DTSTART:20150329T020000Z
RRULE:FREQ=YEARLY;BYMONTH=3;BYDAY=-1SU
END:DAYLIGHT
BEGIN:STANDARD
TZOFFSETFROM:+0100
TZOFFSETTO:+0000
TZNAME:GMT
DTSTART:20151025T020000Z
RRULE:FREQ=YEARLY;BYMONTH=10;BYDAY=-1SU
END:STANDARD
END:VTIMEZONE
BEGIN:VEVENT
SUMMARY:Развилки Дня
DTSTAMP:20150720T083704Z
SEQUENCE:0
UID:0907f7b22815ff515ed971dfb564a3a7@172.17.0.3
ORGANIZER;CN="ясмин джакмич":fai@fai.org.ru
DESCRIPTION:\n18 июляДо XIX века39
	0 год до н. э. 
	— Разгром р
	имлян на р
	еке Алии во
	йсками кел
	ьтского в
	ождя Бренн
	а.64 — В Риме 
	вспыхнул пож
	ар\, уничтожив
	ший практич
	ески весь 
	город.13
	25 — О
	снована
	 посреди
	 озера 
	Тескок
	о столица
	 ацтекско
	й империи
	 Теночтитл
	ан.1708 — п
	огиб Конд
	ратий Була
	вин\, пред
	водител
	ь русско
	го крестьянс
	кого восстан
	ия\, по официал
	ьной версии 
	— застрелился
	 сам\, не жел
	ая сдаваться\
	, в действит
	ельности был
	 убит в Чер
	касске ст
	аршинами.1
	770 — Побе
	да русско
	й армии под р
	уководством
	 Румянцева над
	 турками в битве
	 на реке Ларге.179
	0 — Екатерин
	а II в письме
	 назвала А.
	 Радищева\,
	 автора «Пу
	тешествия из С
	анкт-Петербург
	а в Москву»\, бо
	лее опасным\, че
	м Пугачёв.1792
	 — Победа р
	усской армии
	 (Каховский) над 
	польско-литовск
	ой армией (Кост
	юшко) под Ду
	бенкой.XIX 
	век1830
	 — В
	 Уру
	гвае 
	собравш
	ийся в М
	онтевиде
	о Национа
	льный конг
	ресс выработал
	 конституцию\, 
	которая положи
	ла начало ново
	й республике.
	1870В России и
	здан цирку
	ляр о мера
	х предупр
	еждения з
	абастовок
	\; губерна
	торы получил
	и разрешени
	е высылать
	 зачинщико
	в в отдалё
	нные губер
	нии.1872 
	— В Велик
	обритании 
	впервые пр
	оведена пр
	оцедура т
	айного го
	лосования.
	1885 — Рус
	ский из
	обретате
	ль Никол
	ай Бенар
	дос пода
	л заявку 
	на прив
	илегию 
	на изо
	бретён
	ный им сп
	особ эле
	ктрическ
	ой дугово
	й сварки —
	 способ «эл
	ектрогефес
	т».1897 — П
	родолжительн
	ость рабочего дня
	 на российских п
	редприятиях сок
	ращена до 11\,5 час
	ов\, воскрес
	енье объяв
	лено выход
	ным днём.18
	98Пьер и
	 Мария
	 Кюри 
	предст
	авили 
	в Па
	рижс
	кой 
	Ака
	деми
	и до
	клад
	 об от
	крыти
	и нов
	ого 
	хими
	ческ
	ого 
	элемен
	та — поло
	ния — второг
	о после урана
	\, обладающе
	го радиоак
	тивностью.X
	X век1915 
	— В А
	дриат
	ическо
	м море
	 австр
	ийской под
	лодкой пото
	плен итальян
	ский крейсер 
	«Джузеппе Гар
	ибальди».1918
	Вышел в свет 
	первый номе
	р газеты «
	Московская
	 правда».Алапаевская
	 казнь.1921Во Франции врачи Альбер Кал
	ьмет (L?on Charles Albert Calmette) и Камиль Герен (Jean-
	Marie Camille Gu?rin) сд
	елали ребёнку 
	первуюпротивотубер
	кулёзную прививку BCG (Б
	ЦЖ).1925Первая публик
	ация «Mein Kampf»
	 Адоль
	фа Гитл
	ера.В С
	ССР произв
	едён первый
	 полёт на 
	сферичес
	ком аэрос
	тате с нау
	чными целями
	.1929Исполко
	м Коминте
	рна обрати
	лся к трудящ
	имся всего 
	мира с пр
	изывом д
	ать отпо
	р поджи
	гателям 
	войны и
	 органи
	затора
	м контрр
	еволюци
	онного по
	хода прот
	ив СССР.С
	НК СССР 
	принял п
	остановл
	ение «О м
	ероприят
	иях к ус
	илению 
	работы п
	роизводст
	венных сов
	ещаний и и
	спользова
	нию инициатив
	ы рабочих и 
	служащих в
	 деле улуч
	шения про
	изводств
	а».1936В 
	испан
	ском 
	Марокко на
	чалось восс
	тание воен
	ных против
	 Второй и
	спанской
	 республи
	ки.1941 
	— на
	 жел
	езно
	доро
	жной
	 ста
	нци
	и Л
	ычк
	ово
	 в 
	Новг
	ород
	ской о
	бласти
	 налёт
	ом фаши
	стской
	 авиаци
	и унич
	тожен 
	железнодор
	ожный состав\, 
	эвакуировавший 
	из блокадного Ле
	нинграда около 20
	00 детей.1942Фри
	ц Вендель
	 поднял в
	 воздух пр
	ототип первого
	 серийного реа
	ктивного ист
	ребителя «Ме
	ссершмитт Me.2
	62».По дну
	 Ладожс
	кого озе
	ра прол
	ожен тру
	бопрово
	д для под
	ачи топли
	ва в осажд
	ённый Лени
	нград.унич
	тожение на
	цистами г
	етто в Мо
	лчади19
	43 — Е
	динстве
	нный за
	 Втору
	ю миро
	вую в
	ойну
	 бой
	 дириж
	абля с по
	дводной л
	одкой. У
	 берего
	в Флориды
	 американский
	 дирижабль K-74
	 атаковалнем
	ецкую подводную
	 лодку U-134. Резу
	льтат боя: д
	ирижабль был сбит
	 и упал в море (затонул
	 через несколько часо
	в)\, 1 член экипажа (
	из 10) утонул
	.1944 — Го
	сударст
	венный 
	комитет 
	обороны СС
	СР принял
	 постанов
	ление о в
	осстанов
	лении ша
	хт Донба
	сса.1945 
	— Орга
	низован Д
	арвинский
	 государст
	венный при
	родный биосферн
	ый заповедник.19
	47Во Францию ве
	рнулось судно «
	Исход» с 4530 е
	врейскими б
	еженцами\,
	 которых
	 английски
	е власти н
	е допустил
	и в Израи
	ль.Коро
	ль Вели
	кобритании Г
	еорг VI подпи
	сал закон 
	о независ
	имости Бр
	итанской И
	ндии.1954Пе
	рвый фест
	иваль дж
	азовой му
	зыки в Ньюп
	орте (штат Род
	-Айленд\, США)
	.Введено сов
	местное обу
	чение в шк
	олах СССР
	.1955В Па
	риже н
	ачалась 
	первая Кон
	ференция
	 парламе
	нтариев 
	стран — ч
	ленов НАТО
	 (с ноября 
	1966 года 
	— Севе
	роатлант
	ическая а
	ссамблея)
	.ЦК КПСС
	 и Сов
	ет Мин
	истро
	в СССР
	 приня
	ли решение
	 о предост
	авлении Север
	ному Вьетнаму 
	безвозмездной по
	мощи в 400 млн р
	ублей.1958 
	— Подпис
	ан к печа
	ти сборни
	к стихотво
	рений Анны 
	Ахматовой после
	 долгих лет запрет
	а на её творчеств
	о. В книжке всего 12
	7 страниц\, четверть 
	из них — переводы
	.1968Образована ко
	мпания «Intel»
	. Её осн
	овали 
	Роберт
	 Нойс и
	 Гордон
	 Мур.Ли
	дер чеш
	ских к
	оммуни
	стов Алекс
	андр Дубчек
	 выдвинул 
	лозунг «Со
	циализм с
	 человечес
	ким лицом»
	.1972 — Пр
	езидент
	 Египта Анвар 
	Садат потребова
	л от Советского Со
	юза убрать из стр
	аны 20 000 военн
	ых советников\
	, обвинив ССС
	Р в срыве п
	оставок об
	ещанного о
	ружия.1974 
	— В пол
	ьском
	 город
	е Кон
	станти
	нов со
	оружено
	 самое высокое
	 в мире сооружени
	е — мачта Варшавског
	о радио высотой 646\,38 м (
	рухнуло 10 авгус
	та 1991 года)
	.1980 — Запу
	ск первог
	о индийс
	кого спут
	ника (кос
	модром Шр
	ихарикота)
	.1988 — Ко
	манда К
	ВН Новоси
	бирского 
	университета п
	о телевидению з
	апустила лозунг
	 «Партия\, дай 
	порулить!».1991 — В
	ышел первый номер компьют
	ерного еженедельника «Com
	puterWorld — USSR»\, который известен под
	 названием «Computer Weekly»
	.1994Родила 63-
	летняя жен
	щина — возрастной 
	рекорд роженицы\, продержавшийся
	 до января 2005 года.
DTSTART;VALUE=DATE:20150717
END:VEVENT
END:VCALENDAR
