BEGIN:VCALENDAR
VERSION:2.0
PRODID:-//IP.Board Calendar 4.0.13.1//EN
METHOD:PUBLISH
CALSCALE:GREGORIAN
X-WR-CALNAME:В этот день в прошлом
BEGIN:VTIMEZONE
TZID:Europe/London
TZURL:http://tzurl.org/zoneinfo/Europe/London
X-LIC-LOCATION:Europe/London
BEGIN:DAYLIGHT
TZOFFSETFROM:+0000
TZOFFSETTO:+0100
TZNAME:BST
DTSTART:20150329T020000Z
RRULE:FREQ=YEARLY;BYMONTH=3;BYDAY=-1SU
END:DAYLIGHT
BEGIN:STANDARD
TZOFFSETFROM:+0100
TZOFFSETTO:+0000
TZNAME:GMT
DTSTART:20151025T020000Z
RRULE:FREQ=YEARLY;BYMONTH=10;BYDAY=-1SU
END:STANDARD
END:VTIMEZONE
BEGIN:VEVENT
SUMMARY:Развилки Дня
DTSTAMP:20150721T071539Z
SEQUENCE:0
UID:870f9848e57e1e59468659ac03fb2bad@172.17.0.3
ORGANIZER;CN="ясмин джакмич":fai@fai.org.ru
DESCRIPTION:\n21 июняДо XIX века[356 до н
	. э. — В ночь с 20 н
	а 21 июля Герос
	трат сжёг Хра
	м Артемиды в 
	Эфесе\, одно
	 из Семи чуд
	ес света.3
	65 — з
	емлет
	рясени
	ем части
	чно разр
	ушено одн
	о из семи
	 чудес св
	ета — Ал
	ександрий
	ский маяк.
	 Окончатель
	но маяк был разру
	шен в результат
	е очередного земл
	етрясения в 1375
	 году.1542 — 
	папа рим
	ский Павел 
	III учредил
	 Римскую
	 инквизици
	ю для борьб
	ы с протест
	антизмом.1
	718 — Зак
	лючён 
	Пожарев
	ацкий мир\,
	 окончивши
	й Австро-
	Турецкую и Т
	урецко-Венециан
	скую войну.1773
	 — папа римск
	ий Климент X
	IV издал бу
	ллу о за
	прете О
	рдена и
	езуитов
	.1774 — 
	Россия
	 и Осма
	нская и
	мперия 
	подписа
	ли Кючук-
	Кайнарджийский 
	мирный договор\, заверш
	ившийРусско-турецкую
	 войну 1768—1774.XIX век
	1822 — создани
	е Первой Ме
	ксиканской и
	мперии.1831 — 
	коронация Ле
	опольда I\, п
	ервого ко
	роля Бельг
	ии.1861 — п
	ервое кр
	упное сух
	опутное сра
	жение Америк
	анской Граж
	данской Вой
	ны возле Ма
	нассаса.1883
	 — введен
	 в эксплуат
	ацию Березник
	овский содовый за
	вод\, первый зав
	од такого род
	а в России.X
	X век1904 — 
	завершено ст
	роительство 
	Великой Сибир
	ской магистрал
	и\, длившееся 1
	3 лет. Офи
	циальное отк
	рытие железн
	ой дороги с
	остоялось 1
	 января сл
	едующего го
	да.1906 — П. А
	. Столыпи
	н назнач
	ен главой
	 правите
	льства Росс
	ии.1917 — А. 
	Ф. Керенск
	ий возглав
	ил Временное
	 правительств
	о.1918 — тат
	ары обр
	атились
	 к Германии
	 с просьбо
	й объяви
	ть окку
	пирован
	ный Крым
	 татарским ха
	нством.1930На
	значение 
	Литвинова 
	наркомом ин
	остранных д
	ел.1940Кома
	ндование
	 гитлеро
	вской Ге
	рмании 
	начало 
	разрабо
	тку вое
	нной ка
	мпании
	 против
	 Советс
	кого С
	оюза 
	— «Пл
	ана Ба
	рбаро
	сса».
	Провозгл
	ашение со
	ветской в
	ласти се
	ймами Л
	атвии и Литв
	ы и думой Эс
	тонии.1941 —
	 первый на
	лёт люфтв
	аффе на Мо
	скву.1944Аме
	рикански
	е войска в
	ысаживаютс
	я на запад
	ной части 
	острова 
	Гуам\, на
	чало Би
	твы за Г
	уам.Со
	здание
	 Польск
	ого ком
	итета 
	национа
	льного 
	освобож
	дения. 
	Принятие К
	райовой Рад
	ой Народовой
	 закона о со
	здании Войс
	ка Польского
	.1953 — СССР
	 требует 
	от амер
	икански
	х властей 
	прекратить
	 раздачу б
	есплатной
	 пищи жит
	елям Восто
	чного Берл
	ина.1954 —
	 подпис
	ываются 
	Женевские
	 соглашения\,
	 завершивши
	е колониальну
	ю войну Франции в
	 Индокитае.196
	3 — избран
	ие Павла 
	VI Римски
	м Папой.
	1969 —
	 америк
	анские астрон
	авты Нил Армстр
	онг и Эдвин Ол
	дрин в рамках полё
	та «Apollo 11» выходят
	 на поверхнос
	ть Луны.197
	0 — закончен
	о 11-летнее с
	троительство А
	суанской плотин
	ы в Египте.1973 
	— запущен «Марс-
	4».1975 — завер
	шение эксп
	еримента «
	Союз-Апол
	лон».1983 
	— на а
	нтаркт
	ической 
	станции 
	«Восток» 
	была зафик
	сирована сама
	я низкая температура на плане
	те за всю историю наблюдения ?89\,2 °C.
DTSTART;TZID=Europe/London:20150720T210000Z
DTEND;TZID=Europe/London:20150720T210000Z
END:VEVENT
END:VCALENDAR
