BEGIN:VCALENDAR
VERSION:2.0
PRODID:-//IP.Board Calendar 4.0.13.1//EN
METHOD:PUBLISH
CALSCALE:GREGORIAN
X-WR-CALNAME:В этот день в прошлом
BEGIN:VTIMEZONE
TZID:Europe/London
TZURL:http://tzurl.org/zoneinfo/Europe/London
X-LIC-LOCATION:Europe/London
BEGIN:DAYLIGHT
TZOFFSETFROM:+0000
TZOFFSETTO:+0100
TZNAME:BST
DTSTART:20150329T020000Z
RRULE:FREQ=YEARLY;BYMONTH=3;BYDAY=-1SU
END:DAYLIGHT
BEGIN:STANDARD
TZOFFSETFROM:+0100
TZOFFSETTO:+0000
TZNAME:GMT
DTSTART:20151025T020000Z
RRULE:FREQ=YEARLY;BYMONTH=10;BYDAY=-1SU
END:STANDARD
END:VTIMEZONE
BEGIN:VEVENT
SUMMARY:Развилки Дня
DTSTAMP:20150721T081102Z
SEQUENCE:0
UID:c4e2f88d10ef5b458c5d0b5891ef70dd@172.17.0.3
ORGANIZER;CN="ясмин джакмич":fai@fai.org.ru
DESCRIPTION:\n22 июляДо XIX
	 века1099 —
	 крестон
	осцами со
	здано Иер
	усалимское
	 королевство
	\, первым гл
	авой госуда
	рства («защи
	тником Гроб
	а Господня») 
	избран герцо
	г Бульонский.
	1246 — италь
	янский пут
	ешественн
	ик 65-летни
	й франци
	сканский
	 монах Д
	жованни 
	да План
	о Карп
	ини первы
	м из евро
	пейцев д
	остиг с
	толицы
	 монгол
	ьской им
	перии Ка
	ракорума.
	1456 — осв
	обождение 
	Белграда 
	венгерской
	 армией от 
	османски
	х завоева
	телей.1502 —
	 в Лиссабо
	н вернулис
	ь участники
	 португальс
	кой экспеди
	ции\, в кото
	рой в долж
	ности аст
	ронома пр
	инимал уча
	стие Амери
	го Веспуччи
	. Это плава
	ние принесло
	 ему мировую
	 славу как 
	первооткрыв
	ателю Нового Св
	ета\, как тогда наз
	ывали Южную Америк
	у\, лежавшую к югу
	 от экватора.1763
	 (2 августа п
	о новому с
	тилю)— Екате
	рина II издаё
	т Манифест «О
	 дозволении вс
	ем иностранцам
	\, в Россию въез
	жающим\, посе
	ляться в котор
	ых губерниях 
	они пожелают
	 и о дарованных 
	им правах»\, ч
	то стимули
	ровало миг
	рацию немц
	ев в Россию.17
	90 — во Фр
	анции на
	ционализ
	ировано и
	мущество церкв
	и.1793 — шотландский исслед
	ователь Александр Маккензи (
	Alexander Mackenzie) стал пе
	рвым европей
	цем\, пересёк
	шим Канаду 
	с востока к 
	Тихому океан
	у.1795В Моск
	ве в имении
	 графов Шер
	еметевых о
	снован теат
	р-дворец «Ос
	танкино». В 
	этот день п
	ремьерой лир
	ической драмы 
	«Вельмира и См
	елон» (музыка
	 О. Козловск
	ого\, текст
	 П. Потёмкин
	а) открылся
	крепостной
	 театр.Испан
	ия подписал
	а договор\,
	 по которо
	му она п
	окидала 
	свою колони
	ю Санто-Доминго 
	— восточную поло
	вину острова Га
	ити. Остров\, с ко
	нца XVII века поде
	лённый между Фра
	нцией и Испанией\
	, стал\, наконец\, единым.1796 —
	 генерал Мозес Кливленд (
	Moses Cleaveland) выбрал 
	место новог
	о поселения 
	на южном бер
	егу озера Эр
	и при впадении
	 в него реки Кайахога.
	 Через четыре года т
	ам обитало 7 челове
	к\, к 1830 году 
	оно превы
	сило тысяч
	у человек.
	 Ныне Клив
	ленд — крупный п
	ромышленный\, фин
	ансовый и культ
	урный центрСША.
	XIX век1806 — ш
	люп «Нев
	а» под ко
	мандовани
	ем Ю. Ф. Ли
	сянского б
	росил якорь
	 на Кроншт
	адтском рей
	де\, заверши
	в первое р
	усское кру
	госветное п
	утешествие
	. На обратном пу
	ти «Нева» впер
	вые в истории
	 мирового мор
	еплавания за 1
	42 дня совершил
	а безостановочн
	ый переход из Юж
	ного Китая в Анг
	лию. Через 16 д
	ней в род
	ную гав
	ань ве
	рнулся
	 и вто
	рой к
	орабл
	ь кру
	госве
	тной эксп
	едиции — 
	шлюп «Наде
	жда» под ко
	мандование
	мИ. Ф. Крузен
	штерна.1814 —
	 пять индей
	ских племён в 
	Огайо заключ
	или мир с США
	 и объявил
	и войну Ан
	глии.1863
	 — в Пет
	ербурге н
	а Невском
	 проспекте
	 состоялос
	ь первое ис
	пытание кон
	ки.1894 — во Франции
	 прошли первые автомобильные с
	оревнования: «Paris-Rouen Trai
	l».XX век1906 — Аль
	фред Дрейфус\,
	 обвинённый в
	 1894 году в 
	государс
	твенной и
	змене и п
	риговорё
	нный к пожи
	зненной ка
	торге на 
	Дьявольск
	ом остров
	е во Фран
	цузской Г
	виане\, полн
	остью реаби
	литирован и 
	награждён 
	орденом Поч
	ётного леги
	она.1910 — при
	 пожаре в Я
	сной Поля
	не уничтож
	ены рукописи
	 Льва Толсто
	го.1921Физик 
	Пётр Капица п
	оступил на рабо
	ту в Кавендишс
	кую лабораторию
	 в Англии.1922 
	— в связи
	 с запрето
	м выступат
	ь на Олимпиа
	де Германия
	 провела аль
	тернативные 
	Игры в Лейпциг
	е.1930 — Колхозц
	ентр СССР устано
	вил оценку и оплату
	 труда в колхозах не
	 в деньгах\, а в 
	трудоднях.19
	44Созданн
	ый днём 
	ранее в
	 Хелме 
	близ Лю
	блина П
	ольский 
	комитет нац
	ионального 
	освобождени
	я издал Мани
	фест к поль
	скому наро
	ду\, в кот
	ором сфо
	рмулиров
	ал програм
	му постро
	ения народ
	но-демокра
	тической П
	ольши. Чер
	ез четыре д
	ня правите
	льство СССР
	 подписало с
	оглашение с
	 Комитетом\
	, которым пр
	изнавалась 
	его власть н
	а освобожд
	аемой польс
	кой террито
	рии. В конц
	е года Ко
	митет бы
	л преоб
	разова
	н во Вр
	еменно
	е правите
	льство Поль
	ской Респуб
	лики.Основ
	ан Междуна
	родный валю
	тный фонд.19
	46На завершив
	шейся Международн
	ой конференции здра
	воохранения (Нью-Йо
	рк\, 19-22 июля) 
	одобрен и п
	ринят Устав В
	семирной организ
	ации здравоохранени
	я (ВОЗ). Вступил в 
	силу 7 апреля 19
	48 года.В отв
	ет на собы
	тия «Чёр
	ной суббо
	ты»\, еврей
	ские боеви
	ки взорвали о
	тель «Царь Давид
	» в Иерусалиме\, в
	 результате чего 
	погиб 91 человек.
	1954 — ЦК КПС
	С принял п
	остановле
	ние «О мерах 
	по усилению 
	пропаганды з
	дорового быта
	 среди населения».
	1959 — состоялся
	 первый полё
	т самолёта 
	Ан-10.1960Ку
	ба нац
	ионализ
	ировала 
	принадл
	ежавшие 
	США сахар
	ные завод
	ы. Сахар с
	тал пост
	упать в
	 СССР.В
	 Москве
	 создан
	 Институт
	 экономики ст
	ран мировой 
	социалистиче
	ской системы
	 Академии н
	аук СССР.1961 — 
	первый полё
	т первого с
	оветского 
	экраноплана 
	«СМ-1».1977 —
	 в Китае ч
	лены «банды
	 четырёх» исключены и
	з Коммунистической парти
	и\, а Дэн Сяопин (Deng X
	iaoping) восст
	ановлен в д
	олжности з
	аместителя
	 председате
	ля Государс
	твенного сове
	та.1983 — отмена 
	военного по
	ложения в Польше
	 (введено 13 декабря 1981 года 
	генералом Ярузельским) (Wojciech Wito
	ld Jaruzelski).1986 — па
	лата общ
	ин британ
	ского па
	рламента
	 проголосовал
	а за отмену т
	елесных нак
	азаний в го
	сударственн
	ых школах.199
	7Президент Р
	оссии Борис
	 Ельцин нало
	жил вето на за
	кон о религи
	и\, дающий
	 привилегии
	 православ
	ной церкви 
	1999 — госс
	овет Куб
	ы обнарод
	овал декре
	т\, направ
	ленный на пресечение
	 попыток нелегально покинуть территор
	ию острова.
DTSTART;TZID=Europe/London:20150721T210000Z
DTEND;TZID=Europe/London:20150722T205900Z
END:VEVENT
END:VCALENDAR
