BEGIN:VCALENDAR
VERSION:2.0
PRODID:-//IP.Board Calendar 4.0.13.1//EN
METHOD:PUBLISH
CALSCALE:GREGORIAN
X-WR-CALNAME:В этот день в прошлом
BEGIN:VTIMEZONE
TZID:Europe/London
TZURL:http://tzurl.org/zoneinfo/Europe/London
X-LIC-LOCATION:Europe/London
BEGIN:DAYLIGHT
TZOFFSETFROM:+0000
TZOFFSETTO:+0100
TZNAME:BST
DTSTART:20150329T020000Z
RRULE:FREQ=YEARLY;BYMONTH=3;BYDAY=-1SU
END:DAYLIGHT
BEGIN:STANDARD
TZOFFSETFROM:+0100
TZOFFSETTO:+0000
TZNAME:GMT
DTSTART:20151025T020000Z
RRULE:FREQ=YEARLY;BYMONTH=10;BYDAY=-1SU
END:STANDARD
END:VTIMEZONE
BEGIN:VEVENT
SUMMARY:Развилки Дня
DTSTAMP:20150723T082921Z
SEQUENCE:0
UID:b76b7a664b7c6bab1fc9695ec7a0718b@172.17.0.3
ORGANIZER;CN="ясмин джакмич":fai@fai.org.ru
DESCRIPTION:\n23 июля97
	1 — рус
	ский кн
	язь Свято
	слав Игоре
	вич провёл
	 военный сове
	т у стен Доро
	стола(Болгария)
	 и решил дать 
	последний бо
	й в ходе вой
	ны с Византией
	.1687 — В Пар
	иж прибыло п
	ервое русское
	 посольство.1
	711 — Подп
	исан Пру
	тский дог
	овор\, по
	 котор
	ому Ро
	ссия воз
	вращала
	 Турции 
	Азов и о
	бязалас
	ь разруш
	ить крепо
	сть Таганр
	ог.1759 — 
	Пальцигс
	кое сражен
	ие Семилетне
	й войны. Русс
	кие войска разг
	ромили прусский
	 корпус.1812 — Б
	ой под Салтановк
	ой.1831 — Начало
	 холерного бунт
	а в Старой Рус
	се.1840 — Брит
	ания объя
	вила о то
	м\, что Кана
	де будет 
	предостав
	лен стату
	с самоупр
	авляющейс
	я территор
	ии.1873 — 
	Французс
	кий худож
	ник Гюста
	в Курбе пер
	ешёл через 
	швейцарскую
	 границу\, на
	всегда оста
	вив родину.
	 Причиной 
	данного ш
	ага стало 
	обвинение
	 художника 
	в организа
	ции сноса Ва
	ндомской колонны
	 в дни Парижской Ком
	муны и наложение на не
	го штрафа в 330 000
	 франков золот
	ом.1901 — Не
	мецкий в
	рач Робе
	рт Кох выдвин
	ул теорию\, ч
	то переносч
	иком бубонн
	ой чумыявляютс
	я крысы.1903 — Спустя месяц
	 после образования корпора
	ции «Ford Motor Company» он
	а выпустила 
	в продажу св
	ой первый а
	втомобиль 
	«модель А»
	. В течение пер
	вого года сво
	его существова
	ния компания пр
	оизвела 1700 авто
	мобилей. Первы
	й автомобиль\
	, выставленны
	й на продажу\, 
	был описан к
	ак «наиболее
	 совершенная маш
	ина на рынке\, ко
	торую в состоя
	нии водить даж
	е 15-летний 
	мальчик». Первый 
	автомобиль был продан 
	доктору Эрнесту Пфеннинг
	у (Ernst Pfenning) из Чикаг
	о\, который ку
	пил машину м
	есяц спустя
	 после регис
	трации компа
	нии\, к больш
	ой радости
	 обеспокое
	нных акцио
	неров\, нервно набл
	юдавших за умен
	ьшением банковс
	кого баланса до
	 $223.1908 — Мл
	адотурецка
	я революци
	я. Восста
	новление
	 констит
	уции в Т
	урции.1918
	 — Омск
	ое прави
	тельство
	 провозгла
	сило незави
	симость Сиб
	ири\, отмен
	у всех бо
	льшевистски
	х законов\, во
	сстановление
	 помещичьей соб
	ственности на 
	землю.1923 — Н
	а базе боль
	ницы графа
	 Н. П. Шерем
	етьева откр
	ыт институт т
	равматологии 
	и неотложной 
	помощи им. Н.
	 В. Склифо
	совского\, 
	который чере
	з некоторое 
	время был реорг
	анизован в НИИ с
	корой помощи им. 
	Н.В Склифосовс
	кого.1951 — В Рок
	енкорте (Франц
	ия) открыта ш
	таб-квартир
	а НАТО.1968 
	— Впервы
	е в истории т
	еррористам
	и захвачен г
	ражданский
	 самолёт с 
	заложника
	ми[3]. Боев
	ики Нар
	одного фр
	онта осво
	бождения 
	Палестин
	ы соверш
	или перв
	ый (и еди
	нственный) 
	успешный 
	угон сам
	олёта из
	раильской
	 авиакомп
	ании «Эль-Ал
	ь».1974 — Св
	ергнута
	 диктату
	ра «чёрных
	 полковников» 
	в Греции.1980 
	— Запуск 
	космическо
	го корабля
	 Союз-37\
	, в сос
	таве
	 его 
	экипа
	жа в космо
	сотправился первый к
	осмонавт из Азии\, вь
	етнамец Фам Туан (Ph?
	m Tu?n).1982 — Приня
	то решение о п
	овсеместном зап
	рете вылова китов
	 в коммерческих це
	лях.1983Гибель 13
	 солдат арм
	ии Шри-Лан
	ки в засад
	е боевик
	ов органи
	зации «Тиг
	ры освобожден
	ия Тамил-Илама»
	. Начало гражд
	анской войны н
	а Шри-Ланке.1985
	 — На боев
	ое дежурс
	тво пост
	авлены р
	акеты «Т
	ополь».
	1992 — Верх
	овный Сове
	т Абхазии п
	ровозгласил 
	независимость
	 от Грузии.1994Вст
	упил в силу за
	кон «О Консти
	туционном Су
	де РФ».2000
	 — Отк
	рыт н
	овый е
	стеств
	енный с
	путник 
	крупней
	шей план
	еты Солн
	ечной сист
	емы —Юпитера
	. Это самый мал
	енький по размер
	ам спутник из все
	х известных\, е
	го диаметр с
	оставляет 4
	\,8 км. От
	крыти
	е сде
	лано
	 аст
	ронома
	ми униве
	рситета 
	Аризоны и
	 подтверж
	дено обсе
	рваторией 
	Массачусетс
	а.2002 — Учё
	ные полу
	чили под
	твержден
	ие одной из
	 самых за
	гадочных
	 легенд —
	 о существ
	овании м
	орских ч
	удовищ. Н
	а острове
	 Тасмания
	 на берег выб
	росило гигант
	ского кальмара
	. Весил он четверть тонны
	\, а длина его щупальцев превышала 15 метр
	ов.
DTSTART;VALUE=DATE:20150722
END:VEVENT
END:VCALENDAR
