BEGIN:VCALENDAR
VERSION:2.0
PRODID:-//IP.Board Calendar 4.0.13.1//EN
METHOD:PUBLISH
CALSCALE:GREGORIAN
X-WR-CALNAME:В этот день в прошлом
BEGIN:VTIMEZONE
TZID:Europe/London
TZURL:http://tzurl.org/zoneinfo/Europe/London
X-LIC-LOCATION:Europe/London
BEGIN:DAYLIGHT
TZOFFSETFROM:+0000
TZOFFSETTO:+0100
TZNAME:BST
DTSTART:20150329T020000Z
RRULE:FREQ=YEARLY;BYMONTH=3;BYDAY=-1SU
END:DAYLIGHT
BEGIN:STANDARD
TZOFFSETFROM:+0100
TZOFFSETTO:+0000
TZNAME:GMT
DTSTART:20151025T020000Z
RRULE:FREQ=YEARLY;BYMONTH=10;BYDAY=-1SU
END:STANDARD
END:VTIMEZONE
BEGIN:VEVENT
SUMMARY:Развилки Дня
DTSTAMP:20150724T083000Z
SEQUENCE:0
UID:add0a6a9da38cd279d3553adc2f0d813@172.17.0.3
ORGANIZER;CN="ясмин джакмич":fai@fai.org.ru
DESCRIPTION:\n24 июляДо XI
	X века97
	1 — 
	Под 
	Доро
	стол
	ом к
	иевск
	ий кн
	язь С
	вятосл
	ав и ви
	зантийс
	кий импе
	ратор Иоан
	н Цимисхий 
	заключили п
	очётный мир 
	на условиях
	 военной по
	мощи\, соб
	людения пре
	жних догово
	ров и присо
	единения б
	олгарских
	 земель к 
	Византии.
	1534 — Фр
	анцузс
	кая экспе
	диция Жака 
	Картье дос
	тигла устья р
	еки Святого Л
	аврентия(Кана
	да).1619 — Митро
	полит Филаре
	т\, отец царя Мих
	аила Фёдоровича
	\, возведён в п
	атриархи Всея 
	Руси.1701 — Ос
	нован Детро
	йт. Основателе
	м города (тог
	да это был 
	посёлок д
	ля торгов
	ли мехам
	и) стал 
	управляю
	щий франц
	узскими в
	ладениями 
	в Северной
	 Америке Антуа
	н Кадиллак\, им
	я которого уве
	ковечено в марк
	е автомобиля.17
	04 — Русские 
	войска отбил
	и у шведов Юрь
	ев.1728 — С Ка
	мчатки выш
	ел в плаван
	ие корабль
	 «Св. Гавриил
	» под командо
	й офицера ру
	сского флота 
	Витуса Беринга.1
	790 — Екатерина
	 II повелела от
	дать под суд 
	А. Радищева\, ав
	тора романа 
	«Путешествие
	 из Петербург
	а в Москву».1
	791 — Член
	ы оппози
	ционного
	 крыла я
	кобинской 
	партии лишены
	 французского 
	гражданства с
	воими однопар
	тийцами.XIX в
	ек1837 — Т
	рагическ
	и закончи
	лась перв
	ая публичн
	ая демонстра
	ция парашюта но
	вой формы с пер
	евернутым вве
	рх дном купол
	ом\, который\, п
	о замыслу его изобретателя
	 англичанина Роберта Кокин
	га (Robert Cocking)\, долже
	н был предотвр
	атить раскачив
	ание. Поднятый на
	 высоту 2000 мет
	ров аэростато
	м «Грейт Нассо
	 Балун»\, пар
	ашют с нахо
	дящимся под н
	им в корзине 
	Кокингом нач
	ал спускаться
	 довольно уда
	чно\, но затем в
	ерхний обод 
	купола смял
	ся и спуск пр
	евратился в
	 падение\, 
	закончившеес
	я смертью изобретателя. 
	А пилотировал аэростат Чар
	льз Грин (Charles Green)\
	, который со вр
	еменем станет пе
	рвым воздухоплав
	ателем\, соверш
	ившим 100 полё
	тов.1847 —
	 Первые
	 колони
	сты-мормо
	ны органи
	зовали пос
	еление в 
	районе Бо
	льшого Солёно
	го озера\, впос
	ледствии став
	шее городом Солт-Л
	ейк-Сити.1851 — В
	 Британии отм
	енён налог н
	а окна.186
	4 — во
	 втор
	ом сра
	жении
	 при К
	ернст
	ауне г
	енерал 
	Конфедерац
	ии Джубал Э
	рли разгром
	ил федеральн
	ую армию Дж
	орджа Кру
	ка.1870 —
	 В Нью-Йо
	рк прибыл п
	ервый транс
	континентал
	ьный поезд из
	 Сан-Франциско.
	XX век1906 — Пр
	емьер-министр
	 России П. Ст
	олыпин приз
	вал к борьбе
	 с «врагами
	 общества
	».1911 — 
	Амер
	иканс
	кий а
	рхеол
	ог Ха
	йрем Бин
	гхэм отк
	рыл в Перу
	 «потерянн
	ый город»Имп
	ерии Инков М
	ачу-Пикчу\, кот
	орый служил то
	 ли убежищем 
	для последне
	го императора\, 
	то ли укрытием
	 для «дочерей 
	Солнца» от к
	онкистадоров
	.1915 — В Нью
	-Йоркско
	м метро 
	америка
	нцами об
	наружен ди
	пломат дире
	ктора отдел
	а пропаган
	ды немецко
	го посольс
	тва в США.1
	923 — На Лоза
	ннской конф
	еренции под
	писана конве
	нция о режиме
	 проливов.192
	5 — Народ
	ный комис
	сариат вну
	тренних дел
	 СССР утвер
	дил устав
	 Общества
	 друзей сов
	етского кин
	о. Его предс
	едателем и
	збран Фели
	кс Дзержинс
	кий. За год
	 до этого
	 его избрал
	и председа
	телем Обще
	ства изуче
	ния межпл
	анетных сообщ
	ений.1928 — В
	 Индии Ник
	олай Рерих осн
	овал «Урусвати
	».1938 — Изобр
	етён раств
	оримый коф
	е.1941 — Б
	удущий
	 американ
	ский през
	идент Гар
	ри Трумэн в и
	нтервью призва
	л помогать СССР\
	, пока побеждает Г
	ермания\, и Герм
	ании\, когда бу
	дет побеждать 
	СССР1942 — нем
	ецкие войска з
	аняли г. Росто
	в-на-Дону. Нач
	алась Битва
	 за Кавказ19
	48 — СССР 
	закрыл а
	втомоби
	льное и же
	лезнодоро
	жное сообщ
	ение между
	 Западной Г
	ерманией и
	 Берлином\
	, поэтому 
	западные
	 державы
	 вынужде
	ны были уст
	ановить для
	 сообщения с Зап
	адным Берлином воздуш
	ный мост (до 30 сентяб
	ря 1949 года).1949
	 — После 16-летнего изгн
	ания немецкий писатель Том
	ас Манн (Paul Thomas Mann) вер
	нулся в Германию.1950 
	— Первый запуск с мыса
	 Канаверал (Canaveral) 
	ракеты — немец
	кой Фау-2.1959 —
	 В ходе виз
	ита в ССС
	Р на отк
	рытии амер
	иканской выставки в
	 Москве вице-президент США Р
	ичард Никсон (Richard Milhous
	 Nixon) имел д
	искусси
	ю с сов
	етским
	 генер
	альным
	 секретар
	ём Никито
	й Сергеевич
	ем Хрущёвым 
	(знаменитый «
	кухонный спор»)
	. Каждый остался 
	при своём мнени
	и и был доволен
	 сам собой.1969 —
	 Аполлон-11 
	успешно пр
	иводнился 
	в Тихом оке
	ане.1981 — В
	 Италии зап
	рещена деятель
	ность всех мас
	онских лож и тайн
	ых обществ.1987 — IBM выпустил
	а операционную систему «DOS
	» Version 3.3.1990 — В СС
	СР отменены 
	введённые пя
	ть лет назад 
	все ограниче
	ния на прода
	жу алкоголя.199
	1 — Индия з
	аявила об от
	ходе от пла
	нирования 
	экономики.1
	993 — Опуб
	ликовано 
	сообщени
	е Централ
	ьного Банка
	 России о пр
	екращении 
	хождения куп
	юр советского
	 образца и их 
	обмене в ус
	тановленный срок. Силу стал им
	еть только новый российский рубль.
DTSTART;TZID=Europe/London:20150723T210000Z
DTEND;TZID=Europe/London:20150723T210000Z
END:VEVENT
END:VCALENDAR
