BEGIN:VCALENDAR
VERSION:2.0
PRODID:-//IP.Board Calendar 4.0.13.1//EN
METHOD:PUBLISH
CALSCALE:GREGORIAN
X-WR-CALNAME:В этот день в прошлом
BEGIN:VTIMEZONE
TZID:Europe/London
TZURL:http://tzurl.org/zoneinfo/Europe/London
X-LIC-LOCATION:Europe/London
BEGIN:DAYLIGHT
TZOFFSETFROM:+0000
TZOFFSETTO:+0100
TZNAME:BST
DTSTART:20150329T020000Z
RRULE:FREQ=YEARLY;BYMONTH=3;BYDAY=-1SU
END:DAYLIGHT
BEGIN:STANDARD
TZOFFSETFROM:+0100
TZOFFSETTO:+0000
TZNAME:GMT
DTSTART:20151025T020000Z
RRULE:FREQ=YEARLY;BYMONTH=10;BYDAY=-1SU
END:STANDARD
END:VTIMEZONE
BEGIN:VEVENT
SUMMARY:Развилки Дня
DTSTAMP:20150727T081646Z
SEQUENCE:0
UID:2f274c02297f0b837215ea050aff38e6@172.17.0.3
ORGANIZER;CN="ясмин джакмич":fai@fai.org.ru
DESCRIPTION:\n27 июляДо XIX ве
	ка1147 — Как
	 указывает
	 повесть 
	«Сказани
	е об убие
	нии Даниила
	 Суздальско
	го и начал
	е Москвы»
	 — была 
	основана
	 Москва.1
	586 — А
	нглийски
	й мореплав
	атель Уолт
	ер Рэли вп
	ервые привё
	з в Британию т
	абак.1694 — Ак
	том парламе
	нта основан
	 Банк Англи
	и.1710 — На 
	Ратушной 
	площади 
	Риги власти го
	рода принесли
	 присягу на в
	ерность рус
	скому царю 
	Петру I.17
	41 — Ко
	рабль
	 Алек
	сея Чи
	рикова
	 из эк
	спедиции В
	итуса Берин
	га первым 
	достиг остр
	ововСеверо-
	Западной Ам
	ерики.1789
	 — Соз
	дан Де
	партам
	ент по 
	иностра
	нным св
	язям —
	 первый г
	осударствен
	ный исполнител
	ьный орган СШ
	А (ныне Госде
	партамент СШ
	А).1794 — Пе
	реворот 9 терм
	идора в Париж
	е. Спад Великой 
	Французской р
	еволюции.XIX век
	1827 — Учрежден
	о первое в Р
	оссии стра
	ховое общес
	тво.1836 — В чест
	ь победы ру
	сского вои
	нства в От
	ечественной во
	йне 1812 года 
	в Москве
	 заложен
	 Храм Хри
	ста Спаси
	теля.186
	6 — 
	Зав
	ерш
	ена
	 прок
	ладка 
	трансат
	лантическ
	ого телег
	рафного к
	абеля меж
	ду Британ
	ией и США.
	1880 — В 
	битве 
	при М
	айва
	нде а
	фганцы 
	под предво
	дительством 
	Аюб-хана нан
	если пораже
	ние британ
	ской армии.
	XX век1920П
	ервое
	 испол
	ьзова
	ние р
	адиоко
	мпаса 
	для авиа
	ционной н
	авигации.
	В Москве с
	 Красной
	 площади
	 соверш
	ён первый 
	в России с
	вободный полё
	т на сферичес
	ком аэроста
	те Анощенко\
	, Куни и Оле
	ринским.
	1921 — Канад
	ский физио
	лог Фредери
	к Бантинг вп
	ервые изолиро
	вал инсулин.1
	925 — ЦИК и 
	СНК СССР 
	приняли 
	постанов
	ление «О 
	признании Р
	оссийской ак
	адемии наук 
	высшим учеб
	ным учрежден
	ием СССР».193
	0 — Лидер
	ы американски
	х профсоюзов п
	ризвали к запр
	ету всех тов
	аров из СС
	СР.1940 — 
	На экранах
	 впервые 
	появился
	 герой му
	льтсериал
	ов кролик Багз
	 Банни.1941 — 
	Тело Лен
	ина тайно
	 вывезено из
	 столицы.19
	43 — В 
	Итали
	и расп
	ущена 
	фашист
	ская па
	ртия.19
	44 — 
	Советск
	ие войска
	 освободи
	ли Львов 
	в ходе Ль
	вовско-Са
	ндомирской 
	операции.19
	47Первый 
	серийный 
	вертолёт а
	нглийской по
	стройки\, маш
	ина Бристол
	ь «Сикамор
	»\, совер
	шил первый п
	олёт.Первый п
	олёт первого
	 реактивного б
	омбардировщика
	 Ту-12.1949 — П
	ервый п
	олёт пе
	рвого 
	в мир
	е реа
	ктив
	ного 
	пасс
	ажир
	ского са
	молёта «
	Комет»бр
	итанской 
	авиастроител
	ьной фирмы «Де 
	Хевилленд».19
	52 — Открыт
	 Волго-Дон
	ской канал.
	1953Корейск
	ая война
	 заверш
	илась по
	дписание
	м Соглаш
	ения о п
	еремири
	и и соз
	дании 
	демили
	таризов
	анной зо
	ны между
	 КНДР и 
	Южной Кореей
	.Ватикан зап
	ретил работу
	 на фабриках
	 в священны
	е праздники.
	1965 — През
	идент Ли
	ндон Бейн
	с Джонсон
	 подписал 
	законопроек
	т\, требующ
	ий от изг
	отовител
	ей сигаре
	т печатать на
	 всех пачках
	 предупреж
	дение о в
	реде кур
	ения для 
	здоровья
	.1968 — В
	идны
	й пол
	итиче
	ский чех
	ословацкий
	 деятель и 
	реформатор
	 Александр Д
	убчек заявил
	 о том\, что ег
	о страна про
	должит движе
	ние в избранном 
	направлении и н
	и на шаг не от
	ступит от п
	олитики р
	еформ.198
	3 — Те
	ррорист
	ы из Ар
	мянской Р
	еволюционно
	й Армии атак
	овали посоль
	ство Турции в
	 Португалии\
	, убив двух (
	жену турец
	кого диплом
	ата и порту
	гальского 
	полицейского)
	 и ранив одно
	го человека
	 (ребёнок 
	турецког
	о диплом
	ата). В
	се пят
	ь террор
	истов — 
	так назыв
	аемаяЛисс
	абонская п
	ятёрка — 
	ликвидиров
	аны.1985Первы
	й полёт спор
	тивно-пилот
	ажного акроб
	атического с
	амолёта СУ-2
	6М\, в конструк
	ции которого
	 широко прим
	енены комп
	озитные м
	атериалы.
	1988 — Гл
	авный
	 врач США 
	объявил 
	тучность 
	общенацион
	альной проб
	лемой здрав
	оохранения
	.1989Начался первый 
	чемпионат мира для дир
	ижаблей-монгольфьеров (2
	7.07-08.08-1989) в Люксемб
	урге. В чемпион
	ате приняли у
	частие 17 дирижабл
	ей. Первое и третье
	 места разделили в
	оздушные суда AS-56 фи
	рмы «Колт»\, второ
	е место занял д
	ирижабль DP-7
	0 фирмы «Каме
	рон». Пилот
	 дирижабля
	-победител
	я — Оскар 
	Линдстрем.
	1990Верхов
	ный Со
	вет Бе
	лорусс
	кой СС
	Р при
	нял Де
	клара
	цию о
	 гос
	ударст
	венном с
	уверени
	тете.Па
	рламен
	т Молдав
	ии отмени
	л автономию
	 Гагаузии.1
	994 — Парл
	амент Инд
	ии запретил 
	в стране тес
	ты по опре
	делению п
	ола будущег
	о ребёнка в 
	связи с боль
	шим количест
	вом абортов в случаях\
	, когда тесты определяли\, что родятся 
	девочки.
DTSTART;TZID=Europe/London:20150726T210000Z
DTEND;TZID=Europe/London:20150726T210000Z
END:VEVENT
END:VCALENDAR
