BEGIN:VCALENDAR
VERSION:2.0
PRODID:-//IP.Board Calendar 4.0.13.1//EN
METHOD:PUBLISH
CALSCALE:GREGORIAN
X-WR-CALNAME:В этот день в прошлом
BEGIN:VTIMEZONE
TZID:Europe/London
TZURL:http://tzurl.org/zoneinfo/Europe/London
X-LIC-LOCATION:Europe/London
BEGIN:DAYLIGHT
TZOFFSETFROM:+0000
TZOFFSETTO:+0100
TZNAME:BST
DTSTART:20150329T020000Z
RRULE:FREQ=YEARLY;BYMONTH=3;BYDAY=-1SU
END:DAYLIGHT
BEGIN:STANDARD
TZOFFSETFROM:+0100
TZOFFSETTO:+0000
TZNAME:GMT
DTSTART:20151025T020000Z
RRULE:FREQ=YEARLY;BYMONTH=10;BYDAY=-1SU
END:STANDARD
END:VTIMEZONE
BEGIN:VEVENT
SUMMARY:Развилки Дня
DTSTAMP:20150727T085712Z
SEQUENCE:0
UID:a61389266935aa747a6ff7d74165c920@172.17.0.3
ORGANIZER;CN="ясмин джакмич":fai@fai.org.ru
DESCRIPTION:\n26 июляДо XVIII 
	века657 — В 
	битве у Сиффи
	на мусульман
	е-сунниты разб
	ивают шиитов\, об
	манув их тем\,
	 что приблизи
	лись к проти
	внику с копь
	ями\, прикры
	тыми стран
	ицами Кора
	на.811 — В 
	битве с
	 болгара
	ми в Выр
	бишско
	м ущел
	ье по
	гибае
	т виза
	нтийск
	ий импе
	раторНи
	кифор (б
	олгарский х
	ан Крум прика
	зывает сделать
	 из черепа Ник
	ифора чашу д
	ля вина).152
	6 — Из С
	анто-Дом
	инго от
	правляется и
	спанская эк
	спедиция с 
	целью осн
	ования ко
	лонии во 
	Флориде.1
	529 — Ис
	панском
	у конкис
	тадору Фр
	ансиско Пи
	ссаро обещ
	ают титул г
	убернатора земе
	ль\, которые он п
	оклялся захват
	ить в Южной Аме
	рике.1572 — 26 и
	юля — 3 а
	вгуста. Молоди
	нская битва. Рус
	ская армия княз
	я М. И. Воротынского
	(ок. 60 тыс.) разбивае
	т татаро-турецкие 
	войска (120 тыс.) к
	рымского ха
	на Девлет-
	Герая\, ше
	дшего на
	 Москву.
	1581 — 
	Генер
	альным
	и штата
	ми Рес
	публик
	и соединённ
	ых провинций б
	ыл официально н
	изложен король 
	Испании Филипп
	 II.1592 — В би
	тве с г
	угенот
	ами пог
	ибает гла
	внокоманду
	ющий французски
	ми войсками марш
	ал Арман де Гон
	то\, барон де 
	Бирон.161
	1 — Шве
	дское 
	войско
	 под на
	чалом
	 Якоба 
	Делагар
	ди захв
	атывает Н
	овгород. Н
	овгородск
	ие бояре по
	дписывают 
	со шведами 
	договор о 
	поддержке и
	ми кандида
	туры сына 
	шведского
	 короля н
	а русски
	й престол
	\, отторж
	ении Нов
	городски
	х земель 
	от Росси
	йского госу
	дарства и в
	ступлении 
	в войну с 
	Польшей н
	а стороне Ш
	веции.1648 
	— царь А
	лексей Ми
	хайлович со
	звал боярскую д
	уму и совет патр
	иарха («освящённы
	й собор») и решал 
	с ними\, что на
	до сделать\, ч
	тобы водвори
	ть порядок и пр
	авосудие в гос
	ударстве\, чтобы 
	«всяких чинов лю
	дям\, от большого
	 до меньшего чин
	у\, суд и расправ
	а была во всяк
	их делах все
	м равна». Бо
	ярину князю
	 И. И. Одое
	вскому с ч
	етырьмя помощн
	иками поручено с
	обрать все старые
	 законы (Судебник 1
	550 года\, дополн
	ительные к нем
	у указы и статьи
	 из Кормчей книг
	и ещё времён Киев
	ской Руси)\, приве
	сти их в порядо
	к и систему\, 
	исправить 
	и дополнит
	ь их и сост
	авить новы
	й полный сво
	д законов — Уло
	жение. Минимален
	 не только состав
	 комиссии\, но и с
	рок\, который мо
	лодой царь о
	тводит на э
	ту работу\
	, повелев
	ая уже 11
	 сентяб
	ря соз
	вать Земск
	ий собор для расс
	мотрения проекта 
	и принятия новог
	о Уложения.XVII
	I век1708 — 
	По прик
	азу укр
	аинско
	го гет
	мана М
	азепы воз
	ле Белой 
	Церкви к
	азнят укр
	аинского 
	полковник
	а Василия Коч
	убея\, пытавшег
	ося донести Пе
	тру I об измене
	 гетмана.1709 
	— Пётр I с т
	риумфом после П
	олтавской поб
	еды въезжает 
	в Киев\, где п
	робыл месяц.
	1722 — В Бост
	оне обнарод
	уется деклара
	ция\, объявляющая вой
	ну индейцам\, за скаль
	п индейца обещано о
	т 15 до 100 фунто
	в.1730 — ро
	ссийска
	я импер
	атрица 
	Анна Иоанн
	овна подпи
	сала указ о
	б отливке Ус
	пенского большо
	го колокола\, к
	оторый впосле
	дствии был отлит 
	25 ноября 1735 г
	ода и получи
	л название «Ц
	арь-колокол»
	.1758 — Сем
	илетняя в
	ойна: в 
	ходе в
	ойны н
	а Севе
	роамери
	канском 
	театре а
	нгличане
	 после ос
	ады захв
	атывают Луис
	бург (фр.)русс
	к. — важную ф
	ранцузскую кр
	епость в Кана
	де.1770 — Во 
	время ру
	сско-турец
	кой войны 
	корпус ге
	нерала Н
	. В. Реп
	нина бе
	рет кре
	пость И
	змаил.1
	775 —
	 Бен
	джам
	ин Фран
	клин назна
	чается главны
	м почтмейстеро
	м Североамери
	канских штато
	в.XIX век1805
	 — Из-з
	а извержен
	ия Везувия р
	азрушается значи
	тельная часть Неа
	поля\, около 26 т
	ыс. челове
	к погибае
	т.1812 —
	 кома
	ндующи
	й революц
	ионной а
	рмией В
	енесуэл
	ы Франси
	ско Миранд
	а сдался 
	испанцам.
	1821 — Из
	 Архан
	гельска
	 начало
	сь плав
	ание к 
	острова
	м Новой Зе
	мли русской
	 экспедиции 
	под командов
	анием Фёдора Л
	итке. Бриг\, н
	а котором отпр
	авилась эксп
	едиция\, так
	 и называл
	ся — «Но
	вая Земля
	».1822 —
	 В Гу
	аяки
	ле в
	стреч
	аются 
	лидеры
	 латиноамер
	иканских р
	еволюцион
	еров Симон 
	Боливар и Х
	осе де Сан-М
	артин.1830 — К
	ороль Франц
	ии Карл X по
	дписывает че
	тыре ордонанса
	 (указа): об огр
	аничении своб
	оды печати и 
	введении це
	нзуры\, о р
	оспуске 
	палаты д
	епутатов 
	(где больши
	нство соста
	вляет оппо
	зиционная 
	либеральная
	 буржуазия)\
	, о введен
	ии нового
	 избирател
	ьного зако
	на (существен
	но ограничив
	ающим число гражд
	ан\, обладавших п
	равом голоса\, 
	земельным цензом)\
	, и о проведении 
	новых выборов 
	в сентябре 183
	0. Эти указы 
	станут неп
	осредствен
	ным поводом
	 для Июльско
	й революции
	\, положивше
	й конец режим
	у Реставраци
	и и правлени
	ю старшей 
	линии дин
	астии Бу
	рбонов.1
	847 — Пр
	овозгл
	ашена Р
	еспубли
	ка Либер
	ия — перв
	ое независ
	имое госу
	дарство 
	в чёрной 
	Африке. Отцам
	и-основателями 
	стали иммигран
	ты — вывезенные 
	(начиная с 1821 
	года) из США
	 освобождён
	ные негры\, з
	анявшие госп
	одствующие по
	зиции во всех
	 сферах деят
	ельности.18
	58 — Баро
	н Лионел
	ь Натан 
	Ротшильд с
	тановится 
	первым евр
	еем — членом 
	английского па
	рламента.1864 —
	 Новый устав
	 начальных шко
	л: их создани
	е и управле
	ние ими до
	веряется 
	земствам\, а
	 педагогич
	еская опек
	а обеспеч
	ивается шко
	льным совет
	ом\, где предст
	авлены мест
	ная админис
	трация\, це
	рковь и з
	емство.18
	66 — В
	 Ник
	ольсбу
	рге по
	дписан 
	прелим
	инарны
	й мирны
	й догов
	ор межд
	у Авст
	рией и
	Пруссией
	. Фактиче
	ское оконча
	ние Австро-
	прусской в
	ойны (окон
	чательное 
	— 23 авгус
	та).1867 — Р
	оссийск
	ая импе
	рия соз
	даёт ге
	нерал-г
	уберна
	торство
	 Туркестан.
	1869 — Бри
	тания зап
	рещает Англ
	иканскую 
	церковь И
	рландии.1
	872 — В 
	Лиме б
	ыли уб
	иты об
	а глав
	ы госу
	дарств
	а — за
	конный 
	президе
	нт Хосе Баль
	та и отстра
	нивший его 
	от власти 
	узурпатор
	 Томас Гути
	еррес.1875 
	— В Туле
	 основывае
	тся мастер
	ская по от
	ливке «ме
	дных винных ме
	р» купца Зяб
	рева (ныне
	 — Тульск
	ий станко
	литейный 
	завод).1
	887 — В
	 Вар
	шаве 
	выходит 
	первый учебни
	к международно
	го языка эсперан
	то (на русском 
	языке).XX век1
	908Министр 
	юстиции 
	США Чарл
	з Бонапар
	т создаёт
	 безымянно
	е ведомств
	о\, спецаг
	енты кото
	рого должн
	ы будут р
	асследов
	ать нару
	шения фе
	деральных зако
	нов. Первым его руководи
	телем становится Стенли
	 Финч (Stanley Finch). 
	На следующий год
	 появится назва
	ние — Бюро рас
	следований\, а 
	с 1 июля 193
	5 года ведом
	ство станет наз
	ываться Федера
	льным бюро рас
	следований (ФБ
	Р). В 1983 год
	у през
	идент 
	США Ро
	нальд 
	Рейган
	 объяв
	ит об у
	чрежд
	ении «
	Дня ФБ
	Р» — 
	профе
	ссион
	альног
	о празд
	ника с
	пециал
	истов 
	полит
	ическо
	й полиции
	.В Париже
	 финиширую
	т первые круг
	осветные авт
	омобильные гонк
	и\, старт котор
	ым был дан 12
	 февраля в Нью-
	Йорке. Первым к фи
	нишу приходит немецкий автомоби
	ль«Protos» компании Siemens-Schuckert
	werke GmbH\, которым
	 управляет
	 лейтенант 
	Кёппен\, н
	о победи
	телем об
	ъявляется
	 американе
	ц Джордж Ш
	устёр на а
	втомобиле конс
	труктора Томаса.
	 Немецкого гонщи
	ка оштрафовали н
	а 15 дней\, так ка
	к после поломк
	и его автомоби
	ль был доставл
	ен в Сиэтл по 
	железной дор
	оге\, чтобы о
	тплыть в Ро
	ссию вместе с
	 конкурентами.
	 Лейтенанту не ос
	таётся ничего ино
	го\, как заявить: 
	«Я хотел бы\, чтоб
	ы дороги в Америк
	е были столь же 
	прекрасны\, ка
	к и её люди».
	 История э
	тих гонок
	 послужит
	 основой 
	сценария поп
	улярной и лю
	бимой многи
	ми кинокомедии «Бо
	льшие гонки».1909Англи
	йский пассажирский пар
	оход Waratah\, имея на бо
	рту около 300 чел
	овек пассажиро
	в и команды\, вы
	ходит из пор
	та Натал в 
	Южной Афр
	ике и пропада
	ет без вести.Восс
	тание в Барселон
	е («Кровавая неде
	ля»\; по 31 июля)
	.1912 — Англи
	йские фемини
	стки поджига
	ют дом минис
	тра колоний
	 Британии в
	 Оксфордш
	ире.1913 — Ав
	стрийское
	 правител
	ьство анн
	улирует к
	онституцию
	 Богемии.1
	914Австро-
	Венгрия
	 объявляе
	т всеобщую
	 мобилизац
	ию и сосре
	доточивае
	т войска н
	а границе
	 с Росси
	ей.Расс
	трел анг
	лийской по
	лицией дем
	онстрации
	 ирландских 
	националисто
	в в Дублине.1
	915Публикуе
	тся статья
	 Ленина\, пр
	изывающая 
	к поражен
	ию своего
	 правител
	ьства в мир
	овой войне.В
	 России фор
	мируется 
	латышская 
	стрелковая 
	дивизия.191
	6 — США 
	выражаю
	т протест В
	еликобритан
	ии в связи с
	 публикацие
	й «Чёрного 
	списка» фирм\
	, с которыми з
	апрещено тор
	говать брит
	анским компаниям
	\, так как в него 
	попали некоторы
	е американские ф
	ирмы.1917Откры
	вается VI 
	съезд Р
	СДРП(б)
	.Глава
	 Врем
	енног
	о прав
	итель
	ства А
	лександ
	р Керенс
	кий торж
	ественно
	 клянётся
	 подавлять
	 самым жесток
	им образом л
	юбые попытк
	и восстанов
	ления монар
	хии в Росси
	и.1918В Аз
	ербайджане эс
	еры свергают большевиков.П
	резидент США Вудро Вильсон (
	Thomas Woodrow Wilson) призы
	вает амер
	иканский
	 народ о
	тказать
	ся от ли
	нчевания
	 негров.Инт
	ервенция: 
	в Мурманс
	ке высажив
	аются франц
	узские войска.1
	919 — Махновцы
	 убивают мяте
	жного атамана
	 Григорьева.1
	922 — Турец
	кая армия п
	ереходит в
	 наступлени
	е и наносит п
	оражение гре
	ческим войска
	м в сражении под
	 Афоном.1925 — 
	впервые по
	днялся в в
	оздух сам
	олёт «К-1
	» констр
	укции К.
	 А. Кал
	инина — 
	первый от
	ечественный 
	пассажирский
	 самолёт\, ре
	комендова
	нный к се
	рийному в
	ыпуску.19
	26 — За
	конода
	тельное 
	собрани
	е Филипп
	ин объяв
	ляет о пров
	едении пле
	бисцита по
	 вопросу о
	 провозгл
	ашении неза
	висимости\, но
	 американски
	й губернатор 
	накладывает вето н
	а это решение.193
	2 — Германски
	й учебный пар
	усник Niobe опроки
	дывается внеза
	пно налетевшим шква
	лом близ Киля. Из 1
	50 человек спас
	аются 40.1935 
	— Амер
	икански
	е коммун
	исты в Н
	ью-Йорке 
	срывают 
	с немецко
	го трансат
	лантического л
	айнера «Брем
	ен» флаг со 
	свастикой 
	и топят ег
	о в Гудзоне
	.1937 — Япони
	я начала п
	олномасшта
	бные боевы
	е действия
	 в Китае.1938 
	— Глава НК
	ВД Николай Еж
	ов направил С
	талину список на
	 138 командиров
	 РККА и ВМФ\,
	 подлежащи
	х расстрелу. С
	талин и Молотов 
	наложили резолюц
	ию: «За расстрел
	 всех 138 челов
	ек».1940 — Я
	понское 
	правительств
	о разрабатыва
	ет план «ново
	го порядка» в В
	осточной Азии
	.1941 — Газе
	та «Извес
	тия» заяв
	ляет\, чт
	о «рево
	люционна
	я бдительн
	ость — одн
	о из важнейших
	 условий органи
	зации победы н
	ад врагом. По
	ра понять\, 
	что болтун\,
	 словоохот
	ливый чело
	век — пряма
	я находка для 
	шпиона\, вол
	ьный или 
	невольный
	 пособник 
	врага…». 
	С тех пор выр
	ажение «Бо
	лтун — нах
	одка для шп
	иона» стано
	вится крыл
	атым.1945На
	 Потсд
	амской
	 конфе
	ренции
	 от им
	ени гл
	ав пра
	вител
	ьств С
	ША\, В
	елико
	брита
	нии и
	Китая 
	публикуе
	тся декл
	арация с
	 требова
	нием без
	оговороч
	ной капи
	туляции Я
	понии.В со
	ветской о
	ккупацион
	ной зоне Г
	ермании зак
	рываются все 
	банки. Населен
	ию приказываю
	т сдать золото\
	, серебро\, и
	ностранну
	ю валюту\, 
	драгоцен
	ности. Нач
	инается д
	емонтаж п
	ромышленн
	ых предприятий
	 и железных дор
	ог для вывоза
	 в СССР в счё
	т репараций.
	1947 — Президе
	нт США подпи
	сывает Зак
	он о наци
	ональной
	 безопасно
	сти\, по к
	оторому
	 будут обр
	азованы М
	инистерст
	во Обороны
	 (первый ми
	нистр Джей
	мс Форрес
	тол)\, Со
	вет на
	циона
	льной
	 безоп
	асност
	и\, Це
	нтрал
	ьное 
	разведыва
	тельное у
	правление
	 и Объединённый ко
	митет начальников штабов.1
	948Президент Трумэн (Harry S
	. Truman) издаёт Испо
	лнительный п
	риказ № 9981\
	, определя
	ющий «рав
	енство леч
	ения и возм
	ожностей»
	 в вооружё
	нных сила
	х.Подписани
	е Англией и
	 США условий
	 осуществления
	 «плана Марша
	лла» (плана 
	помощи стр
	анам Европы).1
	951В Новго
	роде обна
	ружена пер
	вая берест
	яная грамота.
	1952 — Корол
	ь Египта 
	Фарук I отре
	кается от п
	рестола в п
	ользу своего 
	семимесячного с
	ына Фуада и пок
	идает страну 
	(Чёрная Суббо
	та).1953Куби
	нская пира
	тская радиос
	танция прово
	дит первую пе
	редачу в Сантьяг
	о-де-Куба.165 ку
	бинских ре
	волюционер
	ов во главе
	 с 27-летн
	им Фи
	делем
	 Кастро
	 предпр
	инимают
	 штурм в
	оенной к
	азармы М
	онкада в гор
	оде Сантьяго-де
	-Куба в провинци
	и Ориенте. План со
	стоит в том\, чт
	обы\, застав в
	расплох спящий
	 гарнизон\, за
	хватить скла
	д оружия\, в
	ооружить и 
	поднять на
	 восстание
	 против ген
	ерала Бат
	исты насел
	ение города.
	 Однако нап
	адение отбив
	ается. Революц
	ионеры частью п
	огибают\, многих аре
	стовывают\, в том ч
	исле Фиделя Каст
	ро. В октябре 19
	53 на суде Каст
	ро произнесё
	т речь «Истор
	ия меня опра
	вдает»\, в 
	которой об
	винит дик
	татуру Ба
	тисты в п
	реступл
	ениях прот
	ив народа и 
	изложит про
	граммные принци
	пы участников «Движ
	ения 26 июля». Он буд
	ет осуждён на 15 ле
	т\, но станет з
	наменит на всю
	 страну. Через д
	ва года он буде
	т амнистирова
	н\, эмигрируе
	т в Мексику\
	, а ещё через
	 год высад
	ится с «Г
	ранмы» с 
	горсткой 
	соратнико
	в на остров
	 и возглави
	т партизан
	скую борьб
	у против д
	иктатора Б
	атисты. Этот
	 день отмеч
	ается на К
	убе как на
	циональный 
	праздник.1
	956Прези
	дент Е
	гипта Г
	амаль А
	бдель Н
	асер об
	ъявляет
	 о нацио
	нализац
	ии Суэцко
	го канала.
	 Разразив
	шийся зате
	м междуна
	родный кри
	зис перерастёт в ит
	оге ввойну против Еги
	пта.Итальянский лайне
	р «Andrea Doria» сталк
	ивается у острова Н
	антакет со шведским те
	плоходом «Stockholm» и тон
	ет через 11 часов
	. Погибают 55
	 человек. О
	дно из са
	мых мусс
	ировавши
	хся в СМИ к
	ораблекру
	шений конц
	а эпохи тр
	ансатлант
	ических лайн
	еров\, и перв
	ое получи
	вшее при
	стально
	е внима
	ние те
	левиде
	ния195
	7 —
	 ССС
	Р з
	апу
	скает 
	первую 
	многост
	упенчат
	ую межко
	нтинентал
	ьную балли
	стическую ра
	кету.1959Подпо
	лковник Корп
	уса морской п
	ехоты США Уи
	льям Г. Ранкин
	\, выполняя в небе
	 Северной Кароли
	ны тренировочный
	 полёт на высоте 
	14326 метров\,
	 катапульт
	ируется из
	 своего пал
	убного реа
	ктивного истр
	ебителя F8U «К
	русейдер» и 
	попадает в с
	ильнейшую грозу
	\, в результате
	 чего его спуск вм
	есто ожидавшихся
	 11 минут растяги
	вается на все 4
	0\, поскольку
	 мощные восхо
	дящие потоки
	 воздуха раз 
	за разом под
	нимают пилот
	а наверх\, 
	препятст
	вуя призе
	млению. 
	Этот пр
	ыжок ста
	нет сам
	ым продо
	лжительн
	ым официа
	льно заре
	гистриров
	анным прыж
	ком с пара
	шютом.Во
	 время в
	изита а
	мерикан
	ского ви
	це-прези
	дента в
	 Советс
	кий Союз
	 руководи
	тели обеих
	 стран после 
	переговоров 
	отправляются на
	 прогулку по Мос
	кве-реке\, иног
	да они выходя
	т на берег\, 
	беседуют 
	с отдыхаю
	щими. Ник
	ита Хрущёв
	 при этом вс
	ё время обра
	щается в Рича
	рду Никсону с 
	вопросом: «Ну\, 
	что — похожи э
	ти люди на рабо
	в коммунизма?»
	1961На референ
	думе в Южн
	ой Родезии (
	современное
	 Зимбабве) ж
	ители одоб
	ряют новую к
	онституцию (
	6 декабря бу
	дет одобрен
	а Великобри
	танией).В Л
	еопольдви
	ле (соврем
	енный г. К
	иншаса) от
	крывается
	 сессия па
	рламента 
	Республик
	и Конго (с
	овременный
	 Заир). Пар
	ламент ут
	верждает 
	кандидату
	ру Сирилле
	 Адулы\, п
	редложенную
	 президентом
	 страны Ж.К
	асавубу на
	 пост прем
	ьер-министра.19
	63Землетрясен
	ие разрушает югосл
	авский город Скопье.
	 1011 человек погиба
	ют\, а 3350 — 
	ранены
	.На орб
	иту в
	ыводи
	тся пе
	рвый э
	ксплуатацио
	нный геосинхро
	нный спутник —
	 американский с
	путник связи «S
	yncom-2».На Г
	орьковс
	ком автоза
	воде были изго
	товлены первые
	 опытные образ
	цы автомобилей 
	«ГАЗ-53».1964Американский пр
	офсоюзный лидер Джеймс Хоф
	фа (James Phillip Hoffa) осужда
	ется за мошеннич
	ество.1966В Вели
	кобритании ло
	рд-канцлер объ
	являет о том\,
	 что палата
	 лордов впр
	едь не будет
	 слепо опир
	аться на п
	рецеденты с
	обственных р
	ешений.В Кит
	ае на полгод
	а закрываютс
	я все школы 
	и вузы для м
	обилизации ш
	кольников и с
	тудентов на «к
	ультурную революцию».1969П
	осле восьми лет молчания Элв
	ис (Elvis Aaron Presley) вновь
	 заявляет о себе на концерте в
	 Лас-Вегасе.Шерон Адамс (Sharon Sit
	es Adams)\, 39 лет\, стан
	овится пер
	вой женщиной
	\, переплывше
	й в одиночку
	 Тихий оке
	ан.Разбива
	ется верто
	лёт\, на кот
	ором лети
	т русский 
	кинорежисс
	ёр Станислав
	 Говорухин\, который чу
	дом остаётся жив.Бискра\, Алжир. С
	амолёт Sud Aviation Caravelle 6N компании 
	Air Algerie совершает 
	аварийную пос
	адку после тог
	о\, как пожар в эл
	ектрическом щит
	е приводит к пожару в 
	салоне. Из 37 челове
	к на борту погиб
	ают 33.1971 — Ст
	арт к Луне
	 американс
	кого космическ
	ого корабля «Апол
	лон-15» с астронавтам
	и Д. Скоттом\, А. Уорд
	еном и Дж. Ирвин
	ом.1972Вступ
	ление Ку
	бы в СЭВ.
	1973на Кипре
	 террорис
	ты из нацио
	налистиче
	ского грече
	ского движени
	я ЭОКА\, прод
	олжая борь
	бу за прис
	оединение
	 Кипра к Г
	реции\, вз
	орвали п
	олицейск
	ий участо
	к в Лимасол
	е.США накла
	дывают вет
	о на решен
	ие Совета
	 Безопасност
	и ООН\, осу
	ждающее 
	действия
	 Израиля н
	а Ближнем 
	Востоке.1974
	 — Франц
	ия проводит
	 ядерные ис
	пытания н
	а атолле 
	Муруроа.1
	975 — Г
	лава
	 КГБ
	 СССР
	 Ю. Андро
	пов реко
	мендует ЦК КПС
	С снести в Све
	рдловске Ипатье
	вский дом\, в ко
	тором в 1918
	 большевиками 
	был расстрелян
	 свергнутый ру
	сский император
	 Николай II.197
	6Сильная уте
	чка ядовитого
	 газа диоксина
	 на заводе пес
	тицидов близ 
	Севезо\, Итали
	я\, приводит к
	 массовой г
	ибели дома
	шних и дики
	х животных
	 во всей о
	круге.Шо
	тландски
	е лейбор
	исты разрыва
	ют все отнош
	ения с Лейб
	ористской
	 партией В
	еликобрит
	ании.1978Бр
	итански
	й конгре
	сс тред-
	юнионов 
	принимает р
	ешение отка
	зать в под
	держке по
	литике мин
	истра фин
	ансов Хили
	\, которая
	 предусм
	атривает
	 огранич
	ение роста
	 заработной пла
	ты пятью процентами.Датск
	ий исследователь У. Петер
	сон (Uffe Petersson) обна
	руживает сам
	ую северную землю
	 — остров Одак (в 7
	06 км от Северного
	 полюса).1982В 
	лондонском
	 соборе Св
	. Павла 
	отслужен
	 благодарс
	твенный мо
	лебен по с
	лучаю око
	нчания Фо
	лклендской
	 войны\, по
	сле кото
	рого арх
	иеписко
	п Ранси п
	одвергае
	тся крит
	ике за 
	беспри
	страст
	ную про
	поведь.
	США заявля
	ют об отказ
	е признать 
	Организацию ос
	вобождения Пал
	естины.1983ССС
	Р объявляет
	 о реформе
	\, которая
	 даёт ру
	ководит
	елям предп
	риятий боль
	ше самостоя
	тельности в
	 назначении зарабо
	тной платы\, прем
	ий и внедрении
	 новой техники.
	1989 — 24-летнему американс
	кому студенту Роберту Морр
	ису (Robert Tappan Morris) пр
	едъявляетс
	я обвинение
	 в создании
	 и запуске
	 компьютерн
	ого вируса.
	 Моррис ст
	ановится 
	первым созда
	телем вируса
	\, подвергну
	тым уголовно
	му преследован
	ию.1990Начинае
	тся операц
	ия «Линдвур
	м» («Дракон
	») по выв
	озу аме
	риканск
	ого хими
	ческого о
	ружия с тер
	ритории ФР
	Г.США выигрывают
	 у СССР в бейсбол со счётом 
	17—0 на Играх доброй воли.1991 — Soni
	c the Hedgehog представлен для the Sega Mega
	drive в Японии.1993
	В России прекращ
	ается хождение де
	нежных знаков ССС
	Р образца 1961—1
	992. Силу име
	ет тольк
	о росси
	йский р
	убль.Азе
	рбайджа
	нский манат 
	становится 
	единственн
	ой национал
	ьный валютой
	 в республик
	е.1994Россия
	 и Эстон
	ия подпи
	сывают до
	говор о п
	ризнании
	 взаимных
	 границ.Ка
	мбоджийские 
	Красные Кхмеры н
	еожиданно напад
	ают на поезд. У
	бивают 13 чел
	овек.29-л
	етний 
	руково
	дитель
	 путча Я
	йя Джамм
	е объяв
	ляет себ
	я президе
	нтом Гамбии и 
	обещает провест
	и в стране парла
	ментские выборы.
	 Ему 29 лет (са
	мый молодой
	 президент 
	в мировой и
	стории).Вос
	точный Калима
	нтан\, Индонезия: разби
	вается самолёт «Сикорский-58ET» 
	компании Airfast Services. Все 
	18 человек на бор
	ту погибают.199
	5Американски
	й сенат прини
	мает закон\,
	 который да
	ёт право СШ
	А в одност
	ороннем п
	орядке отм
	енять эмба
	рго на пост
	авки оружи
	я воюющим с
	торонам в
	 Боснии и Г
	ерцеговине. 1
	 августа он 
	утверждён пала
	той представит
	елей\, однако 11 
	августа прези
	дент Клинтон\
	, использова
	в своё право
	 вето\, отк
	лонит за
	кон.Коми
	ссар Евро
	пейского 
	союза по 
	вопросам
	 конкурен
	ции официа
	льно объявляет 
	о решении комиссии Евросо
	юза принять меры по спасени
	ю Credit Lyonnais («Лионско
	го кредита»)\,
	 крупнейшего 
	французского 
	банка\, одног
	о из самых 
	крупных ба
	нков Европы
	. Банку будут
	 выделены г
	осударствен
	ные субсидии 
	на общую сумм
	у свыше 9 милл
	иардов долларов
	. Взамен банк о
	бязывают в теч
	ение трёх лет
	 расстаться с 
	35 процентами сво
	их активов за пред
	елами Франции. Кр
	оме того\, в теч
	ение 5 лет б
	анк\, контр
	ольный па
	кет акци
	й которог
	о принадл
	ежит госу
	дарству\,
	 предписыва
	ется прива
	тизировать.
	 Процветани
	ю банка на
	ступил ко
	нец\, ког
	да обан
	кротили
	сь два к
	рупнейш
	их клие
	нта — и
	здательс
	кая импер
	ия Роберта 
	Максвелла и
	 французски
	й миллиарде
	р Бернар Та
	пи.Представ
	ители 15 с
	тран Е
	вропей
	ского со
	юза подп
	исывают
	 Конвенц
	ию о со
	здании
	 Европо
	ла — ор
	ганизации
	\, призванн
	ой коорди
	нировать д
	еятельность
	 полиции госу
	дарств ЕС по борьбе
	 с преступностью. Вст
	упит в силу 1 октября 19
	98 года.1998 — В Иллин
	ойсе (США) 246 пар
	ашютистов составляют живой круг в н
	ебе (мировой рекорд).
DTSTART;VALUE=DATE:20150725
END:VEVENT
END:VCALENDAR
