BEGIN:VCALENDAR
VERSION:2.0
PRODID:-//IP.Board Calendar 4.0.13.1//EN
METHOD:PUBLISH
CALSCALE:GREGORIAN
X-WR-CALNAME:В этот день в прошлом
BEGIN:VTIMEZONE
TZID:Europe/London
TZURL:http://tzurl.org/zoneinfo/Europe/London
X-LIC-LOCATION:Europe/London
BEGIN:DAYLIGHT
TZOFFSETFROM:+0000
TZOFFSETTO:+0100
TZNAME:BST
DTSTART:20150329T020000Z
RRULE:FREQ=YEARLY;BYMONTH=3;BYDAY=-1SU
END:DAYLIGHT
BEGIN:STANDARD
TZOFFSETFROM:+0100
TZOFFSETTO:+0000
TZNAME:GMT
DTSTART:20151025T020000Z
RRULE:FREQ=YEARLY;BYMONTH=10;BYDAY=-1SU
END:STANDARD
END:VTIMEZONE
BEGIN:VEVENT
SUMMARY:Развилки Дня
DTSTAMP:20150728T073440Z
SEQUENCE:0
UID:04304d8ccbf1e85c00086798bab4af6e@172.17.0.3
ORGANIZER;CN="ясмин джакмич":fai@fai.org.ru
DESCRIPTION:\n28 июляДо XIX 
	века754 — 
	Впервые п
	роведена ц
	еремония 
	коронования
	 и помазани
	я короля Ф
	ранции. В баз
	илике Сен-Де
	ни папа Ст
	ефан II кор
	оновал П
	ипина Ко
	роткого
	.1586 — Сэр
	 Томас 
	Хэрриот
	 привёз 
	в Велик
	обритан
	ию и Ир
	ландию к
	артофель
	.1697 — Э
	кспеди
	ция ка
	зачьег
	о пятид
	есятник
	а Влади
	мира Атл
	асова в
	ысадилас
	ь в усть
	е реки К
	амчатка. На
	чинается п
	рисоединен
	ие одноимён
	ного полуо
	строва к Росси
	и.1741 — Кора
	бль Виту
	са Берин
	га дости
	г побере
	жья Аляс
	ки.1764 
	— В 
	Санк
	т-Пет
	ербу
	рге 
	на Ва
	сильев
	ском остро
	ве заложен 
	каменный Андре
	евский собор (а
	рхитектор А. Ф
	. Вист).1794 — Каз
	нены 22 деят
	еля Вели
	кой Франц
	узской рев
	олюции\, в том 
	числе Максими
	ллиан Робеспьер
	 и Луи Антуан Сен-Ж
	юст.XIX век1814 —
	 Поэт Перс
	и Биши Шелл
	и бежал с 
	16-летней Мэ
	ри Годвин из
	 Англии во Фра
	нцию. Причиной б
	егства было то\,
	 что Шелли был
	 уже женат. Лишь после 
	смерти его первой жены Харриет 
	Уэстбрук (Harriet Westbrook) в 1
	816 году они
	 смогли пожен
	иться.1821 
	— Перу 
	объявила 
	независимост
	ь от Испании.1834
	 — Открытие К
	иевского униве
	рситета им. св.
	 Владимира.1
	851 — Вперв
	ые в мире
	 сфотогра
	фировано (з
	апечатлено
	 на дагерро
	типе) полн
	ое солнечн
	ое затмение
	.1858Отпеча
	тки паль
	цев впе
	рвые ис
	пользов
	аны для ид
	ентифика
	ции.Францу
	зский фотогра
	ф и карикатур
	ист Феликс Н
	адар\, запате
	нтовавший в
	 1855 году и
	дею использ
	ования аэро
	фотографии дл
	я изготовлен
	ия карт и целей
	 разведки\, пр
	овел первую 
	в мире аэрофотос
	ъёмку\, соверши
	в для этого по
	дъём на аэроста
	те.1862 — В шта
	те Монтана (СШ
	А) найдено золото
	\, что вызвало зол
	отую лихорадку.1
	868Принята 14-я
	 поправка к 
	Конституци
	и США\, обес
	печивающая 
	гражданство
	 любому челов
	еку\, родивш
	емуся на т
	ерритории 
	США. Главн
	ой целью 
	поправки
	 было об
	еспечит
	ь гражда
	нство б
	ывшим тем
	нокожим раба
	м.Разрешена
	 неограниче
	нная иммиграция
	 китайцев в СШ
	А.1896 — Во Флориде основ
	ан город Майами.1900 — Лу
	и Лэссинг (Louis Lassing\; 
	Коннектикут)
	 придумал гам
	бургер.XX ве
	к1914 — Ав
	стро-Венгри
	я объявила 
	войну Серб
	ии. Начало 
	Первой миров
	ой войны.1920
	Решение
	м союзн
	иков По
	льше пер
	едан горо
	д Тешин\,
	 на кот
	орый прет
	ендовала 
	Чехословак
	ия.США осуд
	или японскую
	 оккупацию 
	Сахалина.1926 
	— Финансовы
	й кризис в Б
	ельгии. Фра
	нк девальв
	ировался\, 
	и король Аль
	бер I дал прав
	ительству ч
	резвычайные
	 полномочия
	 на 6 месяц
	ев.1928 — В А
	мстердаме тор
	жественно открыл
	ись Летние Олимп
	ийские игры 1928.19
	35 — Поднялся
	 в воздух прот
	отип бомбардир
	овщика B-17 «Ле
	тающая крепо
	сть».1942 — П
	риказ № 227 Н
	ародного к
	омиссара о
	бороны ССС
	Р «Ни шагу
	 назад»1944 — О
	т немцев б
	ыл освобож
	ден город 
	Брест в Б
	елорусско
	й ССР.1947 —
	 В Румын
	ии распущ
	ена Национальн
	ая крестьянска
	я партия (сама
	я влиятельная
	 в стране).19
	51 — Премьер
	а мультфил
	ьма Уолта Ди
	снея «Алиса 
	в Стране чуд
	ес».1957 — В
	 Москве нач
	ался VI междуна
	родный фестиваль
	 молодёжи и студентов
	. На него приехали 34 ты
	с. юношей и девуше
	к из 131 страны
	 мира.1964
	 — Мао
	 Цзэдун
	 ответ
	ил отка
	зом на 
	предл
	ожени
	е Ники
	ты Хрущ
	ёва уча
	ствовать в 
	Международ
	ной конфер
	енции комм
	унистическ
	их и рабочих па
	ртий.1978 — Цена 
	золота впервые 
	превысила уров
	ень 200 доллар
	ов за унцию
	.1980Много
	тысячны
	е похороны
	 Владимира
	 Высоцкого
	 в Москве на В
	аганьковском кла
	дбище.1984 — В Л
	ос-Анджелесе 
	открылась XXII
	I Олимпиада
	\, бойкоти
	руемая с
	оцстранами
	. Состязани
	я прошли п
	ри подавля
	ющем прево
	сходстве х
	озяев и б
	ыли отм
	ечены та
	кже перв
	ой в ист
	ории дис
	квалифик
	ацией лег
	коатлета — призёр
	а Игр за употребление допи
	нга (финн Марти Вайнио (Marti
	 Vainio)\, занявшего второе мест
	о в беге на 10 000 м). 1
	988В СССР разреше
	ны неофициал
	ьные митинг
	и\, демонст
	рации и ш
	ествия.
	1989Пра
	вит
	ельс
	тво 
	Мозам
	бика 
	отказа
	лось о
	т маркс
	изма ка
	к госуда
	рственн
	ой идео
	логии.Верхо
	вный Совет
	 Латвийской
	 ССР провоз
	гласил суве
	ренитет Ла
	твии.1992Пр
	авитель
	ство РФ
	 приняло
	 постан
	овление
	 «О сов
	ершенст
	вовании д
	еятельност
	и туристских
	 и альпинист
	ских спасате
	льных служб\
	, пунктов и
	 центров». Де
	нь образова
	ния Поисково
	-спасательных
	 служб МЧС Ро
	ссии.1995Инди
	йские вла
	сти приня
	ли решени
	е о пере
	именова
	нии города
	 Бомбей в 
	Мумбаи.Вь
	етнам ста
	л первой со
	циалистиче
	ской страной\
	, принятой в Ассоциацию государств Ю
	го-Восточной Азии (АСЕАН).
DTSTART;VALUE=DATE:20150727
END:VEVENT
END:VCALENDAR
