BEGIN:VCALENDAR
VERSION:2.0
PRODID:-//IP.Board Calendar 4.0.13.1//EN
METHOD:PUBLISH
CALSCALE:GREGORIAN
X-WR-CALNAME:В этот день в прошлом
BEGIN:VTIMEZONE
TZID:Europe/London
TZURL:http://tzurl.org/zoneinfo/Europe/London
X-LIC-LOCATION:Europe/London
BEGIN:DAYLIGHT
TZOFFSETFROM:+0000
TZOFFSETTO:+0100
TZNAME:BST
DTSTART:20150329T020000Z
RRULE:FREQ=YEARLY;BYMONTH=3;BYDAY=-1SU
END:DAYLIGHT
BEGIN:STANDARD
TZOFFSETFROM:+0100
TZOFFSETTO:+0000
TZNAME:GMT
DTSTART:20151025T020000Z
RRULE:FREQ=YEARLY;BYMONTH=10;BYDAY=-1SU
END:STANDARD
END:VTIMEZONE
BEGIN:VEVENT
SUMMARY:Развилки Дня
DTSTAMP:20150730T153440Z
SEQUENCE:0
UID:f59d6c752682964be198176aeb5d3119@172.17.0.3
ORGANIZER;CN="ясмин джакмич":fai@fai.org.ru
DESCRIPTION:\n30 июляДо XIX века
	1021 — на Руси ос
	вящён храм в ч
	есть благоверных
	 князей Бориса и 
	Глеба\, первых с
	вятых на Руси.
	1419 — Перва
	я Пражская
	 дефенестрац
	ия\, убийств
	о гуситами ч
	ленов город
	ского совета Праги\, 
	повлёкшее Гуситски
	е войны (продолжали
	сь до 1436).1502 
	— Христофор
	 Колумб впер
	вые встрет
	ил представ
	ителей нар
	ода майя.17
	29 — Основ
	ан Балтим
	ор — крупне
	йший город ам
	ериканского 
	штата Мэриленд\
	, крупный порт
	. Назван в честь 
	Чарльза Балтимор
	а\, лорда-собстве
	нника колонии.
	1792 — В Пари
	ж с песней
	 на устах 
	вошёл Ма
	рсельски
	й доброво
	льческий б
	атальон. Со
	чинённая с
	апёрным офи
	цером Клодом
	 Жозефом Руж
	е Де Лилем 
	для Рейнск
	ой армии бо
	евая песня
	 была поэт
	ому прозвана 
	«Марсельезой» и
	 стала потом нац
	иональным гимном Ф
	ранции.XIX век1812 
	— Сражение п
	од Клястицам
	и1829 — В Мос
	кве за Тве
	рской зас
	тавой заложе
	ны Триумфальные ворота
	 в честь побед российского вои
	нства в 1812\, 1813 и 1814 гг.
	1840 — Николай
	 I запретил и
	спользован
	ие термина «
	Белоруссия»\, 
	заменив его 
	на «губернии
	 Северо-Запад
	ного края».1
	858 — Английск
	ий исследовател
	ь Джон Спик откры
	л озеро Виктория
	 в Африке.1864 — Бой
	 у Воронки во 
	время осады 
	Петерсберга
	.1898 — В Москве
	 торжественн
	о открыта пер
	вая городская
	 канализация.1900 —
	 В Британии запре
	щён детский труд
	 в шахтах.XX век1912
	 — На японс
	кий престол 
	взошёл импер
	атор Тайсё.1
	920 — Прин
	ято постано
	вление «О лик
	видации мощей
	 во Всероссийс
	ком масштабе»1
	925 — Албания\
	, Греция и Югосл
	авия подписали
	 договор о пр
	изнании взаим
	ных границ.19
	30В района
	х сплошн
	ой колле
	ктивизаци
	и в СССР у
	празднен
	а кресть
	янская о
	бщина.По
	становле
	нием ЦИК 
	на базе
	 полигр
	афическ
	их факу
	льтетов
	 Москов
	ского и
	 Ленингр
	адского ВХУТЕ
	ИНов образов
	ан Московски
	й полиграфич
	еский институт
	. С 1992 года — Мо
	сковская гос
	ударственная
	 академия печа
	ти.1932 — В Лос-
	Анджелесе начались 
	Десятые Олимпийские игр
	ы.1935 — Издательство «Pe
	nguin Books» выпустило
	 свою первую книж
	ку в мягкой обложк
	е. Идея выпуска де
	шёвых (по цене 10 
	сигарет) книже
	к в мягкой обло
	жке и карманного формата\,
	 родившаяся у сэра Аллен
	а Лейна (Allen Lane)\, п
	роизвела ре
	волюцию в изд
	ательском дел
	е\, обеспечив
	 массовые тираж
	и как популярны
	х\, так и класс
	ических прои
	зведений.1937
	 — В СССР
	 чрезвыча
	йные «тро
	йки» НКВД пол
	учили право 
	выносить см
	ертные приг
	оворы «враг
	ам народа»
	.1938 — На
	цистска
	я Герман
	ия награ
	дила америк
	анского авто
	мобильного ма
	гната Генри Ф
	орда Железны
	м крестом.19
	48 — Зако
	н о брит
	анском 
	граждан
	стве пр
	едоставляет
	 статус брит
	анского подд
	анного всем г
	ражданам Содр
	ужества.1954 — 
	В Мемфисе про
	шли первые ко
	нцерты с уча
	стием Элвиса
	 Пресли.1962 
	— Официа
	льно открыт
	 Трансканадский 
	хайвэй (скоростная т
	расса) протяжённост
	ью 8 тыс. км.1970 — Ком
	пания IBM анонсировала 
	новую серию мейнфреймов 
	System/3701971 — астронавты
	 «Аполлона-15» Д. 
	Скотт и Дж. Ир
	вин совершили по
	садку на Луну в 
	районе Хэдли—А
	пеннины\, в Море Дож
	дей.1972 — Пущена
	 в строй Красн
	оярская ГЭС.
	1974 — В Кв
	ебеке францу
	зский язык о
	бъявлен еди
	нственным оф
	ициальным язы
	ком.1975 — В
	 Хельсинки н
	ачалось Совещ
	ание по безопа
	сности и сотру
	дничеству в Е
	вропе.1976 — В И
	спании объя
	влено об ам
	нистии пол
	итических 
	заключённы
	х.1980Израи
	льский парла
	мент объявил 
	объединённый Ие
	русалим столицей
	 страны.1984 — На те
	леканале NBC на
	чался показ
	 «Санта-Бар
	бары».1987
	 — Заверш
	ён полёт советского пилоти
	руемого космического аппарата Союз ТМ-2.
DTSTART;VALUE=DATE:20150729
END:VEVENT
END:VCALENDAR
