BEGIN:VCALENDAR
VERSION:2.0
PRODID:-//IP.Board Calendar 4.0.13.1//EN
METHOD:PUBLISH
CALSCALE:GREGORIAN
X-WR-CALNAME:В этот день в прошлом
BEGIN:VTIMEZONE
TZID:Europe/London
TZURL:http://tzurl.org/zoneinfo/Europe/London
X-LIC-LOCATION:Europe/London
BEGIN:DAYLIGHT
TZOFFSETFROM:+0000
TZOFFSETTO:+0100
TZNAME:BST
DTSTART:20150329T020000Z
RRULE:FREQ=YEARLY;BYMONTH=3;BYDAY=-1SU
END:DAYLIGHT
BEGIN:STANDARD
TZOFFSETFROM:+0100
TZOFFSETTO:+0000
TZNAME:GMT
DTSTART:20151025T020000Z
RRULE:FREQ=YEARLY;BYMONTH=10;BYDAY=-1SU
END:STANDARD
END:VTIMEZONE
BEGIN:VEVENT
SUMMARY:Развилки Дня
DTSTAMP:20150730T154000Z
SEQUENCE:0
UID:dd72ba1da0aa0b549b3fd7edb580cf44@172.17.0.3
ORGANIZER;CN="ясмин джакмич":fai@fai.org.ru
DESCRIPTION:\n29 июляДо XX века
	1030 — В битве 
	при Стикла
	стадире в Н
	орвегии пр
	и попытке в
	ернуть трон 
	погиб свергн
	утый двумя г
	одами ранее ко
	роль Олаф Святой 
	(по другой верси
	и битва призошл
	а 31 августа\, 
	но день прославл
	ения Олафа Свято
	го принято отмеч
	ать именно 29 ию
	ля).1586 — Мос
	ковскими в
	оеводами Ва
	силием Сукиным 
	и Иваном Мясным 
	основан город Т
	юмень на реке Ту
	ре.1702 — Между
	 русской и 
	шведской а
	рмиями в х
	оде Великой 
	Северной во
	йны состояло
	сь сражение 
	при Гуммельсг
	офе.1722 — На
	чался Персидски
	й поход русской а
	рмии и флота под
	 командованием 
	Петра I.1769 —
	 Выход из К
	ронштадта ру
	сской эскадр
	ы под команд
	ованием адмирал
	а Г. А. Спиридова
	 в 1-ю Архипелаг
	скую экспедиц
	ию.1858 — Под да
	влением США Япони
	я открыла для ино
	странцев Токио и 
	Осаку.XX век190
	7 — Сэр Р
	оберт Бейде
	н-Поуэлл осно
	вал в Великоб
	ритании орг
	анизацию бо
	йскаутов.191
	4 — Пущен
	а в строй
	 первая тра
	нсамериканс
	кая телефонн
	ая линия Нью-
	Йорк — Сан-Фран
	циско.1921 — Ад
	ольф Гитлер с
	тановится лид
	ером НСДАП.19
	36 — Постановл
	ение ЦИК о По
	ложении звани
	я Героя Совет
	ского Союза.19
	41 — Румыния
	 объявила о воз
	врате себе Бессараби
	и и Буковины\, оккуп
	ированных СССР в 
	1940 году.1942 —
	 Указом Пре
	зидиума Вер
	ховного Сове
	та СССР учре
	ждены ордена:
	 Суворова трех 
	степеней \; Кут
	узова двух сте
	пеней\; Александра
	 Невского.1948 —
	 Открытие Оли
	мпийских игр в Л
	ондоне.1954 — 
	публикация перв
	ой части трилоги
	и Дж. Р. Р. Толкин
	а «Властелин колец
	».1957 — Вступил в силу 
	Устав МАГАТЭ\, утверж
	дённый 23 октября 1
	956 года.1958 — П
	резидент 
	США Дуайт 
	Эйзенхау
	эр подписа
	л закон о 
	создани
	и Национ
	ального 
	агентства п
	о аэронавтике
	 и исследовани
	ю космического
	 пространства (НА
	СА).1963 — Перв
	ый полёт опыт
	ного самолёта ТУ-12
	4А — прототипа пас
	сажирского самолёта
	 Ту-134.1967Война в
	о Вьетнаме
	: в результате
	 пожара на амери
	канском авианос
	це «Форрестол» поги
	бли 134 человека.1968 — 
	Папа римский Павел VI в эн
	циклике\, названной «Human
	ae Vitae» (Человече
	ская жизнь)
	\, запретил люб
	ые искусстве
	нные методы кон
	троля за рождае
	мостью детей.1971
	 — Аппарат «Пион
	ер-11» делает сн
	имки Сатурна 
	и его колец.1973
	 — Гречески
	й плебисцит п
	редпочел респ
	ублику монарх
	ии.1974По при
	казу пред
	седателя К
	ГБ СССР Юри
	я Владимир
	овича Андропо
	ва создана гру
	ппа «Альфа» д
	ля борьбы с 
	терроризм
	ом.1979 — 
	Аргенти
	на и Вел
	икобритани
	я восстанови
	ли дипломатич
	еские отношен
	ия на уровне 
	послов.1981
	 — В Лон
	доне сост
	оялась св
	адьба наследн
	ика английско
	го престола пр
	инца Чарльза и 
	Дианы Спенсер.
	1985 — Заявлен
	ие М. С. Го
	рбачёва о
	 решении 
	Советского
	 Союза прек
	ратить в о
	дностороннем
	 порядке любые ядерные
	 взрывы. Мораторий объявлен до 1 января 1
	986 года.
DTSTART;VALUE=DATE:20150728
END:VEVENT
END:VCALENDAR
