BEGIN:VCALENDAR
VERSION:2.0
PRODID:-//IP.Board Calendar 4.0.13.1//EN
METHOD:PUBLISH
CALSCALE:GREGORIAN
X-WR-CALNAME:В этот день в прошлом
BEGIN:VTIMEZONE
TZID:Europe/London
TZURL:http://tzurl.org/zoneinfo/Europe/London
X-LIC-LOCATION:Europe/London
BEGIN:DAYLIGHT
TZOFFSETFROM:+0000
TZOFFSETTO:+0100
TZNAME:BST
DTSTART:20150329T020000Z
RRULE:FREQ=YEARLY;BYMONTH=3;BYDAY=-1SU
END:DAYLIGHT
BEGIN:STANDARD
TZOFFSETFROM:+0100
TZOFFSETTO:+0000
TZNAME:GMT
DTSTART:20151025T020000Z
RRULE:FREQ=YEARLY;BYMONTH=10;BYDAY=-1SU
END:STANDARD
END:VTIMEZONE
BEGIN:VEVENT
SUMMARY:Развилки Дня
DTSTAMP:20150730T155328Z
SEQUENCE:0
UID:3a9b22aec233e871a751ccd78321bfb2@172.17.0.3
ORGANIZER;CN="ясмин джакмич":fai@fai.org.ru
DESCRIPTION:\n31 июляДо XX в
	ека1498 — 
	Третья 
	экспеди
	ция испанс
	кого морепл
	авателя Хри
	стофора Кол
	умба открыла
	 остров Трини
	дад.1656 — Русска
	я экспедиция о
	тправилась к бе
	регам озера Ба
	йкал.1667 — под
	писано Бре
	дское соглашен
	ие\, положившее
	 конец Второй англ
	о-голландской во
	йне.1790 — Выда
	н первый пат
	ент США.1815 
	— Филаде
	льфийская
	 железнодорожн
	ая катастрофа (Англ
	ия) в результате к
	оторой погибло 
	от 13 до 16 человек. 
	Самая первая ж
	елезнодорожна
	я катастрофа.XX в
	ек1905 — В Пет
	ергофе под 
	председател
	ьством Никол
	ая II начала
	сь серия 
	совещани
	й по поводу п
	лана создани
	я Государств
	енной Думы Рос
	сийской империи
	.1910 — На борту
	 канадского л
	айнера \"Монтроуз\" инс
	пектором Сколтленд-Я
	рда  Уолтером Дью (18
	77-1947)  был арест
	ован по подоз
	рению в убийстве своей ж
	ены Коры доктор Харви Х
	оули Криппен (1862-191
	0) - впервые в м
	ире преступн
	ик задержан
	 с использо
	ванием пол
	ицией радио.
	1919 — Герма
	нское учред
	ительное нац
	иональное со
	брание\, прох
	одившее в Ве
	ймаре\, приня
	ло новую кон
	ституцию Ге
	рмании. Гер
	мания стала
	 республикой\
	, в которой п
	резидент 
	назначал ре
	йхсканцлера 
	и министров\
	, был верховн
	ым главноком
	андующим\, им
	ел право ро
	спуска рей
	хстага\, на
	значения 
	новых выбо
	ров и введ
	ения чрез
	вычайного
	 положения. Пер
	вым президент
	ом стал социал
	-демократ Фри
	дрих Эберт. 
	1920 — При
	нята «Декла
	рация о про
	возглашени
	и независим
	ости Белор
	усской ССР
	».1924 — Пол
	ьское п
	равител
	ьство з
	апретил
	о исполь
	зовать укра
	инский язык
	 в государс
	твенных уч
	реждениях 
	Восточной 
	Галиции.192
	5 — Наци
	ональная 
	Забастовк
	а английских 
	шахтёров завер
	шилась их полно
	й победой («Красная
	 пятница»).1928 — Впервые на за
	ставке киностудии «Metro-Gol
	dwyn-Mayer» появился 
	рычащий лев.
	 Это был первый
	 звуковой филь
	м студии «Белые
	 тени южных море
	й». Забавно\, что 
	львиный рык был
	 самым длинным 
	звуком в фильме\,
	 так как в нём п
	роизнесли лишь
	 одно слово — «
	Привет!».1941 —
	 вступивший
	 двумя дням
	и ранее в д
	олжность 
	Преемника 
	фюрера Гер
	ман Геринг
	 подписал 
	приказ о 
	назначен
	ии главы 
	РСХА Ре
	йнхарда
	 Гейдрих
	а ответ
	ственны
	м за «ок
	ончательн
	ое решение 
	еврейского 
	вопроса» — ф
	изическое уничто
	жение евреев.1944 
	— Погиб Антуан д
	е Сент-Экзюпери.1
	946 — Швеция\, Норве
	гия и Дания осно
	вали авиакомпан
	ию «SAS».1948Глав
	а немецкой ко
	рпорации «Кр
	упп» Альфрид 
	Крупп приговор
	ён к 12 годам 
	тюрьмы за 
	сотрудничес
	тво с нацист
	ами.В СССР н
	ачалась Ав
	густовская
	 сессия ВАСХНИЛ
	\, ставшая куль
	минацией в ра
	згроме советско
	й генетики.1956В 
	Москве открыл
	ся Центральный
	 стадион им. В.
	 И. Ленина 
	в Лужниках.
	ЦК КПСС прин
	ял решение
	 о развити
	и жилищного стр
	оительства в С
	ССР (начало ст
	роительства «х
	рущёвок»).1966
	В Англии у
	празднено нек
	огда одно из 
	важнейших М
	инистерство
	 по делам ко
	лоний.1980
	 — Заверш
	ение полёта со
	ветского пило
	тируемого кос
	мического кор
	абля Союз-36.1
	991 — Под
	писание
	 советско
	-американского 
	Договора о сок
	ращении стратег
	ических вооружен
	ий (СНВ-1).1996 — Ф
	едеральный
	 суд Нью-Йор
	ка отменил 
	законодательный акт\, ограничив
	ающий свободу слова в Интернете.
DTSTART;VALUE=DATE:20150730
END:VEVENT
END:VCALENDAR
